Workbook

Sheet PENSUM, GPW i ZESTAWIENIE
A2: Zał. Nr 1 do Zarządzenia nr 30/2018 | M2: Warszawa, dnia
A7: Pan/i
A10: Informuję, że w roku akademickim 2018/2019 przewiduje się dla Pana/Pani prowadzenie zajęć dydaktycznych w następującym wymiarze:
A12: PENSUM DYDAKTYCZNE
A13: Wydz | B13: Kierunek studiów / Nazwa studiów podyplomowych | C13: Specjalność | D13: Forma studiów (stacjonarne, niestacjonarne, podyplomowe, staż, kurs przygotowawczy, kurs konsultacyjny) | E13: Poziom studiów (I, II, III, stopień) | F13: Rok studiów | G13: Przedmiot | H13: Rodzaj zajęć | I13: Liczba studentów lub grup studentów | J13: Liczba godzin: tygodniowo (na studenta/ grupę) w roku (dla st.niestacjo - narnych i podypl.) | K13: Ogólna liczba godzin w tygodniu | L13: Liczba tygodni (pole nie dotyczy st.niesta- cjonar- nych i podypl.) | M13: Liczba godzin w roku | N13: Dekret księgowy | U13: Struktura
K14: =IF(OR(D14="niestacjonarne",D14="podyplomowe",D14="stacjonarne pb"),"-",IF(B14="","",I14*J14)) | M14: =IF(OR(D14="niestacjonarne",D14="PODYPLOMOWE",D14="stacjonarne pb"),I14*J14,IF(K14="","",K14*L14)) | N14: =IF(A14="","",VLOOKUP(A14,dane!A$22:B$32,2,0)) | O14: =IF(B14="","",VLOOKUP(B14,dane!A$35:B$56,2,0)) | P14: =IF(C14="","",VLOOKUP(C14,dane!A$61:B$132,2,0)) | Q14: =IF(D14="","",VLOOKUP(D14,dane!A$147:B$154,2,0)) | R14: =IF(E14="","",VLOOKUP(E14,dane!A$141:B$144,2,0)) | S14: =IF(F14="","",F14) | T14: =IF(G14="","",IF(D14="STAŻ ART.","0",IF(D14="STACJONARNE","3",IF(D14="NIESTACJONARNE","3",IF(D14="PODYPLOMOWE","3",IF(D14="KURS PRZYGOTOWAWCZY","3",IF(D14="KURS KONSULTACYJNY","3",IF(D14="STACJONARNE PB","3")))))))) | U14: =IF(M14="","",ROUND(M14/$M$25,5))
K15: =IF(OR(D15="niestacjonarne",D15="podyplomowe",D15="stacjonarne pb"),"-",IF(B15="","",I15*J15)) | M15: =IF(OR(D15="niestacjonarne",D15="PODYPLOMOWE",D15="stacjonarne pb"),I15*J15,IF(K15="","",K15*L15)) | N15: =IF(A15="","",VLOOKUP(A15,dane!A$22:B$32,2,0)) | O15: =IF(B15="","",VLOOKUP(B15,dane!A$35:B$56,2,0)) | P15: =IF(C15="","",VLOOKUP(C15,dane!A$61:B$132,2,0)) | Q15: =IF(D15="","",VLOOKUP(D15,dane!A$147:B$154,2,0)) | R15: =IF(E15="","",VLOOKUP(E15,dane!A$141:B$144,2,0)) | S15: =IF(F15="","",F15) | T15: =IF(G15="","",IF(D15="STAŻ ART.","0",IF(D15="STACJONARNE","3",IF(D15="NIESTACJONARNE","3",IF(D15="PODYPLOMOWE","3",IF(D15="KURS PRZYGOTOWAWCZY","3",IF(D15="KURS KONSULTACYJNY","3",IF(D15="STACJONARNE PB","3")))))))) | U15: =IF(M15="","",ROUND(M15/$M$25,5))
K16: =IF(OR(D16="niestacjonarne",D16="podyplomowe",D16="stacjonarne pb"),"-",IF(B16="","",I16*J16)) | M16: =IF(OR(D16="niestacjonarne",D16="PODYPLOMOWE",D16="stacjonarne pb"),I16*J16,IF(K16="","",K16*L16)) | N16: =IF(A16="","",VLOOKUP(A16,dane!A$22:B$32,2,0)) | O16: =IF(B16="","",VLOOKUP(B16,dane!A$35:B$56,2,0)) | P16: =IF(C16="","",VLOOKUP(C16,dane!A$61:B$132,2,0)) | Q16: =IF(D16="","",VLOOKUP(D16,dane!A$147:B$154,2,0)) | R16: =IF(E16="","",VLOOKUP(E16,dane!A$141:B$144,2,0)) | S16: =IF(F16="","",F16) | T16: =IF(G16="","",IF(D16="STAŻ ART.","0",IF(D16="STACJONARNE","3",IF(D16="NIESTACJONARNE","3",IF(D16="PODYPLOMOWE","3",IF(D16="KURS PRZYGOTOWAWCZY","3",IF(D16="KURS KONSULTACYJNY","3",IF(D16="STACJONARNE PB","3")))))))) | U16: =IF(M16="","",ROUND(M16/$M$25,5))
K17: =IF(OR(D17="niestacjonarne",D17="podyplomowe",D17="stacjonarne pb"),"-",IF(B17="","",I17*J17)) | M17: =IF(OR(D17="niestacjonarne",D17="PODYPLOMOWE",D17="stacjonarne pb"),I17*J17,IF(K17="","",K17*L17)) | N17: =IF(A17="","",VLOOKUP(A17,dane!A$22:B$32,2,0)) | O17: =IF(B17="","",VLOOKUP(B17,dane!A$35:B$56,2,0)) | P17: =IF(C17="","",VLOOKUP(C17,dane!A$61:B$132,2,0)) | Q17: =IF(D17="","",VLOOKUP(D17,dane!A$147:B$154,2,0)) | R17: =IF(E17="","",VLOOKUP(E17,dane!A$141:B$144,2,0)) | S17: =IF(F17="","",F17) | T17: =IF(G17="","",IF(D17="STAŻ ART.","0",IF(D17="STACJONARNE","3",IF(D17="NIESTACJONARNE","3",IF(D17="PODYPLOMOWE","3",IF(D17="KURS PRZYGOTOWAWCZY","3",IF(D17="KURS KONSULTACYJNY","3",IF(D17="STACJONARNE PB","3")))))))) | U17: =IF(M17="","",ROUND(M17/$M$25,5))
K18: =IF(OR(D18="niestacjonarne",D18="podyplomowe",D18="stacjonarne pb"),"-",IF(B18="","",I18*J18)) | M18: =IF(OR(D18="niestacjonarne",D18="PODYPLOMOWE",D18="stacjonarne pb"),I18*J18,IF(K18="","",K18*L18)) | N18: =IF(A18="","",VLOOKUP(A18,dane!A$22:B$32,2,0)) | O18: =IF(B18="","",VLOOKUP(B18,dane!A$35:B$56,2,0)) | P18: =IF(C18="","",VLOOKUP(C18,dane!A$61:B$132,2,0)) | Q18: =IF(D18="","",VLOOKUP(D18,dane!A$147:B$154,2,0)) | R18: =IF(E18="","",VLOOKUP(E18,dane!A$141:B$144,2,0)) | S18: =IF(F18="","",F18) | T18: =IF(G18="","",IF(D18="STAŻ ART.","0",IF(D18="STACJONARNE","3",IF(D18="NIESTACJONARNE","3",IF(D18="PODYPLOMOWE","3",IF(D18="KURS PRZYGOTOWAWCZY","3",IF(D18="KURS KONSULTACYJNY","3",IF(D18="STACJONARNE PB","3")))))))) | U18: =IF(M18="","",ROUND(M18/$M$25,5))
K19: =IF(OR(D19="niestacjonarne",D19="podyplomowe",D19="stacjonarne pb"),"-",IF(B19="","",I19*J19)) | M19: =IF(OR(D19="niestacjonarne",D19="PODYPLOMOWE",D19="stacjonarne pb"),I19*J19,IF(K19="","",K19*L19)) | N19: =IF(A19="","",VLOOKUP(A19,dane!A$22:B$32,2,0)) | O19: =IF(B19="","",VLOOKUP(B19,dane!A$35:B$56,2,0)) | P19: =IF(C19="","",VLOOKUP(C19,dane!A$61:B$132,2,0)) | Q19: =IF(D19="","",VLOOKUP(D19,dane!A$147:B$154,2,0)) | R19: =IF(E19="","",VLOOKUP(E19,dane!A$141:B$144,2,0)) | S19: =IF(F19="","",F19) | T19: =IF(G19="","",IF(D19="STAŻ ART.","0",IF(D19="STACJONARNE","3",IF(D19="NIESTACJONARNE","3",IF(D19="PODYPLOMOWE","3",IF(D19="KURS PRZYGOTOWAWCZY","3",IF(D19="KURS KONSULTACYJNY","3",IF(D19="STACJONARNE PB","3")))))))) | U19: =IF(M19="","",ROUND(M19/$M$25,5))
K20: =IF(OR(D20="niestacjonarne",D20="podyplomowe",D20="stacjonarne pb"),"-",IF(B20="","",I20*J20)) | M20: =IF(OR(D20="niestacjonarne",D20="PODYPLOMOWE",D20="stacjonarne pb"),I20*J20,IF(K20="","",K20*L20)) | N20: =IF(A20="","",VLOOKUP(A20,dane!A$22:B$32,2,0)) | O20: =IF(B20="","",VLOOKUP(B20,dane!A$35:B$56,2,0)) | P20: =IF(C20="","",VLOOKUP(C20,dane!A$61:B$132,2,0)) | Q20: =IF(D20="","",VLOOKUP(D20,dane!A$147:B$154,2,0)) | R20: =IF(E20="","",VLOOKUP(E20,dane!A$141:B$144,2,0)) | S20: =IF(F20="","",F20) | T20: =IF(G20="","",IF(D20="STAŻ ART.","0",IF(D20="STACJONARNE","3",IF(D20="NIESTACJONARNE","3",IF(D20="PODYPLOMOWE","3",IF(D20="KURS PRZYGOTOWAWCZY","3",IF(D20="KURS KONSULTACYJNY","3",IF(D20="STACJONARNE PB","3")))))))) | U20: =IF(M20="","",ROUND(M20/$M$25,5))
K21: =IF(OR(D21="niestacjonarne",D21="podyplomowe",D21="stacjonarne pb"),"-",IF(B21="","",I21*J21)) | M21: =IF(OR(D21="niestacjonarne",D21="PODYPLOMOWE",D21="stacjonarne pb"),I21*J21,IF(K21="","",K21*L21)) | N21: =IF(A21="","",VLOOKUP(A21,dane!A$22:B$32,2,0)) | O21: =IF(B21="","",VLOOKUP(B21,dane!A$35:B$56,2,0)) | P21: =IF(C21="","",VLOOKUP(C21,dane!A$61:B$132,2,0)) | Q21: =IF(D21="","",VLOOKUP(D21,dane!A$147:B$154,2,0)) | R21: =IF(E21="","",VLOOKUP(E21,dane!A$141:B$144,2,0)) | S21: =IF(F21="","",F21) | T21: =IF(G21="","",IF(D21="STAŻ ART.","0",IF(D21="STACJONARNE","3",IF(D21="NIESTACJONARNE","3",IF(D21="PODYPLOMOWE","3",IF(D21="KURS PRZYGOTOWAWCZY","3",IF(D21="KURS KONSULTACYJNY","3",IF(D21="STACJONARNE PB","3")))))))) | U21: =IF(M21="","",ROUND(M21/$M$25,5))
K22: =IF(OR(D22="niestacjonarne",D22="podyplomowe",D22="stacjonarne pb"),"-",IF(B22="","",I22*J22)) | M22: =IF(OR(D22="niestacjonarne",D22="PODYPLOMOWE",D22="stacjonarne pb"),I22*J22,IF(K22="","",K22*L22)) | N22: =IF(A22="","",VLOOKUP(A22,dane!A$22:B$32,2,0)) | O22: =IF(B22="","",VLOOKUP(B22,dane!A$35:B$56,2,0)) | P22: =IF(C22="","",VLOOKUP(C22,dane!A$61:B$132,2,0)) | Q22: =IF(D22="","",VLOOKUP(D22,dane!A$147:B$154,2,0)) | R22: =IF(E22="","",VLOOKUP(E22,dane!A$141:B$144,2,0)) | S22: =IF(F22="","",F22) | T22: =IF(G22="","",IF(D22="STAŻ ART.","0",IF(D22="STACJONARNE","3",IF(D22="NIESTACJONARNE","3",IF(D22="PODYPLOMOWE","3",IF(D22="KURS PRZYGOTOWAWCZY","3",IF(D22="KURS KONSULTACYJNY","3",IF(D22="STACJONARNE PB","3")))))))) | U22: =IF(M22="","",ROUND(M22/$M$25,5))
K23: =IF(OR(D23="niestacjonarne",D23="podyplomowe",D23="stacjonarne pb"),"-",IF(B23="","",I23*J23)) | M23: =IF(OR(D23="niestacjonarne",D23="PODYPLOMOWE",D23="stacjonarne pb"),I23*J23,IF(K23="","",K23*L23)) | N23: =IF(A23="","",VLOOKUP(A23,dane!A$22:B$32,2,0)) | O23: =IF(B23="","",VLOOKUP(B23,dane!A$35:B$56,2,0)) | P23: =IF(C23="","",VLOOKUP(C23,dane!A$61:B$132,2,0)) | Q23: =IF(D23="","",VLOOKUP(D23,dane!A$147:B$154,2,0)) | R23: =IF(E23="","",VLOOKUP(E23,dane!A$141:B$144,2,0)) | S23: =IF(F23="","",F23) | T23: =IF(G23="","",IF(D23="STAŻ ART.","0",IF(D23="STACJONARNE","3",IF(D23="NIESTACJONARNE","3",IF(D23="PODYPLOMOWE","3",IF(D23="KURS PRZYGOTOWAWCZY","3",IF(D23="KURS KONSULTACYJNY","3",IF(D23="STACJONARNE PB","3")))))))) | U23: =IF(M23="","",ROUND(M23/$M$25,5))
K24: =IF(OR(D24="niestacjonarne",D24="podyplomowe",D24="stacjonarne pb"),"-",IF(B24="","",I24*J24)) | M24: =IF(OR(D24="niestacjonarne",D24="PODYPLOMOWE",D24="stacjonarne pb"),I24*J24,IF(K24="","",K24*L24)) | N24: =IF(A24="","",VLOOKUP(A24,dane!A$22:B$32,2,0)) | O24: =IF(B24="","",VLOOKUP(B24,dane!A$35:B$56,2,0)) | P24: =IF(C24="","",VLOOKUP(C24,dane!A$61:B$132,2,0)) | Q24: =IF(D24="","",VLOOKUP(D24,dane!A$147:B$154,2,0)) | R24: =IF(E24="","",VLOOKUP(E24,dane!A$141:B$144,2,0)) | S24: =IF(F24="","",F24) | T24: =IF(G24="","",IF(D24="STAŻ ART.","0",IF(D24="STACJONARNE","3",IF(D24="NIESTACJONARNE","3",IF(D24="PODYPLOMOWE","3",IF(D24="KURS PRZYGOTOWAWCZY","3",IF(D24="KURS KONSULTACYJNY","3",IF(D24="STACJONARNE PB","3")))))))) | U24: =IF(M24="","",ROUND(M24/$M$25,5))
L25: Razem: | M25: =SUM(M14:M24) -> 0 | U25: =SUM(U14:V24) -> 0
B33: .......................................................................................................................................................... | H33: ...........................................................................................................................................
B34: Przyjmuję do wiadomości i wyrażam zgodę na pracę w proponowanym wymiarze godzin dydaktycznych | H34: podpis Dziekana/Kierownika podstawowej jednostki organizacyjnej
O37: wydruk z dnia: | P37: =TODAY() -> 43311 | T37: Strona 1 z 2
A39: Zał. Nr 2 do Zarządzenia Nr 30/2018 | M39: Warszawa, dnia
A43: =A7 -> Pan/i | B43: =IF(B7="","",B7)
A45: =A10 -> Informuję, że w roku akademickim 2018/2019 przewiduje się dla Pana/Pani prowadzenie zajęć dydaktycznych w następującym wymiarze:
A47: GODZINY PONADWYMIAROWE
A48: Wydz | B48: Kierunek studiów / Nazwa studiów podyplomowych | C48: Specjalność | D48: =D13 -> Forma studiów (stacjonarne, niestacjonarne, podyplomowe, staż, kurs przygotowawczy, kurs konsultacyjny) | E48: =E13 -> Poziom studiów (I, II, III, stopień) | F48: Rok studiów | G48: Przedmiot | H48: Rodzaj zajęć | I48: Liczba studentów lub grup studentów | J48: Liczba godzin: tygodniowo (na studenta/ grupę) w roku (dla st.niestacjo - narnych i podypl.) | K48: Ogólna liczba godzin w tygodniu | L48: Liczba tygodni (pole nie dotyczy st.niesta- cjonar- nych i podypl.) | M48: Liczba godzin w roku | N48: Stawka za godzinę | P48: Kwota do wypłaty | R48: Dekret księgowy
K49: =IF(OR(D49="niestacjonarne",D49="podyplomowe",D14="stacjonarne pb"),"-",IF(B49="","",I49*J49)) | M49: =IF(OR(D49="niestacjonarne",D49="PODYPLOMOWE",D14="stacjonarne pb"),I49*J49,IF(K49="","",K49*L49)) | P49: =IF(M49="","",M49*N49) | R49: =IF(A49="","",VLOOKUP(A49,dane!A$22:B$30,2,0)) | S49: =IF(B49="","",VLOOKUP(B49,dane!A$35:B$56,2,0)) | T49: =IF(C49="","",VLOOKUP(C49,dane!A$61:B$132,2,0)) | U49: =IF(D49="","",VLOOKUP(D49,dane!A$147:B$154,2,0)) | V49: =IF(E49="","",VLOOKUP(E49,dane!A$141:B$144,2,0)) | W49: =IF(F49="","",F49) | X49: =IF(G49="","",IF(D49="STAŻ ART.","0",IF(D49="STACJONARNE","3",IF(D49="NIESTACJONARNE","3",IF(D49="PODYPLOMOWE","3",IF(D49="KURS PRZYGOTOWAWCZY","3",IF(D49="KURS KONSULTACYJNY","3",IF(D49="STACJONARNE PB","3"))))))))
K50: =IF(OR(D50="niestacjonarne",D50="podyplomowe",D15="stacjonarne pb"),"-",IF(B50="","",I50*J50)) | M50: =IF(OR(D50="niestacjonarne",D50="PODYPLOMOWE",D15="stacjonarne pb"),I50*J50,IF(K50="","",K50*L50)) | P50: =IF(M50="","",M50*N50) | R50: =IF(A50="","",VLOOKUP(A50,dane!A$22:B$30,2,0)) | S50: =IF(B50="","",VLOOKUP(B50,dane!A$35:B$56,2,0)) | T50: =IF(C50="","",VLOOKUP(C50,dane!A$61:B$132,2,0)) | U50: =IF(D50="","",VLOOKUP(D50,dane!A$147:B$154,2,0)) | V50: =IF(E50="","",VLOOKUP(E50,dane!A$141:B$144,2,0)) | W50: =IF(F50="","",F50) | X50: =IF(G50="","",IF(D50="STAŻ ART.","0",IF(D50="STACJONARNE","3",IF(D50="NIESTACJONARNE","3",IF(D50="PODYPLOMOWE","3",IF(D50="KURS PRZYGOTOWAWCZY","3",IF(D50="KURS KONSULTACYJNY","3",IF(D50="STACJONARNE PB","3"))))))))
K51: =IF(OR(D51="niestacjonarne",D51="podyplomowe",D16="stacjonarne pb"),"-",IF(B51="","",I51*J51)) | M51: =IF(OR(D51="niestacjonarne",D51="PODYPLOMOWE",D16="stacjonarne pb"),I51*J51,IF(K51="","",K51*L51)) | P51: =IF(M51="","",M51*N51) | R51: =IF(A51="","",VLOOKUP(A51,dane!A$22:B$30,2,0)) | S51: =IF(B51="","",VLOOKUP(B51,dane!A$35:B$56,2,0)) | T51: =IF(C51="","",VLOOKUP(C51,dane!A$61:B$132,2,0)) | U51: =IF(D51="","",VLOOKUP(D51,dane!A$147:B$154,2,0)) | V51: =IF(E51="","",VLOOKUP(E51,dane!A$141:B$144,2,0)) | W51: =IF(F51="","",F51) | X51: =IF(G51="","",IF(D51="STAŻ ART.","0",IF(D51="STACJONARNE","3",IF(D51="NIESTACJONARNE","3",IF(D51="PODYPLOMOWE","3",IF(D51="KURS PRZYGOTOWAWCZY","3",IF(D51="KURS KONSULTACYJNY","3",IF(D51="STACJONARNE PB","3"))))))))
K52: =IF(OR(D52="niestacjonarne",D52="podyplomowe",D17="stacjonarne pb"),"-",IF(B52="","",I52*J52)) | M52: =IF(OR(D52="niestacjonarne",D52="PODYPLOMOWE",D17="stacjonarne pb"),I52*J52,IF(K52="","",K52*L52)) | P52: =IF(M52="","",M52*N52) | R52: =IF(A52="","",VLOOKUP(A52,dane!A$22:B$30,2,0)) | S52: =IF(B52="","",VLOOKUP(B52,dane!A$35:B$56,2,0)) | T52: =IF(C52="","",VLOOKUP(C52,dane!A$61:B$132,2,0)) | U52: =IF(D52="","",VLOOKUP(D52,dane!A$147:B$154,2,0)) | V52: =IF(E52="","",VLOOKUP(E52,dane!A$141:B$144,2,0)) | W52: =IF(F52="","",F52) | X52: =IF(G52="","",IF(D52="STAŻ ART.","0",IF(D52="STACJONARNE","3",IF(D52="NIESTACJONARNE","3",IF(D52="PODYPLOMOWE","3",IF(D52="KURS PRZYGOTOWAWCZY","3",IF(D52="KURS KONSULTACYJNY","3",IF(D52="STACJONARNE PB","3"))))))))
K53: =IF(OR(D53="niestacjonarne",D53="podyplomowe",D18="stacjonarne pb"),"-",IF(B53="","",I53*J53)) | M53: =IF(OR(D53="niestacjonarne",D53="PODYPLOMOWE",D18="stacjonarne pb"),I53*J53,IF(K53="","",K53*L53)) | P53: =IF(M53="","",M53*N53) | R53: =IF(A53="","",VLOOKUP(A53,dane!A$22:B$30,2,0)) | S53: =IF(B53="","",VLOOKUP(B53,dane!A$35:B$56,2,0)) | T53: =IF(C53="","",VLOOKUP(C53,dane!A$61:B$132,2,0)) | U53: =IF(D53="","",VLOOKUP(D53,dane!A$147:B$154,2,0)) | V53: =IF(E53="","",VLOOKUP(E53,dane!A$141:B$144,2,0)) | W53: =IF(F53="","",F53) | X53: =IF(G53="","",IF(D53="STAŻ ART.","0",IF(D53="STACJONARNE","3",IF(D53="NIESTACJONARNE","3",IF(D53="PODYPLOMOWE","3",IF(D53="KURS PRZYGOTOWAWCZY","3",IF(D53="KURS KONSULTACYJNY","3",IF(D53="STACJONARNE PB","3"))))))))
K54: =IF(OR(D54="niestacjonarne",D54="podyplomowe",D19="stacjonarne pb"),"-",IF(B54="","",I54*J54)) | M54: =IF(OR(D54="niestacjonarne",D54="PODYPLOMOWE",D19="stacjonarne pb"),I54*J54,IF(K54="","",K54*L54)) | P54: =IF(M54="","",M54*N54) | R54: =IF(A54="","",VLOOKUP(A54,dane!A$22:B$30,2,0)) | S54: =IF(B54="","",VLOOKUP(B54,dane!A$35:B$56,2,0)) | T54: =IF(C54="","",VLOOKUP(C54,dane!A$61:B$132,2,0)) | U54: =IF(D54="","",VLOOKUP(D54,dane!A$147:B$154,2,0)) | V54: =IF(E54="","",VLOOKUP(E54,dane!A$141:B$144,2,0)) | W54: =IF(F54="","",F54) | X54: =IF(G54="","",IF(D54="STAŻ ART.","0",IF(D54="STACJONARNE","3",IF(D54="NIESTACJONARNE","3",IF(D54="PODYPLOMOWE","3",IF(D54="KURS PRZYGOTOWAWCZY","3",IF(D54="KURS KONSULTACYJNY","3",IF(D54="STACJONARNE PB","3"))))))))
K55: =IF(OR(D55="niestacjonarne",D55="podyplomowe",D20="stacjonarne pb"),"-",IF(B55="","",I55*J55)) | M55: =IF(OR(D55="niestacjonarne",D55="PODYPLOMOWE",D20="stacjonarne pb"),I55*J55,IF(K55="","",K55*L55)) | P55: =IF(M55="","",M55*N55) | R55: =IF(A55="","",VLOOKUP(A55,dane!A$22:B$30,2,0)) | S55: =IF(B55="","",VLOOKUP(B55,dane!A$35:B$56,2,0)) | T55: =IF(C55="","",VLOOKUP(C55,dane!A$61:B$132,2,0)) | U55: =IF(D55="","",VLOOKUP(D55,dane!A$147:B$154,2,0)) | V55: =IF(E55="","",VLOOKUP(E55,dane!A$141:B$144,2,0)) | W55: =IF(F55="","",F55) | X55: =IF(G55="","",IF(D55="STAŻ ART.","0",IF(D55="STACJONARNE","3",IF(D55="NIESTACJONARNE","3",IF(D55="PODYPLOMOWE","3",IF(D55="KURS PRZYGOTOWAWCZY","3",IF(D55="KURS KONSULTACYJNY","3",IF(D55="STACJONARNE PB","3"))))))))
K56: =IF(OR(D56="niestacjonarne",D56="podyplomowe",D21="stacjonarne pb"),"-",IF(B56="","",I56*J56)) | M56: =IF(OR(D56="niestacjonarne",D56="PODYPLOMOWE",D21="stacjonarne pb"),I56*J56,IF(K56="","",K56*L56)) | P56: =IF(M56="","",M56*N56) | R56: =IF(A56="","",VLOOKUP(A56,dane!A$22:B$30,2,0)) | S56: =IF(B56="","",VLOOKUP(B56,dane!A$35:B$56,2,0)) | T56: =IF(C56="","",VLOOKUP(C56,dane!A$61:B$132,2,0)) | U56: =IF(D56="","",VLOOKUP(D56,dane!A$147:B$154,2,0)) | V56: =IF(E56="","",VLOOKUP(E56,dane!A$141:B$144,2,0)) | W56: =IF(F56="","",F56) | X56: =IF(G56="","",IF(D56="STAŻ ART.","0",IF(D56="STACJONARNE","3",IF(D56="NIESTACJONARNE","3",IF(D56="PODYPLOMOWE","3",IF(D56="KURS PRZYGOTOWAWCZY","3",IF(D56="KURS KONSULTACYJNY","3",IF(D56="STACJONARNE PB","3"))))))))
K57: =IF(OR(D57="niestacjonarne",D57="podyplomowe",D22="stacjonarne pb"),"-",IF(B57="","",I57*J57)) | M57: =IF(OR(D57="niestacjonarne",D57="PODYPLOMOWE",D22="stacjonarne pb"),I57*J57,IF(K57="","",K57*L57)) | P57: =IF(M57="","",M57*N57) | R57: =IF(A57="","",VLOOKUP(A57,dane!A$22:B$30,2,0)) | S57: =IF(B57="","",VLOOKUP(B57,dane!A$35:B$56,2,0)) | T57: =IF(C57="","",VLOOKUP(C57,dane!A$61:B$132,2,0)) | U57: =IF(D57="","",VLOOKUP(D57,dane!A$147:B$154,2,0)) | V57: =IF(E57="","",VLOOKUP(E57,dane!A$141:B$144,2,0)) | W57: =IF(F57="","",F57) | X57: =IF(G57="","",IF(D57="STAŻ ART.","0",IF(D57="STACJONARNE","3",IF(D57="NIESTACJONARNE","3",IF(D57="PODYPLOMOWE","3",IF(D57="KURS PRZYGOTOWAWCZY","3",IF(D57="KURS KONSULTACYJNY","3",IF(D57="STACJONARNE PB","3"))))))))
K58: =IF(OR(D58="niestacjonarne",D58="podyplomowe",D23="stacjonarne pb"),"-",IF(B58="","",I58*J58)) | M58: =IF(OR(D58="niestacjonarne",D58="PODYPLOMOWE",D23="stacjonarne pb"),I58*J58,IF(K58="","",K58*L58)) | P58: =IF(M58="","",M58*N58) | R58: =IF(A58="","",VLOOKUP(A58,dane!A$22:B$30,2,0)) | S58: =IF(B58="","",VLOOKUP(B58,dane!A$35:B$56,2,0)) | T58: =IF(C58="","",VLOOKUP(C58,dane!A$61:B$132,2,0)) | U58: =IF(D58="","",VLOOKUP(D58,dane!A$147:B$154,2,0)) | V58: =IF(E58="","",VLOOKUP(E58,dane!A$141:B$144,2,0)) | W58: =IF(F58="","",F58) | X58: =IF(G58="","",IF(D58="STAŻ ART.","0",IF(D58="STACJONARNE","3",IF(D58="NIESTACJONARNE","3",IF(D58="PODYPLOMOWE","3",IF(D58="KURS PRZYGOTOWAWCZY","3",IF(D58="KURS KONSULTACYJNY","3",IF(D58="STACJONARNE PB","3"))))))))
L59: Razem: | M59: =SUM(M49:M58) -> 0 | P59: =SUM(P49:P58) -> 0
A62: ● | B62: Rozliczenie następuje za faktycznie przepracowane godziny ponadwymiarowe ponad pensum.
A63: ● | B63: Każda zmiana liczby godzin ponadwymiarowych wynikająca z obowiązującej organizacji roku wymaga pisemnej formy zatwierdzenia
E67: Stwierdzam zgodność liczby powierzonych godzin ponadwymiarowych z limitem z uchwały o pensum
B72: .......................................................................................................................................................... | E72: .................................................................................................................................................. | J72: ...........................................................................................................................................
B73: Przyjmuję do wiadomości i wyrażam zgodę na pracę w proponowanym wymiarze godzin dydaktycznych | J73: podpis Dziekana/Kierownika podstawowej jednostki organizacyjnej
E74: data i podpis pracownika Działu Nauczania
O76: wydruk z dnia: | P76: =TODAY() -> 43311 | T76: Strona 2 z 2
A78: Zał. Nr 3 do Zarządzenia Nr 30/2018 | D78: Zestawienie roczne przepracowanych godzin ponadwymiarowych na studiach stacjonarnych - I, II, III stopnia.
G79: w okresie od: | L79: do:
A83: Pieczęć Wydziału/Studium
A84: Pan/i | B84: =IF(B7="","",B7)
A86: Wydz | B86: Kierunek studiów | C86: Specjalność | D86: Forma studiów (stacjonarne) | E86: Poziom studiów (I, II, III stopień) | F86: Rok studiów | G86: Przedmiot | H86: Liczba godzin ponadwymiarowych do rozliczenia | J86: Liczba zrealizowanych godzin ponadwymiarowych we wskazanym okresie | L86: Pozostało do zrealizowania i rozliczenia godzin ponadwymiarowych | N86: Stawka za godzinę | P86: Kwota do wypłaty | R86: Dekret księgowy
A87: =IF(A49=0,"",A49) | B87: =IF(B49=0,"",B49) | C87: =IF(C49=0,"",C49) | D87: =IF(OR(D49="stacjonarne",D49="stacjonarne pb"),D49,"") | E87: =IF(D87="","",E49) | F87: =IF(D87="","",F49) | G87: =IF(D87="","",G49) | H87: =IF(D87="","",M49) | L87: =IF(D87="","",IF(H87-J87=0,0,H87-J87)) | N87: =IF(D87="","",N49) | P87: =IF(D87="","",J87*N87) | R87: =IF(D87="","",R49) | S87: =IF(D87="","",S49) | T87: =IF(D87="","",T49) | U87: =IF(D87="","",U49) | V87: =IF(D87="","",V49) | W87: =IF(D87="","",W49) | X87: =IF(G87="","",IF(D87="STAŻ ART.","0",IF(D87="STACJONARNE","3",IF(D87="NIESTACJONARNE","3",IF(D87="PODYPLOMOWE","3",IF(D87="KURS PRZYGOTOWAWCZY","3",IF(D87="KURS KONSULTACYJNY","3",IF(D87="STACJONARNE PB","3"))))))))
A88: =IF(A50=0,"",A50) | B88: =IF(B50=0,"",B50) | C88: =IF(C50=0,"",C50) | D88: =IF(OR(D50="stacjonarne",D50="stacjonarne pb"),D50,"") | E88: =IF(D88="","",E50) | F88: =IF(D88="","",F50) | G88: =IF(D88="","",G50) | H88: =IF(D88="","",M50) | L88: =IF(D88="","",IF(H88-J88=0,0,H88-J88)) | N88: =IF(D88="","",N50) | P88: =IF(D88="","",J88*N88) | R88: =IF(D88="","",R50) | S88: =IF(D88="","",S50) | T88: =IF(D88="","",T50) | U88: =IF(D88="","",U50) | V88: =IF(D88="","",V50) | W88: =IF(D88="","",W50) | X88: =IF(G88="","",IF(D88="STAŻ ART.","0",IF(D88="STACJONARNE","3",IF(D88="NIESTACJONARNE","3",IF(D88="PODYPLOMOWE","3",IF(D88="KURS PRZYGOTOWAWCZY","3",IF(D88="KURS KONSULTACYJNY","3",IF(D88="STACJONARNE PB","3"))))))))
A89: =IF(A51=0,"",A51) | B89: =IF(B51=0,"",B51) | C89: =IF(C51=0,"",C51) | D89: =IF(OR(D51="stacjonarne",D51="stacjonarne pb"),D51,"") | E89: =IF(D89="","",E51) | F89: =IF(D89="","",F51) | G89: =IF(D89="","",G51) | H89: =IF(D89="","",M51) | L89: =IF(D89="","",IF(H89-J89=0,0,H89-J89)) | N89: =IF(D89="","",N51) | P89: =IF(D89="","",J89*N89) | R89: =IF(D89="","",R51) | S89: =IF(D89="","",S51) | T89: =IF(D89="","",T51) | U89: =IF(D89="","",U51) | V89: =IF(D89="","",V51) | W89: =IF(D89="","",W51) | X89: =IF(G89="","",IF(D89="STAŻ ART.","0",IF(D89="STACJONARNE","3",IF(D89="NIESTACJONARNE","3",IF(D89="PODYPLOMOWE","3",IF(D89="KURS PRZYGOTOWAWCZY","3",IF(D89="KURS KONSULTACYJNY","3",IF(D89="STACJONARNE PB","3"))))))))
A90: =IF(A52=0,"",A52) | B90: =IF(B52=0,"",B52) | C90: =IF(C52=0,"",C52) | D90: =IF(OR(D52="stacjonarne",D52="stacjonarne pb"),D52,"") | E90: =IF(D90="","",E52) | F90: =IF(D90="","",F52) | G90: =IF(D90="","",G52) | H90: =IF(D90="","",M52) | L90: =IF(D90="","",IF(H90-J90=0,0,H90-J90)) | N90: =IF(D90="","",N52) | P90: =IF(D90="","",J90*N90) | R90: =IF(D90="","",R52) | S90: =IF(D90="","",S52) | T90: =IF(D90="","",T52) | U90: =IF(D90="","",U52) | V90: =IF(D90="","",V52) | W90: =IF(D90="","",W52) | X90: =IF(G90="","",IF(D90="STAŻ ART.","0",IF(D90="STACJONARNE","3",IF(D90="NIESTACJONARNE","3",IF(D90="PODYPLOMOWE","3",IF(D90="KURS PRZYGOTOWAWCZY","3",IF(D90="KURS KONSULTACYJNY","3",IF(D90="STACJONARNE PB","3"))))))))
A91: =IF(A53=0,"",A53) | B91: =IF(B53=0,"",B53) | C91: =IF(C53=0,"",C53) | D91: =IF(OR(D53="stacjonarne",D53="stacjonarne pb"),D53,"") | E91: =IF(D91="","",E53) | F91: =IF(D91="","",F53) | G91: =IF(D91="","",G53) | H91: =IF(D91="","",M53) | L91: =IF(D91="","",IF(H91-J91=0,0,H91-J91)) | N91: =IF(D91="","",N53) | P91: =IF(D91="","",J91*N91) | R91: =IF(D91="","",R53) | S91: =IF(D91="","",S53) | T91: =IF(D91="","",T53) | U91: =IF(D91="","",U53) | V91: =IF(D91="","",V53) | W91: =IF(D91="","",W53) | X91: =IF(G91="","",IF(D91="STAŻ ART.","0",IF(D91="STACJONARNE","3",IF(D91="NIESTACJONARNE","3",IF(D91="PODYPLOMOWE","3",IF(D91="KURS PRZYGOTOWAWCZY","3",IF(D91="KURS KONSULTACYJNY","3",IF(D91="STACJONARNE PB","3"))))))))
A92: =IF(A54=0,"",A54) | B92: =IF(B54=0,"",B54) | C92: =IF(C54=0,"",C54) | D92: =IF(OR(D54="stacjonarne",D54="stacjonarne pb"),D54,"") | E92: =IF(D92="","",E54) | F92: =IF(D92="","",F54) | G92: =IF(D92="","",G54) | H92: =IF(D92="","",M54) | L92: =IF(D92="","",IF(H92-J92=0,0,H92-J92)) | N92: =IF(D92="","",N54) | P92: =IF(D92="","",J92*N92) | R92: =IF(D92="","",R54) | S92: =IF(D92="","",S54) | T92: =IF(D92="","",T54) | U92: =IF(D92="","",U54) | V92: =IF(D92="","",V54) | W92: =IF(D92="","",W54) | X92: =IF(G92="","",IF(D92="STAŻ ART.","0",IF(D92="STACJONARNE","3",IF(D92="NIESTACJONARNE","3",IF(D92="PODYPLOMOWE","3",IF(D92="KURS PRZYGOTOWAWCZY","3",IF(D92="KURS KONSULTACYJNY","3",IF(D92="STACJONARNE PB","3"))))))))
A93: =IF(A55=0,"",A55) | B93: =IF(B55=0,"",B55) | C93: =IF(C55=0,"",C55) | D93: =IF(OR(D55="stacjonarne",D55="stacjonarne pb"),D55,"") | E93: =IF(D93="","",E55) | F93: =IF(D93="","",F55) | G93: =IF(D93="","",G55) | H93: =IF(D93="","",M55) | L93: =IF(D93="","",IF(H93-J93=0,0,H93-J93)) | N93: =IF(D93="","",N55) | P93: =IF(D93="","",J93*N93) | R93: =IF(D93="","",R55) | S93: =IF(D93="","",S55) | T93: =IF(D93="","",T55) | U93: =IF(D93="","",U55) | V93: =IF(D93="","",V55) | W93: =IF(D93="","",W55) | X93: =IF(G93="","",IF(D93="STAŻ ART.","0",IF(D93="STACJONARNE","3",IF(D93="NIESTACJONARNE","3",IF(D93="PODYPLOMOWE","3",IF(D93="KURS PRZYGOTOWAWCZY","3",IF(D93="KURS KONSULTACYJNY","3",IF(D93="STACJONARNE PB","3"))))))))
A94: =IF(A56=0,"",A56) | B94: =IF(B56=0,"",B56) | C94: =IF(C56=0,"",C56) | D94: =IF(OR(D56="stacjonarne",D56="stacjonarne pb"),D56,"") | E94: =IF(D94="","",E56) | F94: =IF(D94="","",F56) | G94: =IF(D94="","",G56) | H94: =IF(D94="","",M56) | L94: =IF(D94="","",IF(H94-J94=0,0,H94-J94)) | N94: =IF(D94="","",N56) | P94: =IF(D94="","",J94*N94) | R94: =IF(D94="","",R56) | S94: =IF(D94="","",S56) | T94: =IF(D94="","",T56) | U94: =IF(D94="","",U56) | V94: =IF(D94="","",V56) | W94: =IF(D94="","",W56) | X94: =IF(G94="","",IF(D94="STAŻ ART.","0",IF(D94="STACJONARNE","3",IF(D94="NIESTACJONARNE","3",IF(D94="PODYPLOMOWE","3",IF(D94="KURS PRZYGOTOWAWCZY","3",IF(D94="KURS KONSULTACYJNY","3",IF(D94="STACJONARNE PB","3"))))))))
A95: =IF(A57=0,"",A57) | B95: =IF(B57=0,"",B57) | C95: =IF(C57=0,"",C57) | D95: =IF(OR(D57="stacjonarne",D57="stacjonarne pb"),D57,"") | E95: =IF(D95="","",E57) | F95: =IF(D95="","",F57) | G95: =IF(D95="","",G57) | H95: =IF(D95="","",M57) | L95: =IF(D95="","",IF(H95-J95=0,0,H95-J95)) | N95: =IF(D95="","",N57) | P95: =IF(D95="","",J95*N95) | R95: =IF(D95="","",R57) | S95: =IF(D95="","",S57) | T95: =IF(D95="","",T57) | U95: =IF(D95="","",U57) | V95: =IF(D95="","",V57) | W95: =IF(D95="","",W57) | X95: =IF(G95="","",IF(D95="STAŻ ART.","0",IF(D95="STACJONARNE","3",IF(D95="NIESTACJONARNE","3",IF(D95="PODYPLOMOWE","3",IF(D95="KURS PRZYGOTOWAWCZY","3",IF(D95="KURS KONSULTACYJNY","3",IF(D95="STACJONARNE PB","3"))))))))
A96: =IF(A58=0,"",A58) | B96: =IF(B58=0,"",B58) | C96: =IF(C58=0,"",C58) | D96: =IF(OR(D58="stacjonarne",D58="stacjonarne pb"),D58,"") | E96: =IF(D96="","",E58) | F96: =IF(D96="","",F58) | G96: =IF(D96="","",G58) | H96: =IF(D96="","",M58) | L96: =IF(D96="","",IF(H96-J96=0,0,H96-J96)) | N96: =IF(D96="","",N58) | P96: =IF(D96="","",J96*N96) | R96: =IF(D96="","",R58) | S96: =IF(D96="","",S58) | T96: =IF(D96="","",T58) | U96: =IF(D96="","",U58) | V96: =IF(D96="","",V58) | W96: =IF(D96="","",W58) | X96: =IF(G96="","",IF(D96="STAŻ ART.","0",IF(D96="STACJONARNE","3",IF(D96="NIESTACJONARNE","3",IF(D96="PODYPLOMOWE","3",IF(D96="KURS PRZYGOTOWAWCZY","3",IF(D96="KURS KONSULTACYJNY","3",IF(D96="STACJONARNE PB","3"))))))))
G97: Razem: | H97: =SUM(H87:H96) -> 0 | J97: =SUM(J87:K96) -> 0 | P97: =SUM(P87:Q96) -> 0
A98: ● | B98: Rozliczenie następuje za faktycznie przepracowane godziny ponadwymiarowe ponad pensum.
K99: Pozostało do zrealizowania | L99: =IF((H97-J97)=0,"BRAK",H97-J97) -> BRAK | N99: godzin ponadwymiarowych.
L100: =IF(OR(L99=SUM(L87,L88,L89,L90,L91,L92,L93,L94,L95,L96),L99="BRAK"),"","popraw godziny zrealizowane!")
M107: Stwierdzam wykonanie pracy
F108: Stwierdzam zgodność z przydziałem godzin | M108: Sprawdzono pod względem merytorycznym
B112: .......................................................................................................................................................... | F112: .......................................................................................................... | M112: ..............................................................................................................
B113: data i podpis Pedagoga | F113: Dział Nauczania | M113: data i podpis Dziekana/Kierownika Studium
F114: data i podpis
O116: wydruk z dnia: | P116: =TODAY() -> 43311
A118: Zał. Nr 3 do Zarządzenia Nr 30/2018 | D118: Zestawienie roczne przepracowanych godzin ponadwymiarowych na studiach stacjonarnych - I, II, III stopnia.
G119: w okresie od: | L119: do:
A123: Pieczęć Wydziału/Studium
A124: Pan/i | B124: =IF(B7="","",B7)
A126: Wydz | B126: Kierunek studiów | C126: Specjalność | D126: Forma studiów (stacjonarne) | E126: =E86 -> Poziom studiów (I, II, III stopień) | F126: Rok studiów | G126: Przedmiot | H126: Liczba godzin ponadwymiarowych do rozliczenia | J126: Liczba zrealizowanych godzin ponadwymiarowych we wskazanym okresie | L126: Pozostało do zrealizowania i rozliczenia godzin ponadwymiarowych | N126: Stawka za godzinę | P126: Kwota do wypłaty | R126: Dekret księgowy
A127: =IF(A49=0,"",A49) | B127: =IF(B49=0,"",B49) | C127: =IF(C49=0,"",C49) | D127: =IF(OR(D49="stacjonarne",D49="stacjonarne pb"),D49,"") | E127: =IF(D127="","",E49) | F127: =IF(D127="","",F49) | G127: =IF(D127="","",G49) | H127: =L87 | L127: =IF(D127="","",IF(H127-J127=0,0,H127-J127)) | N127: =IF(D127="","",N49) | P127: =IF(D127="","",J127*N127) | R127: =IF(D127="","",R49) | S127: =IF(D127="","",S49) | T127: =IF(D127="","",T49) | U127: =IF(D127="","",U49) | V127: =IF(D127="","",V49) | W127: =IF(D127="","",W49) | X127: =IF(G127="","",IF(D127="STAŻ ART.","0",IF(D127="STACJONARNE","3",IF(D127="NIESTACJONARNE","3",IF(D127="PODYPLOMOWE","3",IF(D127="KURS PRZYGOTOWAWCZY","3",IF(D127="KURS KONSULTACYJNY","3",IF(D127="STACJONARNE PB","3"))))))))
A128: =IF(A50=0,"",A50) | B128: =IF(B50=0,"",B50) | C128: =IF(C50=0,"",C50) | D128: =IF(OR(D50="stacjonarne",D50="stacjonarne pb"),D50,"") | E128: =IF(D128="","",E50) | F128: =IF(D128="","",F50) | G128: =IF(D128="","",G50) | H128: =L88 | L128: =IF(D128="","",IF(H128-J128=0,0,H128-J128)) | N128: =IF(D128="","",N50) | P128: =IF(D128="","",J128*N128) | R128: =IF(D128="","",R50) | S128: =IF(D128="","",S50) | T128: =IF(D128="","",T50) | U128: =IF(D128="","",U50) | V128: =IF(D128="","",V50) | W128: =IF(D128="","",W50) | X128: =IF(G128="","",IF(D128="STAŻ ART.","0",IF(D128="STACJONARNE","3",IF(D128="NIESTACJONARNE","3",IF(D128="PODYPLOMOWE","3",IF(D128="KURS PRZYGOTOWAWCZY","3",IF(D128="KURS KONSULTACYJNY","3",IF(D128="STACJONARNE PB","3"))))))))
A129: =IF(A51=0,"",A51) | B129: =IF(B51=0,"",B51) | C129: =IF(C51=0,"",C51) | D129: =IF(OR(D51="stacjonarne",D51="stacjonarne pb"),D51,"") | E129: =IF(D129="","",E51) | F129: =IF(D129="","",F51) | G129: =IF(D129="","",G51) | H129: =L89 | L129: =IF(D129="","",IF(H129-J129=0,0,H129-J129)) | N129: =IF(D129="","",N51) | P129: =IF(D129="","",J129*N129) | R129: =IF(D129="","",R51) | S129: =IF(D129="","",S51) | T129: =IF(D129="","",T51) | U129: =IF(D129="","",U51) | V129: =IF(D129="","",V51) | W129: =IF(D129="","",W51) | X129: =IF(G129="","",IF(D129="STAŻ ART.","0",IF(D129="STACJONARNE","3",IF(D129="NIESTACJONARNE","3",IF(D129="PODYPLOMOWE","3",IF(D129="KURS PRZYGOTOWAWCZY","3",IF(D129="KURS KONSULTACYJNY","3",IF(D129="STACJONARNE PB","3"))))))))
A130: =IF(A52=0,"",A52) | B130: =IF(B52=0,"",B52) | C130: =IF(C52=0,"",C52) | D130: =IF(OR(D52="stacjonarne",D52="stacjonarne pb"),D52,"") | E130: =IF(D130="","",E52) | F130: =IF(D130="","",F52) | G130: =IF(D130="","",G52) | H130: =L90 | L130: =IF(D130="","",IF(H130-J130=0,0,H130-J130)) | N130: =IF(D130="","",N52) | P130: =IF(D130="","",J130*N130) | R130: =IF(D130="","",R52) | S130: =IF(D130="","",S52) | T130: =IF(D130="","",T52) | U130: =IF(D130="","",U52) | V130: =IF(D130="","",V52) | W130: =IF(D130="","",W52) | X130: =IF(G130="","",IF(D130="STAŻ ART.","0",IF(D130="STACJONARNE","3",IF(D130="NIESTACJONARNE","3",IF(D130="PODYPLOMOWE","3",IF(D130="KURS PRZYGOTOWAWCZY","3",IF(D130="KURS KONSULTACYJNY","3",IF(D130="STACJONARNE PB","3"))))))))
A131: =IF(A53=0,"",A53) | B131: =IF(B53=0,"",B53) | C131: =IF(C53=0,"",C53) | D131: =IF(OR(D53="stacjonarne",D53="stacjonarne pb"),D53,"") | E131: =IF(D131="","",E53) | F131: =IF(D131="","",F53) | G131: =IF(D131="","",G53) | H131: =L91 | L131: =IF(D131="","",IF(H131-J131=0,0,H131-J131)) | N131: =IF(D131="","",N53) | P131: =IF(D131="","",J131*N131) | R131: =IF(D131="","",R53) | S131: =IF(D131="","",S53) | T131: =IF(D131="","",T53) | U131: =IF(D131="","",U53) | V131: =IF(D131="","",V53) | W131: =IF(D131="","",W53) | X131: =IF(G131="","",IF(D131="STAŻ ART.","0",IF(D131="STACJONARNE","3",IF(D131="NIESTACJONARNE","3",IF(D131="PODYPLOMOWE","3",IF(D131="KURS PRZYGOTOWAWCZY","3",IF(D131="KURS KONSULTACYJNY","3",IF(D131="STACJONARNE PB","3"))))))))
A132: =IF(A54=0,"",A54) | B132: =IF(B54=0,"",B54) | C132: =IF(C54=0,"",C54) | D132: =IF(OR(D54="stacjonarne",D54="stacjonarne pb"),D54,"") | E132: =IF(D132="","",E54) | F132: =IF(D132="","",F54) | G132: =IF(D132="","",G54) | H132: =L92 | L132: =IF(D132="","",IF(H132-J132=0,0,H132-J132)) | N132: =IF(D132="","",N54) | P132: =IF(D132="","",J132*N132) | R132: =IF(D132="","",R54) | S132: =IF(D132="","",S54) | T132: =IF(D132="","",T54) | U132: =IF(D132="","",U54) | V132: =IF(D132="","",V54) | W132: =IF(D132="","",W54) | X132: =IF(G132="","",IF(D132="STAŻ ART.","0",IF(D132="STACJONARNE","3",IF(D132="NIESTACJONARNE","3",IF(D132="PODYPLOMOWE","3",IF(D132="KURS PRZYGOTOWAWCZY","3",IF(D132="KURS KONSULTACYJNY","3",IF(D132="STACJONARNE PB","3"))))))))
A133: =IF(A55=0,"",A55) | B133: =IF(B55=0,"",B55) | C133: =IF(C55=0,"",C55) | D133: =IF(OR(D55="stacjonarne",D55="stacjonarne pb"),D55,"") | E133: =IF(D133="","",E55) | F133: =IF(D133="","",F55) | G133: =IF(D133="","",G55) | H133: =L93 | L133: =IF(D133="","",IF(H133-J133=0,0,H133-J133)) | N133: =IF(D133="","",N55) | P133: =IF(D133="","",J133*N133) | R133: =IF(D133="","",R55) | S133: =IF(D133="","",S55) | T133: =IF(D133="","",T55) | U133: =IF(D133="","",U55) | V133: =IF(D133="","",V55) | W133: =IF(D133="","",W55) | X133: =IF(G133="","",IF(D133="STAŻ ART.","0",IF(D133="STACJONARNE","3",IF(D133="NIESTACJONARNE","3",IF(D133="PODYPLOMOWE","3",IF(D133="KURS PRZYGOTOWAWCZY","3",IF(D133="KURS KONSULTACYJNY","3",IF(D133="STACJONARNE PB","3"))))))))
A134: =IF(A56=0,"",A56) | B134: =IF(B56=0,"",B56) | C134: =IF(C56=0,"",C56) | D134: =IF(OR(D56="stacjonarne",D56="stacjonarne pb"),D56,"") | E134: =IF(D134="","",E56) | F134: =IF(D134="","",F56) | G134: =IF(D134="","",G56) | H134: =L94 | L134: =IF(D134="","",IF(H134-J134=0,0,H134-J134)) | N134: =IF(D134="","",N56) | P134: =IF(D134="","",J134*N134) | R134: =IF(D134="","",R56) | S134: =IF(D134="","",S56) | T134: =IF(D134="","",T56) | U134: =IF(D134="","",U56) | V134: =IF(D134="","",V56) | W134: =IF(D134="","",W56) | X134: =IF(G134="","",IF(D134="STAŻ ART.","0",IF(D134="STACJONARNE","3",IF(D134="NIESTACJONARNE","3",IF(D134="PODYPLOMOWE","3",IF(D134="KURS PRZYGOTOWAWCZY","3",IF(D134="KURS KONSULTACYJNY","3",IF(D134="STACJONARNE PB","3"))))))))
A135: =IF(A57=0,"",A57) | B135: =IF(B57=0,"",B57) | C135: =IF(C57=0,"",C57) | D135: =IF(OR(D57="stacjonarne",D57="stacjonarne pb"),D57,"") | E135: =IF(D135="","",E57) | F135: =IF(D135="","",F57) | G135: =IF(D135="","",G57) | H135: =L95 | L135: =IF(D135="","",IF(H135-J135=0,0,H135-J135)) | N135: =IF(D135="","",N57) | P135: =IF(D135="","",J135*N135) | R135: =IF(D135="","",R57) | S135: =IF(D135="","",S57) | T135: =IF(D135="","",T57) | U135: =IF(D135="","",U57) | V135: =IF(D135="","",V57) | W135: =IF(D135="","",W57) | X135: =IF(G135="","",IF(D135="STAŻ ART.","0",IF(D135="STACJONARNE","3",IF(D135="NIESTACJONARNE","3",IF(D135="PODYPLOMOWE","3",IF(D135="KURS PRZYGOTOWAWCZY","3",IF(D135="KURS KONSULTACYJNY","3",IF(D135="STACJONARNE PB","3"))))))))
A136: =IF(A58=0,"",A58) | B136: =IF(B58=0,"",B58) | C136: =IF(C58=0,"",C58) | D136: =IF(OR(D58="stacjonarne",D58="stacjonarne pb"),D58,"") | E136: =IF(D136="","",E58) | F136: =IF(D136="","",F58) | G136: =IF(D136="","",G58) | H136: =L96 | L136: =IF(D136="","",IF(H136-J136=0,0,H136-J136)) | N136: =IF(D136="","",N58) | P136: =IF(D136="","",J136*N136) | R136: =IF(D136="","",R58) | S136: =IF(D136="","",S58) | T136: =IF(D136="","",T58) | U136: =IF(D136="","",U58) | V136: =IF(D136="","",V58) | W136: =IF(D136="","",W58) | X136: =IF(G136="","",IF(D136="STAŻ ART.","0",IF(D136="STACJONARNE","3",IF(D136="NIESTACJONARNE","3",IF(D136="PODYPLOMOWE","3",IF(D136="KURS PRZYGOTOWAWCZY","3",IF(D136="KURS KONSULTACYJNY","3",IF(D136="STACJONARNE PB","3"))))))))
G137: Razem: | H137: =SUM(H127:H136) -> 0 | J137: =SUM(J127:K136) -> 0 | P137: =SUM(P127:Q136) -> 0
A138: ● | B138: Rozliczenie następuje za faktycznie przepracowane godziny ponadwymiarowe ponad pensum.
K139: Pozostało do zrealizowania | L139: =IF((H137-J137)=0,"BRAK",H137-J137) -> BRAK | N139: godzin ponadwymiarowych.
L140: =IF(OR(L139=SUM(L127,L128,L129,L130,L131,L132,L133,L134,L135,L136),L139="BRAK"),"","popraw godziny zrealizowane!")
M147: Stwierdzam wykonanie pracy
F148: Stwierdzam zgodność z przydziałem godzin | M148: Sprawdzono pod względem merytorycznym
B152: .......................................................................................................................................................... | F152: .......................................................................................................... | M152: ..............................................................................................................
B153: data i podpis Pedagoga | F153: Dział Nauczania | M153: data i podpis Dziekana/Kierownika Studium
F154: data i podpis
O156: wydruk z dnia: | P156: =TODAY() -> 43311
A159: Zał. Nr 3 do Zarządzenia Nr 30/2018 | D159: Zestawienie roczne przepracowanych godzin ponadwymiarowych na innych niż stacjonarne formach kształcenia.
G160: w okresie od: | L160: do:
A164: Pieczęć Wydziału/Studium
A165: Pan/i | B165: =IF(B7="","",B7)
A167: Wydz | B167: Kierunek studiów | C167: Specjalność | D167: Forma studiów (niestacjonarne, podyplomowe, staż, kurs przygotowawczy, kurs konsultacyjny) | E167: =E86 -> Poziom studiów (I, II, III stopień) | F167: Rok studiów | G167: Przedmiot | H167: =H86 -> Liczba godzin ponadwymiarowych do rozliczenia | J167: =J86 -> Liczba zrealizowanych godzin ponadwymiarowych we wskazanym okresie | L167: Pozostało do rozliczenia godzin ponadwymiarowych | N167: Stawka za godzinę | P167: Kwota do wypłaty | R167: Dekret księgowy
A168: =IF(A49=0,"",A49) | B168: =IF(B49=0,"",B49) | C168: =IF(C49=0,"",C49) | D168: =IF(OR(D49="niestacjonarne",D49="staż art.",D49="podyplomowe",D49="kurs przygotowawczy",D49="kurs konsultacyjny"),D49,"") | E168: =IF(D168="","",E49) | F168: =IF(D168="","",F49) | G168: =IF(D168="","",G49) | H168: =IF(D168="","",M49) | L168: =IF(H168="","",H168-J168) | N168: =IF(D168="","",N49) | P168: =IF(D168="","",J168*N168) | R168: =IF(D168="","",R49) | S168: =IF(D168="","",S49) | T168: =IF(D168="","",T49) | U168: =IF(D168="","",U49) | V168: =IF(D168="","",V49) | W168: =IF(D168="","",W49) | X168: =IF(G168="","",IF(D168="STAŻ ART.","0",IF(D168="STACJONARNE","3",IF(D168="NIESTACJONARNE","3",IF(D168="PODYPLOMOWE","3",IF(D168="KURS PRZYGOTOWAWCZY","3",IF(D168="KURS KONSULTACYJNY","3",IF(D168="STACJONARNE PB","3"))))))))
A169: =IF(A50=0,"",A50) | B169: =IF(B50=0,"",B50) | C169: =IF(C50=0,"",C50) | D169: =IF(OR(D50="niestacjonarne",D50="staż art.",D50="podyplomowe",D50="kurs przygotowawczy",D50="kurs konsultacyjny"),D50,"") | E169: =IF(D169="","",E50) | F169: =IF(D169="","",F50) | G169: =IF(D169="","",G50) | H169: =IF(D169="","",M50) | L169: =IF(H169="","",H169-J169) | N169: =IF(D169="","",N50) | P169: =IF(D169="","",J169*N169) | R169: =IF(D169="","",R50) | S169: =IF(D169="","",S50) | T169: =IF(D169="","",T50) | U169: =IF(D169="","",U50) | V169: =IF(D169="","",V50) | W169: =IF(D169="","",W50) | X169: =IF(G169="","",IF(D169="STAŻ ART.","0",IF(D169="STACJONARNE","3",IF(D169="NIESTACJONARNE","3",IF(D169="PODYPLOMOWE","3",IF(D169="KURS PRZYGOTOWAWCZY","3",IF(D169="KURS KONSULTACYJNY","3",IF(D169="STACJONARNE PB","3"))))))))
...

Sheet dane
A1: st i tytuł naukowy
A2: MAGISTER
A3: INŻYNIER
A4: MGR INŻ.
A5: DOKTOR (kw I st.)
A6: DOKTOR HAB. (kw II st.)
A7: PROF.SZT.MUZ.
A9: STANOWISKO
A10: ASYSTENT
A11: ADIUNKT
A12: DOCENT
A13: PROF.NADZW.UMFC
... A21: Wydział
A22: I | B22: 1
A23: II | B23: 2
A24: III | B24: 3
A25: IV | B25: 4
A26: V | B26: 5
A27: VI | B27: 6
A28: VII | B28: 7
A29: ASP | B29: 6
A30: MW | B30: -
A31: KNH | B31: -
A32: Stud.Ped. | B32: -
A34: Kierunek
A35: DYRYGENTURA | B35: 10
A36: EDUKACJA ARTYSTYCZNA W ZAKRESIE SZTUKI MUZYCZNEJ | B36: 14
A37: INSTRUMENTALISTYKA | B37: 12
A38: KOMPOZYCJA I TEORIA MUZYKI | B38: 11
A39: MUZYKA KOŚCIELNA | B39: 15
A40: REŻYSERIA DŹWIĘKU | B40: 17
A41: TANIEC | B41: 16
A42: WOKALISTYKA | B42: 13
A43: JAZZ I MUZYKA ESTRADOWA | B43: 18
A44: Zajęcia międzywydziałowe | B44: 80000 8002
A45: Zajęcia wspólne | B45: 80000 8004
A46: MSM/ASP | B46: 80000 8002
A47: Podyplomowe Studia Kompozycji - IX edycja | B47: 90000 61 19
A48: Podyplomowe Studia Kompozycji - X edycja | B48: 90000 61 11
A49: Podyplomowe Studia Kompozycji - XI edycja | B49: 90000 61 12
A50: Podyplomowe Studia Teorii Tańca - VIII edycja | B50: 90000 66 28
A51: Podyplomowe Studia Teorii Muzyki - IX edycja | B51: 90000 62 29
A52: Podyplomowe Studia Menedżer Muzyki - I edycja | B52: 90000 69 11
A53: Podyplomowe Studia Menedżer Muzyki - II edycja | B53: 90000 69 12
A54: Podyplomowe Studia Strojenia i Regulacji Fortepianu | B54: 90000 63 11
A55: Studia podyplomowe profil II - Wydział IV | B55: 90000 64 11
A56: Międzywydziałowe Studium Pieśni | B56: 90000 65 11
A59: Specjalność
B60: Spec.:
A61: CHOREOGRAFIA I TEORIA TAŃCA | B61: 06
A62: DYRYGENTURA CHÓRALNA | B62: 05
A63: DYRYGENTURA SYMFONICZNO-OPEROWA | B63: 01
A64: DYRYGENTURA ORKIESTR DĘTYCH | B64: 02
A65: EDUKACJA ARTYSTYCZNA SZKOLNA | B65: 25
A66: GRA NA AKORDEONIE | B66: 16
A67: GRA NA ALTÓWCE | B67: 02
A68: GRA NA FAGOCIE | B68: 08
A69: GRA NA FLECIE | B69: 05
A70: GRA NA FORTEPIANIE | B70: 01
A71: GRA NA FORTEPIANIE Z JĘZYKIEM WYKŁADOWYM ANGIELSKIM | B71: 04
A72: GRA NA GITARZE | B72: 17
... A138: WOKALISTYKA CHÓRALNA | B138: 06
A140: Poziom studiów
A141: I | B141: 1
A142: II | B142: 2
A143: III | B143: 3
A144: bez stopnia | B144: 0
A146: Forma studiów
A147: STACJONARNE | B147: 1
A148: NIESTACJONARNE | B148: 2
A149: STAŻ ART. | B149: 5
A150: DOKTORANCKIE | B150: 7
A151: PODYPLOMOWE | B151: 6
A152: KURS PRZYGOTOWAWCZY | B152: 4
A153: KURS KONSULTACYJNY | B153: -
A154: STACJONARNE PB | B154: 1
A156: Rok studiów
A157: 1
A158: 2
A159: 3
A160: 4
A162: Semestr
A163: I | B163: 15
A164: II | B164: 15
A165: I i II | B165: 30
A166: III | B166: 15
A167: IV | B167: 15
A168: III i IV | B168: 30
A169: V | B169: 15
A170: VI | B170: 15
A171: V i VI | B171: 30
A172: VII | B172: 15
A173: VIII | B173: 15
A174: VIII i VIII | B174: 30
A177: Forma zajęć
A178: KONSULTACJE
A179: ĆWICZENIA
A180: WYKLAD
A181: GRUPOWE
A182: ZBIOROWE
...
