Workbook

Sheet PENSUM, GPW i ZESTAWIENIE
A2: Zał. Nr 1 do Zarządzenia nr 30/2018 | M2: Warszawa, dnia
A7: Pan/i
A10: Informuję, że w roku akademickim 2018/2019 przewiduje się dla Pana/Pani prowadzenie zajęć dydaktycznych w następującym wymiarze:
A12: PENSUM DYDAKTYCZNE
A13: Wydz | B13: Kierunek studiów / Nazwa studiów podyplomowych | C13: Specjalność | D13: Forma studiów (stacjonarne, niestacjonarne, podyplomowe, staż, kurs przygotowawczy, kurs konsultacyjny) | E13: Poziom studiów (I, II, III, stopień) | F13: Rok studiów | G13: Przedmiot | H13: Rodzaj zajęć | I13: Liczba studentów lub grup studentów | J13: Liczba godzin: tygodniowo (na studenta/ grupę) w roku (dla st.niestacjo - narnych i podypl.) | K13: Ogólna liczba godzin w tygodniu | L13: Liczba tygodni (pole nie dotyczy st.niesta- cjonar- nych i podypl.) | M13: Liczba godzin w roku | N13: Dekret księgowy | U13: Struktura
K14: =IF(OR(D14="niestacjonarne",D14="podyplomowe",D14="stacjonarne pb"),"-",IF(B14="","",I14*J14)) | M14: =IF(OR(D14="niestacjonarne",D14="PODYPLOMOWE",D14="stacjonarne pb"),I14*J14,IF(K14="","",K14*L14)) | N14: =IF(A14="","",VLOOKUP(A14,dane!A$22:B$32,2,0)) | O14: =IF(B14="","",VLOOKUP(B14,dane!A$35:B$56,2,0)) | P14: =IF(C14="","",VLOOKUP(C14,dane!A$61:B$132,2,0)) | Q14: =IF(D14="","",VLOOKUP(D14,dane!A$147:B$154,2,0)) | R14: =IF(E14="","",VLOOKUP(E14,dane!A$141:B$144,2,0)) | S14: =IF(F14="","",F14) | T14: =IF(G14="","",IF(D14="STAŻ ART.","0",IF(D14="STACJONARNE","3",IF(D14="NIESTACJONARNE","3",IF(D14="PODYPLOMOWE","3",IF(D14="KURS PRZYGOTOWAWCZY","3",IF(D14="KURS KONSULTACYJNY","3",IF(D14="STACJONARNE PB","3")))))))) | U14: =IF(M14="","",ROUND(M14/$M$25,5))
K15: =IF(OR(D15="niestacjonarne",D15="podyplomowe",D15="stacjonarne pb"),"-",IF(B15="","",I15*J15)) | M15: =IF(OR(D15="niestacjonarne",D15="PODYPLOMOWE",D15="stacjonarne pb"),I15*J15,IF(K15="","",K15*L15)) | N15: =IF(A15="","",VLOOKUP(A15,dane!A$22:B$32,2,0)) | O15: =IF(B15="","",VLOOKUP(B15,dane!A$35:B$56,2,0)) | P15: =IF(C15="","",VLOOKUP(C15,dane!A$61:B$132,2,0)) | Q15: =IF(D15="","",VLOOKUP(D15,dane!A$147:B$154,2,0)) | R15: =IF(E15="","",VLOOKUP(E15,dane!A$141:B$144,2,0)) | S15: =IF(F15="","",F15) | T15: =IF(G15="","",IF(D15="STAŻ ART.","0",IF(D15="STACJONARNE","3",IF(D15="NIESTACJONARNE","3",IF(D15="PODYPLOMOWE","3",IF(D15="KURS PRZYGOTOWAWCZY","3",IF(D15="KURS KONSULTACYJNY","3",IF(D15="STACJONARNE PB","3")))))))) | U15: =IF(M15="","",ROUND(M15/$M$25,5))
K16: =IF(OR(D16="niestacjonarne",D16="podyplomowe",D16="stacjonarne pb"),"-",IF(B16="","",I16*J16)) | M16: =IF(OR(D16="niestacjonarne",D16="PODYPLOMOWE",D16="stacjonarne pb"),I16*J16,IF(K16="","",K16*L16)) | N16: =IF(A16="","",VLOOKUP(A16,dane!A$22:B$32,2,0)) | O16: =IF(B16="","",VLOOKUP(B16,dane!A$35:B$56,2,0)) | P16: =IF(C16="","",VLOOKUP(C16,dane!A$61:B$132,2,0)) | Q16: =IF(D16="","",VLOOKUP(D16,dane!A$147:B$154,2,0)) | R16: =IF(E16="","",VLOOKUP(E16,dane!A$141:B$144,2,0)) | S16: =IF(F16="","",F16) | T16: =IF(G16="","",IF(D16="STAŻ ART.","0",IF(D16="STACJONARNE","3",IF(D16="NIESTACJONARNE","3",IF(D16="PODYPLOMOWE","3",IF(D16="KURS PRZYGOTOWAWCZY","3",IF(D16="KURS KONSULTACYJNY","3",IF(D16="STACJONARNE PB","3")))))))) | U16: =IF(M16="","",ROUND(M16/$M$25,5))
K17: =IF(OR(D17="niestacjonarne",D17="podyplomowe",D17="stacjonarne pb"),"-",IF(B17="","",I17*J17)) | M17: =IF(OR(D17="niestacjonarne",D17="PODYPLOMOWE",D17="stacjonarne pb"),I17*J17,IF(K17="","",K17*L17)) | N17: =IF(A17="","",VLOOKUP(A17,dane!A$22:B$32,2,0)) | O17: =IF(B17="","",VLOOKUP(B17,dane!A$35:B$56,2,0)) | P17: =IF(C17="","",VLOOKUP(C17,dane!A$61:B$132,2,0)) | Q17: =IF(D17="","",VLOOKUP(D17,dane!A$147:B$154,2,0)) | R17: =IF(E17="","",VLOOKUP(E17,dane!A$141:B$144,2,0)) | S17: =IF(F17="","",F17) | T17: =IF(G17="","",IF(D17="STAŻ ART.","0",IF(D17="STACJONARNE","3",IF(D17="NIESTACJONARNE","3",IF(D17="PODYPLOMOWE","3",IF(D17="KURS PRZYGOTOWAWCZY","3",IF(D17="KURS KONSULTACYJNY","3",IF(D17="STACJONARNE PB","3")))))))) | U17: =IF(M17="","",ROUND(M17/$M$25,5))
K18: =IF(OR(D18="niestacjonarne",D18="podyplomowe",D18="stacjonarne pb"),"-",IF(B18="","",I18*J18)) | M18: =IF(OR(D18="niestacjonarne",D18="PODYPLOMOWE",D18="stacjonarne pb"),I18*J18,IF(K18="","",K18*L18)) | N18: =IF(A18="","",VLOOKUP(A18,dane!A$22:B$32,2,0)) | O18: =IF(B18="","",VLOOKUP(B18,dane!A$35:B$56,2,0)) | P18: =IF(C18="","",VLOOKUP(C18,dane!A$61:B$132,2,0)) | Q18: =IF(D18="","",VLOOKUP(D18,dane!A$147:B$154,2,0)) | R18: =IF(E18="","",VLOOKUP(E18,dane!A$141:B$144,2,0)) | S18: =IF(F18="","",F18) | T18: =IF(G18="","",IF(D18="STAŻ ART.","0",IF(D18="STACJONARNE","3",IF(D18="NIESTACJONARNE","3",IF(D18="PODYPLOMOWE","3",IF(D18="KURS PRZYGOTOWAWCZY","3",IF(D18="KURS KONSULTACYJNY","3",IF(D18="STACJONARNE PB","3")))))))) | U18: =IF(M18="","",ROUND(M18/$M$25,5))
K19: =IF(OR(D19="niestacjonarne",D19="podyplomowe",D19="stacjonarne pb"),"-",IF(B19="","",I19*J19)) | M19: =IF(OR(D19="niestacjonarne",D19="PODYPLOMOWE",D19="stacjonarne pb"),I19*J19,IF(K19="","",K19*L19)) | N19: =IF(A19="","",VLOOKUP(A19,dane!A$22:B$32,2,0)) | O19: =IF(B19="","",VLOOKUP(B19,dane!A$35:B$56,2,0)) | P19: =IF(C19="","",VLOOKUP(C19,dane!A$61:B$132,2,0)) | Q19: =IF(D19="","",VLOOKUP(D19,dane!A$147:B$154,2,0)) | R19: =IF(E19="","",VLOOKUP(E19,dane!A$141:B$144,2,0)) | S19: =IF(F19="","",F19) | T19: =IF(G19="","",IF(D19="STAŻ ART.","0",IF(D19="STACJONARNE","3",IF(D19="NIESTACJONARNE","3",IF(D19="PODYPLOMOWE","3",IF(D19="KURS PRZYGOTOWAWCZY","3",IF(D19="KURS KONSULTACYJNY","3",IF(D19="STACJONARNE PB","3")))))))) | U19: =IF(M19="","",ROUND(M19/$M$25,5))
K20: =IF(OR(D20="niestacjonarne",D20="podyplomowe",D20="stacjonarne pb"),"-",IF(B20="","",I20*J20)) | M20: =IF(OR(D20="niestacjonarne",D20="PODYPLOMOWE",D20="stacjonarne pb"),I20*J20,IF(K20="","",K20*L20)) | N20: =IF(A20="","",VLOOKUP(A20,dane!A$22:B$32,2,0)) | O20: =IF(B20="","",VLOOKUP(B20,dane!A$35:B$56,2,0)) | P20: =IF(C20="","",VLOOKUP(C20,dane!A$61:B$132,2,0)) | Q20: =IF(D20="","",VLOOKUP(D20,dane!A$147:B$154,2,0)) | R20: =IF(E20="","",VLOOKUP(E20,dane!A$141:B$144,2,0)) | S20: =IF(F20="","",F20) | T20: =IF(G20="","",IF(D20="STAŻ ART.","0",IF(D20="STACJONARNE","3",IF(D20="NIESTACJONARNE","3",IF(D20="PODYPLOMOWE","3",IF(D20="KURS PRZYGOTOWAWCZY","3",IF(D20="KURS KONSULTACYJNY","3",IF(D20="STACJONARNE PB","3")))))))) | U20: =IF(M20="","",ROUND(M20/$M$25,5))
K21: =IF(OR(D21="niestacjonarne",D21="podyplomowe",D21="stacjonarne pb"),"-",IF(B21="","",I21*J21)) | M21: =IF(OR(D21="niestacjonarne",D21="PODYPLOMOWE",D21="stacjonarne pb"),I21*J21,IF(K21="","",K21*L21)) | N21: =IF(A21="","",VLOOKUP(A21,dane!A$22:B$32,2,0)) | O21: =IF(B21="","",VLOOKUP(B21,dane!A$35:B$56,2,0)) | P21: =IF(C21="","",VLOOKUP(C21,dane!A$61:B$132,2,0)) | Q21: =IF(D21="","",VLOOKUP(D21,dane!A$147:B$154,2,0)) | R21: =IF(E21="","",VLOOKUP(E21,dane!A$141:B$144,2,0)) | S21: =IF(F21="","",F21) | T21: =IF(G21="","",IF(D21="STAŻ ART.","0",IF(D21="STACJONARNE","3",IF(D21="NIESTACJONARNE","3",IF(D21="PODYPLOMOWE","3",IF(D21="KURS PRZYGOTOWAWCZY","3",IF(D21="KURS KONSULTACYJNY","3",IF(D21="STACJONARNE PB","3")))))))) | U21: =IF(M21="","",ROUND(M21/$M$25,5))
K22: =IF(OR(D22="niestacjonarne",D22="podyplomowe",D22="stacjonarne pb"),"-",IF(B22="","",I22*J22)) | M22: =IF(OR(D22="niestacjonarne",D22="PODYPLOMOWE",D22="stacjonarne pb"),I22*J22,IF(K22="","",K22*L22)) | N22: =IF(A22="","",VLOOKUP(A22,dane!A$22:B$32,2,0)) | O22: =IF(B22="","",VLOOKUP(B22,dane!A$35:B$56,2,0)) | P22: =IF(C22="","",VLOOKUP(C22,dane!A$61:B$132,2,0)) | Q22: =IF(D22="","",VLOOKUP(D22,dane!A$147:B$154,2,0)) | R22: =IF(E22="","",VLOOKUP(E22,dane!A$141:B$144,2,0)) | S22: =IF(F22="","",F22) | T22: =IF(G22="","",IF(D22="STAŻ ART.","0",IF(D22="STACJONARNE","3",IF(D22="NIESTACJONARNE","3",IF(D22="PODYPLOMOWE","3",IF(D22="KURS PRZYGOTOWAWCZY","3",IF(D22="KURS KONSULTACYJNY","3",IF(D22="STACJONARNE PB","3")))))))) | U22: =IF(M22="","",ROUND(M22/$M$25,5))
K23: =IF(OR(D23="niestacjonarne",D23="podyplomowe",D23="stacjonarne pb"),"-",IF(B23="","",I23*J23)) | M23: =IF(OR(D23="niestacjonarne",D23="PODYPLOMOWE",D23="stacjonarne pb"),I23*J23,IF(K23="","",K23*L23)) | N23: =IF(A23="","",VLOOKUP(A23,dane!A$22:B$32,2,0)) | O23: =IF(B23="","",VLOOKUP(B23,dane!A$35:B$56,2,0)) | P23: =IF(C23="","",VLOOKUP(C23,dane!A$61:B$132,2,0)) | Q23: =IF(D23="","",VLOOKUP(D23,dane!A$147:B$154,2,0)) | R23: =IF(E23="","",VLOOKUP(E23,dane!A$141:B$144,2,0)) | S23: =IF(F23="","",F23) | T23: =IF(G23="","",IF(D23="STAŻ ART.","0",IF(D23="STACJONARNE","3",IF(D23="NIESTACJONARNE","3",IF(D23="PODYPLOMOWE","3",IF(D23="KURS PRZYGOTOWAWCZY","3",IF(D23="KURS KONSULTACYJNY","3",IF(D23="STACJONARNE PB","3")))))))) | U23: =IF(M23="","",ROUND(M23/$M$25,5))
K24: =IF(OR(D24="niestacjonarne",D24="podyplomowe",D24="stacjonarne pb"),"-",IF(B24="","",I24*J24)) | M24: =IF(OR(D24="niestacjonarne",D24="PODYPLOMOWE",D24="stacjonarne pb"),I24*J24,IF(K24="","",K24*L24)) | N24: =IF(A24="","",VLOOKUP(A24,dane!A$22:B$32,2,0)) | O24: =IF(B24="","",VLOOKUP(B24,dane!A$35:B$56,2,0)) | P24: =IF(C24="","",VLOOKUP(C24,dane!A$61:B$132,2,0)) | Q24: =IF(D24="","",VLOOKUP(D24,dane!A$147:B$154,2,0)) | R24: =IF(E24="","",VLOOKUP(E24,dane!A$141:B$144,2,0)) | S24: =IF(F24="","",F24) | T24: =IF(G24="","",IF(D24="STAŻ ART.","0",IF(D24="STACJONARNE","3",IF(D24="NIESTACJONARNE","3",IF(D24="PODYPLOMOWE","3",IF(D24="KURS PRZYGOTOWAWCZY","3",IF(D24="KURS KONSULTACYJNY","3",IF(D24="STACJONARNE PB","3")))))))) | U24: =IF(M24="","",ROUND(M24/$M$25,5))
L25: Razem: | M25: =SUM(M14:M24) -> 0 | U25: =SUM(U14:V24) -> 0
B33: .......................................................................................................................................................... | H33: ...........................................................................................................................................
B34: Przyjmuję do wiadomości i wyrażam zgodę na pracę w proponowanym wymiarze godzin dydaktycznych | H34: podpis Dziekana/Kierownika podstawowej jednostki organizacyjnej
O37: wydruk z dnia: | P37: =TODAY() -> 43311 | T37: Strona 1 z 2
A39: Zał. Nr 2 do Zarządzenia Nr 30/2018 | M39: Warszawa, dnia
A43: =A7 -> Pan/i | B43: =IF(B7="","",B7)
A45: =A10 -> Informuję, że w roku akademickim 2018/2019 przewiduje się dla Pana/Pani prowadzenie zajęć dydaktycznych w następującym wymiarze:
A47: GODZINY PONADWYMIAROWE
A48: Wydz | B48: Kierunek studiów / Nazwa studiów podyplomowych | C48: Specjalność | D48: =D13 -> Forma studiów (stacjonarne, niestacjonarne, podyplomowe, staż, kurs przygotowawczy, kurs konsultacyjny) | E48: =E13 -> Poziom studiów (I, II, III, stopień) | F48: Rok studiów | G48: Przedmiot | H48: Rodzaj zajęć | I48: Liczba studentów lub grup studentów | J48: Liczba godzin: tygodniowo (na studenta/ grupę) w roku (dla st.niestacjo - narnych i podypl.) | K48: Ogólna liczba godzin w tygodniu | L48: Liczba tygodni (pole nie dotyczy st.niesta- cjonar- nych i podypl.) | M48: Liczba godzin w roku | N48: Stawka za godzinę | P48: Kwota do wypłaty | R48: Dekret księgowy
K49: =IF(OR(D49="niestacjonarne",D49="podyplomowe",D14="stacjonarne pb"),"-",IF(B49="","",I49*J49)) | M49: =IF(OR(D49="niestacjonarne",D49="PODYPLOMOWE",D14="stacjonarne pb"),I49*J49,IF(K49="","",K49*L49)) | P49: =IF(M49="","",M49*N49) | R49: =IF(A49="","",VLOOKUP(A49,dane!A$22:B$30,2,0)) | S49: =IF(B49="","",VLOOKUP(B49,dane!A$35:B$56,2,0)) | T49: =IF(C49="","",VLOOKUP(C49,dane!A$61:B$132,2,0)) | U49: =IF(D49="","",VLOOKUP(D49,dane!A$147:B$154,2,0)) | V49: =IF(E49="","",VLOOKUP(E49,dane!A$141:B$144,2,0)) | W49: =IF(F49="","",F49) | X49: =IF(G49="","",IF(D49="STAŻ ART.","0",IF(D49="STACJONARNE","3",IF(D49="NIESTACJONARNE","3",IF(D49="PODYPLOMOWE","3",IF(D49="KURS PRZYGOTOWAWCZY","3",IF(D49="KURS KONSULTACYJNY","3",IF(D49="STACJONARNE PB","3"))))))))
K50: =IF(OR(D50="niestacjonarne",D50="podyplomowe",D15="stacjonarne pb"),"-",IF(B50="","",I50*J50)) | M50: =IF(OR(D50="niestacjonarne",D50="PODYPLOMOWE",D15="stacjonarne pb"),I50*J50,IF(K50="","",K50*L50)) | P50: =IF(M50="","",M50*N50) | R50: =IF(A50="","",VLOOKUP(A50,dane!A$22:B$30,2,0)) | S50: =IF(B50="","",VLOOKUP(B50,dane!A$35:B$56,2,0)) | T50: =IF(C50="","",VLOOKUP(C50,dane!A$61:B$132,2,0)) | U50: =IF(D50="","",VLOOKUP(D50,dane!A$147:B$154,2,0)) | V50: =IF(E50="","",VLOOKUP(E50,dane!A$141:B$144,2,0)) | W50: =IF(F50="","",F50) | X50: =IF(G50="","",IF(D50="STAŻ ART.","0",IF(D50="STACJONARNE","3",IF(D50="NIESTACJONARNE","3",IF(D50="PODYPLOMOWE","3",IF(D50="KURS PRZYGOTOWAWCZY","3",IF(D50="KURS KONSULTACYJNY","3",IF(D50="STACJONARNE PB","3"))))))))
K51: =IF(OR(D51="niestacjonarne",D51="podyplomowe",D16="stacjonarne pb"),"-",IF(B51="","",I51*J51)) | M51: =IF(OR(D51="niestacjonarne",D51="PODYPLOMOWE",D16="stacjonarne pb"),I51*J51,IF(K51="","",K51*L51)) | P51: =IF(M51="","",M51*N51) | R51: =IF(A51="","",VLOOKUP(A51,dane!A$22:B$30,2,0)) | S51: =IF(B51="","",VLOOKUP(B51,dane!A$35:B$56,2,0)) | T51: =IF(C51="","",VLOOKUP(C51,dane!A$61:B$132,2,0)) | U51: =IF(D51="","",VLOOKUP(D51,dane!A$147:B$154,2,0)) | V51: =IF(E51="","",VLOOKUP(E51,dane!A$141:B$144,2,0)) | W51: =IF(F51="","",F51) | X51: =IF(G51="","",IF(D51="STAŻ ART.","0",IF(D51="STACJONARNE","3",IF(D51="NIESTACJONARNE","3",IF(D51="PODYPLOMOWE","3",IF(D51="KURS PRZYGOTOWAWCZY","3",IF(D51="KURS KONSULTACYJNY","3",IF(D51="STACJONARNE PB","3"))))))))
K52: =IF(OR(D52="niestacjonarne",D52="podyplomowe",D17="stacjonarne pb"),"-",IF(B52="","",I52*J52)) | M52: =IF(OR(D52="niestacjonarne",D52="PODYPLOMOWE",D17="stacjonarne pb"),I52*J52,IF(K52="","",K52*L52)) | P52: =IF(M52="","",M52*N52) | R52: =IF(A52="","",VLOOKUP(A52,dane!A$22:B$30,2,0)) | S52: =IF(B52="","",VLOOKUP(B52,dane!A$35:B$56,2,0)) | T52: =IF(C52="","",VLOOKUP(C52,dane!A$61:B$132,2,0)) | U52: =IF(D52="","",VLOOKUP(D52,dane!A$147:B$154,2,0)) | V52: =IF(E52="","",VLOOKUP(E52,dane!A$141:B$144,2,0)) | W52: =IF(F52="","",F52) | X52: =IF(G52="","",IF(D52="STAŻ ART.","0",IF(D52="STACJONARNE","3",IF(D52="NIESTACJONARNE","3",IF(D52="PODYPLOMOWE","3",IF(D52="KURS PRZYGOTOWAWCZY","3",IF(D52="KURS KONSULTACYJNY","3",IF(D52="STACJONARNE PB","3"))))))))
K53: =IF(OR(D53="niestacjonarne",D53="podyplomowe",D18="stacjonarne pb"),"-",IF(B53="","",I53*J53)) | M53: =IF(OR(D53="niestacjonarne",D53="PODYPLOMOWE",D18="stacjonarne pb"),I53*J53,IF(K53="","",K53*L53)) | P53: =IF(M53="","",M53*N53) | R53: =IF(A53="","",VLOOKUP(A53,dane!A$22:B$30,2,0)) | S53: =IF(B53="","",VLOOKUP(B53,dane!A$35:B$56,2,0)) | T53: =IF(C53="","",VLOOKUP(C53,dane!A$61:B$132,2,0)) | U53: =IF(D53="","",VLOOKUP(D53,dane!A$147:B$154,2,0)) | V53: =IF(E53="","",VLOOKUP(E53,dane!A$141:B$144,2,0)) | W53: =IF(F53="","",F53) | X53: =IF(G53="","",IF(D53="STAŻ ART.","0",IF(D53="STACJONARNE","3",IF(D53="NIESTACJONARNE","3",IF(D53="PODYPLOMOWE","3",IF(D53="KURS PRZYGOTOWAWCZY","3",IF(D53="KURS KONSULTACYJNY","3",IF(D53="STACJONARNE PB","3"))))))))
K54: =IF(OR(D54="niestacjonarne",D54="podyplomowe",D19="stacjonarne pb"),"-",IF(B54="","",I54*J54)) | M54: =IF(OR(D54="niestacjonarne",D54="PODYPLOMOWE",D19="stacjonarne pb"),I54*J54,IF(K54="","",K54*L54)) | P54: =IF(M54="","",M54*N54) | R54: =IF(A54="","",VLOOKUP(A54,dane!A$22:B$30,2,0)) | S54: =IF(B54="","",VLOOKUP(B54,dane!A$35:B$56,2,0)) | T54: =IF(C54="","",VLOOKUP(C54,dane!A$61:B$132,2,0)) | U54: =IF(D54="","",VLOOKUP(D54,dane!A$147:B$154,2,0)) | V54: =IF(E54="","",VLOOKUP(E54,dane!A$141:B$144,2,0)) | W54: =IF(F54="","",F54) | X54: =IF(G54="","",IF(D54="STAŻ ART.","0",IF(D54="STACJONARNE","3",IF(D54="NIESTACJONARNE","3",IF(D54="PODYPLOMOWE","3",IF(D54="KURS PRZYGOTOWAWCZY","3",IF(D54="KURS KONSULTACYJNY","3",IF(D54="STACJONARNE PB","3"))))))))
K55: =IF(OR(D55="niestacjonarne",D55="podyplomowe",D20="stacjonarne pb"),"-",IF(B55="","",I55*J55)) | M55: =IF(OR(D55="niestacjonarne",D55="PODYPLOMOWE",D20="stacjonarne pb"),I55*J55,IF(K55="","",K55*L55)) | P55: =IF(M55="","",M55*N55) | R55: =IF(A55="","",VLOOKUP(A55,dane!A$22:B$30,2,0)) | S55: =IF(B55="","",VLOOKUP(B55,dane!A$35:B$56,2,0)) | T55: =IF(C55="","",VLOOKUP(C55,dane!A$61:B$132,2,0)) | U55: =IF(D55="","",VLOOKUP(D55,dane!A$147:B$154,2,0)) | V55: =IF(E55="","",VLOOKUP(E55,dane!A$141:B$144,2,0)) | W55: =IF(F55="","",F55) | X55: =IF(G55="","",IF(D55="STAŻ ART.","0",IF(D55="STACJONARNE","3",IF(D55="NIESTACJONARNE","3",IF(D55="PODYPLOMOWE","3",IF(D55="KURS PRZYGOTOWAWCZY","3",IF(D55="KURS KONSULTACYJNY","3",IF(D55="STACJONARNE PB","3"))))))))
K56: =IF(OR(D56="niestacjonarne",D56="podyplomowe",D21="stacjonarne pb"),"-",IF(B56="","",I56*J56)) | M56: =IF(OR(D56="niestacjonarne",D56="PODYPLOMOWE",D21="stacjonarne pb"),I56*J56,IF(K56="","",K56*L56)) | P56: =IF(M56="","",M56*N56) | R56: =IF(A56="","",VLOOKUP(A56,dane!A$22:B$30,2,0)) | S56: =IF(B56="","",VLOOKUP(B56,dane!A$35:B$56,2,0)) | T56: =IF(C56="","",VLOOKUP(C56,dane!A$61:B$132,2,0)) | U56: =IF(D56="","",VLOOKUP(D56,dane!A$147:B$154,2,0)) | V56: =IF(E56="","",VLOOKUP(E56,dane!A$141:B$144,2,0)) | W56: =IF(F56="","",F56) | X56: =IF(G56="","",IF(D56="STAŻ ART.","0",IF(D56="STACJONARNE","3",IF(D56="NIESTACJONARNE","3",IF(D56="PODYPLOMOWE","3",IF(D56="KURS PRZYGOTOWAWCZY","3",IF(D56="KURS KONSULTACYJNY","3",IF(D56="STACJONARNE PB","3"))))))))
K57: =IF(OR(D57="niestacjonarne",D57="podyplomowe",D22="stacjonarne pb"),"-",IF(B57="","",I57*J57)) | M57: =IF(OR(D57="niestacjonarne",D57="PODYPLOMOWE",D22="stacjonarne pb"),I57*J57,IF(K57="","",K57*L57)) | P57: =IF(M57="","",M57*N57) | R57: =IF(A57="","",VLOOKUP(A57,dane!A$22:B$30,2,0)) | S57: =IF(B57="","",VLOOKUP(B57,dane!A$35:B$56,2,0)) | T57: =IF(C57="","",VLOOKUP(C57,dane!A$61:B$132,2,0)) | U57: =IF(D57="","",VLOOKUP(D57,dane!A$147:B$154,2,0)) | V57: =IF(E57="","",VLOOKUP(E57,dane!A$141:B$144,2,0)) | W57: =IF(F57="","",F57) | X57: =IF(G57="","",IF(D57="STAŻ ART.","0",IF(D57="STACJONARNE","3",IF(D57="NIESTACJONARNE","3",IF(D57="PODYPLOMOWE","3",IF(D57="KURS PRZYGOTOWAWCZY","3",IF(D57="KURS KONSULTACYJNY","3",IF(D57="STACJONARNE PB","3"))))))))
K58: =IF(OR(D58="niestacjonarne",D58="podyplomowe",D23="stacjonarne pb"),"-",IF(B58="","",I58*J58)) | M58: =IF(OR(D58="niestacjonarne",D58="PODYPLOMOWE",D23="stacjonarne pb"),I58*J58,IF(K58="","",K58*L58)) | P58: =IF(M58="","",M58*N58) | R58: =IF(A58="","",VLOOKUP(A58,dane!A$22:B$30,2,0)) | S58: =IF(B58="","",VLOOKUP(B58,dane!A$35:B$56,2,0)) | T58: =IF(C58="","",VLOOKUP(C58,dane!A$61:B$132,2,0)) | U58: =IF(D58="","",VLOOKUP(D58,dane!A$147:B$154,2,0)) | V58: =IF(E58="","",VLOOKUP(E58,dane!A$141:B$144,2,0)) | W58: =IF(F58="","",F58) | X58: =IF(G58="","",IF(D58="STAŻ ART.","0",IF(D58="STACJONARNE","3",IF(D58="NIESTACJONARNE","3",IF(D58="PODYPLOMOWE","3",IF(D58="KURS PRZYGOTOWAWCZY","3",IF(D58="KURS KONSULTACYJNY","3",IF(D58="STACJONARNE PB","3"))))))))
L59: Razem: | M59: =SUM(M49:M58) -> 0 | P59: =SUM(P49:P58) -> 0
A62: ● | B62: Rozliczenie następuje za faktycznie przepracowane godziny ponadwymiarowe ponad pensum.
A63: ● | B63: Każda zmiana liczby godzin ponadwymiarowych wynikająca z obowiązującej organizacji roku wymaga pisemnej formy zatwierdzenia
E67: Stwierdzam zgodność liczby powierzonych godzin ponadwymiarowych z limitem z uchwały o pensum
B72: .......................................................................................................................................................... | E72: .................................................................................................................................................. | J72: ...........................................................................................................................................
...

Sheet dane
A1: st i tytuł naukowy
A2: MAGISTER
A3: INŻYNIER
A4: MGR INŻ.
A5: DOKTOR (kw I st.)
A6: DOKTOR HAB. (kw II st.)
A7: PROF.SZT.MUZ.
A9: STANOWISKO
A10: ASYSTENT
A11: ADIUNKT
A12: DOCENT
A13: PROF.NADZW.UMFC
... A21: Wydział
A22: I | B22: 1
A23: II | B23: 2
A24: III | B24: 3
A25: IV | B25: 4
A26: V | B26: 5
A27: VI | B27: 6
A28: VII | B28: 7
A29: ASP | B29: 6
A30: MW | B30: -
A31: KNH | B31: -
A32: Stud.Ped. | B32: -
A34: Kierunek
A35: DYRYGENTURA | B35: 10
A36: EDUKACJA ARTYSTYCZNA W ZAKRESIE SZTUKI MUZYCZNEJ | B36: 14
A37: INSTRUMENTALISTYKA | B37: 12
A38: KOMPOZYCJA I TEORIA MUZYKI | B38: 11
A39: MUZYKA KOŚCIELNA | B39: 15
A40: REŻYSERIA DŹWIĘKU | B40: 17
A41: TANIEC | B41: 16
A42: WOKALISTYKA | B42: 13
A43: JAZZ I MUZYKA ESTRADOWA | B43: 18
A44: Zajęcia międzywydziałowe | B44: 80000 8002
A45: Zajęcia wspólne | B45: 80000 8004
A46: MSM/ASP | B46: 80000 8002
A47: Podyplomowe Studia Kompozycji - IX edycja | B47: 90000 61 19
A48: Podyplomowe Studia Kompozycji - X edycja | B48: 90000 61 11
A49: Podyplomowe Studia Kompozycji - XI edycja | B49: 90000 61 12
...
