Workbook

Sheet PENSUM, GPW i ZESTAWIENIE
N2: Warszawa, dnia | O2: =TODAY() -> 44823
A7: Pan/i | B7: ASYSTENT | D7: X Y
B8: stanowisko | D8: tytuł/stopień, imię i nazwisko
A10: Informuję, że w roku akademickim 2022/2023 przewiduje się dla Pana/Pani prowadzenie zajęć dydaktycznych w następującym wymiarze:
A12: PENSUM DYDAKTYCZNE
A13: Wydział | B13: Kierunek studiów / Nazwa studiów podyplomowych | C13: Specjalność | D13: Forma studiów (stacjonarne, niestacjonarne, podyplomowe, staż, kurs przygotowawczy, kurs konsultacyjny) | E13: Poziom studiów | F13: Rok studiów | G13: Przedmiot | H13: Rodzaj zajęć | I13: Liczba studentów lub grup studentów | J13: Liczba godzin: tygodniowo (na studenta/ grupę) w roku (dla st.niestacjonarnych i podypl.) | K13: Ogólna liczba godzin w tygodniu | L13: Liczba tygodni (pole nie dotyczy st.niesta- cjonar- nych i podypl.) | M13: Liczba godzin w roku | N13: Dekret księgowy | U13: Struktura
K14: =IF(OR(D14="niestacjonarne",D14="podyplomowe",D14="stacjonarne pb"),"-",IF(B14="","",I14*J14)) | M14: =IF(OR(D14="niestacjonarne",D14="PODYPLOMOWE",D14="stacjonarne pb"),I14*J14,IF(K14="","",K14*L14)) | N14: =IF(A14="","",VLOOKUP(A14,dane!A$27:B$38,2,0)) | O14: =IF(B14="","",VLOOKUP(B14,dane!A$41:B$75,2,0)) | P14: =IF(C14="","",VLOOKUP(C14,dane!A$80:B$168,2,0)) | Q14: =IF(D14="","",VLOOKUP(D14,dane!A$178:B$183,2,0)) | R14: =IF(E14="","",VLOOKUP(E14,dane!A$171:B$175,2,0)) | S14: =IF(F14="","",F14) | T14: =IF(G14="","",IF(D14="STAŻ ARTYSTYCZNY","0",IF(D14="STACJONARNE","3",IF(D14="NIESTACJONARNE","3",IF(D14="PODYPLOMOWE","3",IF(D14="KURS PRZYGOTOWAWCZY","3",IF(D14="KURS KONSULTACYJNY","3",IF(D14="STACJONARNE PB","3")))))))) | U14: =IF(M14="","",ROUND(M14/$M$25,5))
K15: =IF(OR(D15="niestacjonarne",D15="podyplomowe",D15="stacjonarne pb"),"-",IF(B15="","",I15*J15)) | M15: =IF(OR(D15="niestacjonarne",D15="PODYPLOMOWE",D15="stacjonarne pb"),I15*J15,IF(K15="","",K15*L15)) | N15: =IF(A15="","",VLOOKUP(A15,dane!A$27:B$38,2,0)) | O15: =IF(B15="","",VLOOKUP(B15,dane!A$41:B$75,2,0)) | P15: =IF(C15="","",VLOOKUP(C15,dane!A$80:B$168,2,0)) | Q15: =IF(D15="","",VLOOKUP(D15,dane!A$178:B$183,2,0)) | R15: =IF(E15="","",VLOOKUP(E15,dane!A$171:B$175,2,0)) | S15: =IF(F15="","",F15) | T15: =IF(G15="","",IF(D15="STAŻ ARTYSTYCZNY","0",IF(D15="STACJONARNE","3",IF(D15="NIESTACJONARNE","3",IF(D15="PODYPLOMOWE","3",IF(D15="KURS PRZYGOTOWAWCZY","3",IF(D15="KURS KONSULTACYJNY","3",IF(D15="STACJONARNE PB","3")))))))) | U15: =IF(M15="","",ROUND(M15/$M$25,5))
K16: =IF(OR(D16="niestacjonarne",D16="podyplomowe",D16="stacjonarne pb"),"-",IF(B16="","",I16*J16)) | M16: =IF(OR(D16="niestacjonarne",D16="PODYPLOMOWE",D16="stacjonarne pb"),I16*J16,IF(K16="","",K16*L16)) | N16: =IF(A16="","",VLOOKUP(A16,dane!A$27:B$38,2,0)) | O16: =IF(B16="","",VLOOKUP(B16,dane!A$41:B$75,2,0)) | P16: =IF(C16="","",VLOOKUP(C16,dane!A$80:B$168,2,0)) | Q16: =IF(D16="","",VLOOKUP(D16,dane!A$178:B$183,2,0)) | R16: =IF(E16="","",VLOOKUP(E16,dane!A$171:B$175,2,0)) | S16: =IF(F16="","",F16) | T16: =IF(G16="","",IF(D16="STAŻ ARTYSTYCZNY","0",IF(D16="STACJONARNE","3",IF(D16="NIESTACJONARNE","3",IF(D16="PODYPLOMOWE","3",IF(D16="KURS PRZYGOTOWAWCZY","3",IF(D16="KURS KONSULTACYJNY","3",IF(D16="STACJONARNE PB","3")))))))) | U16: =IF(M16="","",ROUND(M16/$M$25,5))
K17: =IF(OR(D17="niestacjonarne",D17="podyplomowe",D17="stacjonarne pb"),"-",IF(B17="","",I17*J17)) | M17: =IF(OR(D17="niestacjonarne",D17="PODYPLOMOWE",D17="stacjonarne pb"),I17*J17,IF(K17="","",K17*L17)) | N17: =IF(A17="","",VLOOKUP(A17,dane!A$27:B$38,2,0)) | O17: =IF(B17="","",VLOOKUP(B17,dane!A$41:B$75,2,0)) | P17: =IF(C17="","",VLOOKUP(C17,dane!A$80:B$168,2,0)) | Q17: =IF(D17="","",VLOOKUP(D17,dane!A$178:B$183,2,0)) | R17: =IF(E17="","",VLOOKUP(E17,dane!A$171:B$175,2,0)) | S17: =IF(F17="","",F17) | T17: =IF(G17="","",IF(D17="STAŻ ARTYSTYCZNY","0",IF(D17="STACJONARNE","3",IF(D17="NIESTACJONARNE","3",IF(D17="PODYPLOMOWE","3",IF(D17="KURS PRZYGOTOWAWCZY","3",IF(D17="KURS KONSULTACYJNY","3",IF(D17="STACJONARNE PB","3")))))))) | U17: =IF(M17="","",ROUND(M17/$M$25,5))
K18: =IF(OR(D18="niestacjonarne",D18="podyplomowe",D18="stacjonarne pb"),"-",IF(B18="","",I18*J18)) | M18: =IF(OR(D18="niestacjonarne",D18="PODYPLOMOWE",D18="stacjonarne pb"),I18*J18,IF(K18="","",K18*L18)) | N18: =IF(A18="","",VLOOKUP(A18,dane!A$27:B$38,2,0)) | O18: =IF(B18="","",VLOOKUP(B18,dane!A$41:B$75,2,0)) | P18: =IF(C18="","",VLOOKUP(C18,dane!A$80:B$168,2,0)) | Q18: =IF(D18="","",VLOOKUP(D18,dane!A$178:B$183,2,0)) | R18: =IF(E18="","",VLOOKUP(E18,dane!A$171:B$175,2,0)) | S18: =IF(F18="","",F18) | T18: =IF(G18="","",IF(D18="STAŻ ARTYSTYCZNY","0",IF(D18="STACJONARNE","3",IF(D18="NIESTACJONARNE","3",IF(D18="PODYPLOMOWE","3",IF(D18="KURS PRZYGOTOWAWCZY","3",IF(D18="KURS KONSULTACYJNY","3",IF(D18="STACJONARNE PB","3")))))))) | U18: =IF(M18="","",ROUND(M18/$M$25,5))
K19: =IF(OR(D19="niestacjonarne",D19="podyplomowe",D19="stacjonarne pb"),"-",IF(B19="","",I19*J19)) | M19: =IF(OR(D19="niestacjonarne",D19="PODYPLOMOWE",D19="stacjonarne pb"),I19*J19,IF(K19="","",K19*L19)) | N19: =IF(A19="","",VLOOKUP(A19,dane!A$27:B$38,2,0)) | O19: =IF(B19="","",VLOOKUP(B19,dane!A$41:B$75,2,0)) | P19: =IF(C19="","",VLOOKUP(C19,dane!A$80:B$168,2,0)) | Q19: =IF(D19="","",VLOOKUP(D19,dane!A$178:B$183,2,0)) | R19: =IF(E19="","",VLOOKUP(E19,dane!A$171:B$175,2,0)) | S19: =IF(F19="","",F19) | T19: =IF(G19="","",IF(D19="STAŻ ARTYSTYCZNY","0",IF(D19="STACJONARNE","3",IF(D19="NIESTACJONARNE","3",IF(D19="PODYPLOMOWE","3",IF(D19="KURS PRZYGOTOWAWCZY","3",IF(D19="KURS KONSULTACYJNY","3",IF(D19="STACJONARNE PB","3")))))))) | U19: =IF(M19="","",ROUND(M19/$M$25,5))
K20: =IF(OR(D20="niestacjonarne",D20="podyplomowe",D20="stacjonarne pb"),"-",IF(B20="","",I20*J20)) | M20: =IF(OR(D20="niestacjonarne",D20="PODYPLOMOWE",D20="stacjonarne pb"),I20*J20,IF(K20="","",K20*L20)) | N20: =IF(A20="","",VLOOKUP(A20,dane!A$27:B$38,2,0)) | O20: =IF(B20="","",VLOOKUP(B20,dane!A$41:B$75,2,0)) | P20: =IF(C20="","",VLOOKUP(C20,dane!A$80:B$168,2,0)) | Q20: =IF(D20="","",VLOOKUP(D20,dane!A$178:B$183,2,0)) | R20: =IF(E20="","",VLOOKUP(E20,dane!A$171:B$175,2,0)) | S20: =IF(F20="","",F20) | T20: =IF(G20="","",IF(D20="STAŻ ARTYSTYCZNY","0",IF(D20="STACJONARNE","3",IF(D20="NIESTACJONARNE","3",IF(D20="PODYPLOMOWE","3",IF(D20="KURS PRZYGOTOWAWCZY","3",IF(D20="KURS KONSULTACYJNY","3",IF(D20="STACJONARNE PB","3")))))))) | U20: =IF(M20="","",ROUND(M20/$M$25,5))
K21: =IF(OR(D21="niestacjonarne",D21="podyplomowe",D21="stacjonarne pb"),"-",IF(B21="","",I21*J21)) | M21: =IF(OR(D21="niestacjonarne",D21="PODYPLOMOWE",D21="stacjonarne pb"),I21*J21,IF(K21="","",K21*L21)) | N21: =IF(A21="","",VLOOKUP(A21,dane!A$27:B$38,2,0)) | O21: =IF(B21="","",VLOOKUP(B21,dane!A$41:B$75,2,0)) | P21: =IF(C21="","",VLOOKUP(C21,dane!A$80:B$168,2,0)) | Q21: =IF(D21="","",VLOOKUP(D21,dane!A$178:B$183,2,0)) | R21: =IF(E21="","",VLOOKUP(E21,dane!A$171:B$175,2,0)) | S21: =IF(F21="","",F21) | T21: =IF(G21="","",IF(D21="STAŻ ARTYSTYCZNY","0",IF(D21="STACJONARNE","3",IF(D21="NIESTACJONARNE","3",IF(D21="PODYPLOMOWE","3",IF(D21="KURS PRZYGOTOWAWCZY","3",IF(D21="KURS KONSULTACYJNY","3",IF(D21="STACJONARNE PB","3")))))))) | U21: =IF(M21="","",ROUND(M21/$M$25,5))
K22: =IF(OR(D22="niestacjonarne",D22="podyplomowe",D22="stacjonarne pb"),"-",IF(B22="","",I22*J22)) | M22: =IF(OR(D22="niestacjonarne",D22="PODYPLOMOWE",D22="stacjonarne pb"),I22*J22,IF(K22="","",K22*L22)) | N22: =IF(A22="","",VLOOKUP(A22,dane!A$27:B$38,2,0)) | O22: =IF(B22="","",VLOOKUP(B22,dane!A$41:B$75,2,0)) | P22: =IF(C22="","",VLOOKUP(C22,dane!A$80:B$168,2,0)) | Q22: =IF(D22="","",VLOOKUP(D22,dane!A$178:B$183,2,0)) | R22: =IF(E22="","",VLOOKUP(E22,dane!A$171:B$175,2,0)) | S22: =IF(F22="","",F22) | T22: =IF(G22="","",IF(D22="STAŻ ARTYSTYCZNY","0",IF(D22="STACJONARNE","3",IF(D22="NIESTACJONARNE","3",IF(D22="PODYPLOMOWE","3",IF(D22="KURS PRZYGOTOWAWCZY","3",IF(D22="KURS KONSULTACYJNY","3",IF(D22="STACJONARNE PB","3")))))))) | U22: =IF(M22="","",ROUND(M22/$M$25,5))
K23: =IF(OR(D23="niestacjonarne",D23="podyplomowe",D23="stacjonarne pb"),"-",IF(B23="","",I23*J23)) | M23: =IF(OR(D23="niestacjonarne",D23="PODYPLOMOWE",D23="stacjonarne pb"),I23*J23,IF(K23="","",K23*L23)) | N23: =IF(A23="","",VLOOKUP(A23,dane!A$27:B$38,2,0)) | O23: =IF(B23="","",VLOOKUP(B23,dane!A$41:B$75,2,0)) | P23: =IF(C23="","",VLOOKUP(C23,dane!A$80:B$168,2,0)) | Q23: =IF(D23="","",VLOOKUP(D23,dane!A$178:B$183,2,0)) | R23: =IF(E23="","",VLOOKUP(E23,dane!A$171:B$175,2,0)) | S23: =IF(F23="","",F23) | T23: =IF(G23="","",IF(D23="STAŻ ARTYSTYCZNY","0",IF(D23="STACJONARNE","3",IF(D23="NIESTACJONARNE","3",IF(D23="PODYPLOMOWE","3",IF(D23="KURS PRZYGOTOWAWCZY","3",IF(D23="KURS KONSULTACYJNY","3",IF(D23="STACJONARNE PB","3")))))))) | U23: =IF(M23="","",ROUND(M23/$M$25,5))
K24: =IF(OR(D24="niestacjonarne",D24="podyplomowe",D24="stacjonarne pb"),"-",IF(B24="","",I24*J24)) | M24: =IF(OR(D24="niestacjonarne",D24="PODYPLOMOWE",D24="stacjonarne pb"),I24*J24,IF(K24="","",K24*L24)) | N24: =IF(A24="","",VLOOKUP(A24,dane!A$27:B$38,2,0)) | O24: =IF(B24="","",VLOOKUP(B24,dane!A$41:B$75,2,0)) | P24: =IF(C24="","",VLOOKUP(C24,dane!A$80:B$168,2,0)) | Q24: =IF(D24="","",VLOOKUP(D24,dane!A$178:B$183,2,0)) | R24: =IF(E24="","",VLOOKUP(E24,dane!A$171:B$175,2,0)) | S24: =IF(F24="","",F24) | T24: =IF(G24="","",IF(D24="STAŻ ARTYSTYCZNY","0",IF(D24="STACJONARNE","3",IF(D24="NIESTACJONARNE","3",IF(D24="PODYPLOMOWE","3",IF(D24="KURS PRZYGOTOWAWCZY","3",IF(D24="KURS KONSULTACYJNY","3",IF(D24="STACJONARNE PB","3")))))))) | U24: =IF(M24="","",ROUND(M24/$M$25,5))
L25: Razem: | M25: =SUM(M14:M24) -> 0 | U25: =SUM(U14:V24) -> 0
B30: .......................................................................................................................................................... | H30: ...........................................................................................................................................
B31: Przyjmuję do wiadomości i wyrażam zgodę na pracę w proponowanym wymiarze godzin dydaktycznych | H31: podpis Dziekana/Kierownika podstawowej jednostki organizacyjnej
M35: Warszawa, dnia | P35: =TODAY() -> 44823
A38: =A7 -> Pan/i | B38: =$B$7 -> ASYSTENT | D38: =$D$7 -> X Y
B39: stanowisko | D39: tytuł/stopień, imię i nazwisko
A40: =A10 -> Informuję, że w roku akademickim 2022/2023 przewiduje się dla Pana/Pani prowadzenie zajęć dydaktycznych w następującym wymiarze:
A42: GODZINY PONADWYMIAROWE
A43: Wydział | B43: Kierunek studiów / Nazwa studiów podyplomowych | C43: Specjalność | D43: =D13 -> Forma studiów (stacjonarne, niestacjonarne, podyplomowe, staż, kurs przygotowawczy, kurs konsultacyjny) | E43: Poziom studiów | F43: Rok studiów | G43: Przedmiot | H43: Rodzaj zajęć | I43: Liczba studentów lub grup studentów | J43: Liczba godzin: tygodniowo (na studenta/ grupę) w roku (dla st.niestacjo - narnych i podypl.) | K43: Ogólna liczba godzin w tygodniu | L43: Liczba tygodni (pole nie dotyczy st.niesta- cjonar- nych i podypl.) | M43: Liczba godzin w roku | N43: Stawka za godzinę | P43: Kwota do wypłaty | R43: Dekret księgowy
R44: =IF(A44="","",VLOOKUP(A44,dane!$A$27:B$38,2,0)) | S44: =IF(B44="","",VLOOKUP(B44,dane!$A$41:B$75,2,0)) | T44: =IF(C44="","",VLOOKUP(C44,dane!$A$80:B$168,2,0)) | U44: =IF(D44="","",VLOOKUP(D44,dane!$A$178:$B$183,2,0)) | V44: =IF(E44="","",VLOOKUP(E44,dane!A$171:B$175,2,0)) | W44: =IF(F44="","",F44) | X44: =IF(G44="","",IF(D44="DOKTORANCKIE","0",IF(D44="STAŻ ARTYSTYCZNY","0",IF(D44="STACJONARNE","3",IF(D44="NIESTACJONARNE","3",IF(D44="PODYPLOMOWE","3",IF(D44="KURS PRZYGOTOWAWCZY","3",IF(D44="KURS KONSULTACYJNY","3",IF(D44="STACJONARNE PB","3")))))))))
R45: =IF(A45="","",VLOOKUP(A45,dane!$A$27:B$38,2,0)) | S45: =IF(B45="","",VLOOKUP(B45,dane!$A$41:B$75,2,0)) | T45: =IF(C45="","",VLOOKUP(C45,dane!$A$80:B$168,2,0)) | U45: =IF(D45="","",VLOOKUP(D45,dane!$A$178:$B$183,2,0)) | V45: =IF(E45="","",VLOOKUP(E45,dane!A$171:B$175,2,0)) | W45: =IF(F45="","",F45) | X45: =IF(G45="","",IF(D45="DOKTORANCKIE","0",IF(D45="STAŻ ARTYSTYCZNY","0",IF(D45="STACJONARNE","3",IF(D45="NIESTACJONARNE","3",IF(D45="PODYPLOMOWE","3",IF(D45="KURS PRZYGOTOWAWCZY","3",IF(D45="KURS KONSULTACYJNY","3",IF(D45="STACJONARNE PB","3")))))))))
K46: =IF(OR(D46="niestacjonarne",D46="podyplomowe",D16="stacjonarne pb"),"-",IF(B46="","",I46*J46)) | M46: =IF(OR(D46="niestacjonarne",D46="PODYPLOMOWE",D16="stacjonarne pb"),I46*J46,IF(K46="","",K46*L46)) | P46: =IF(M46="","",M46*N46) | R46: =IF(A46="","",VLOOKUP(A46,dane!$A$27:B$38,2,0)) | S46: =IF(B46="","",VLOOKUP(B46,dane!$A$41:B$75,2,0)) | T46: =IF(C46="","",VLOOKUP(C46,dane!$A$80:B$168,2,0)) | U46: =IF(D46="","",VLOOKUP(D46,dane!$A$178:$B$183,2,0)) | V46: =IF(E46="","",VLOOKUP(E46,dane!A$171:B$175,2,0)) | W46: =IF(F46="","",F46) | X46: =IF(G46="","",IF(D46="DOKTORANCKIE","0",IF(D46="STAŻ ARTYSTYCZNY","0",IF(D46="STACJONARNE","3",IF(D46="NIESTACJONARNE","3",IF(D46="PODYPLOMOWE","3",IF(D46="KURS PRZYGOTOWAWCZY","3",IF(D46="KURS KONSULTACYJNY","3",IF(D46="STACJONARNE PB","3")))))))))
K47: =IF(OR(D47="niestacjonarne",D47="podyplomowe",D17="stacjonarne pb"),"-",IF(B47="","",I47*J47)) | M47: =IF(OR(D47="niestacjonarne",D47="PODYPLOMOWE",D17="stacjonarne pb"),I47*J47,IF(K47="","",K47*L47)) | P47: =IF(M47="","",M47*N47) | R47: =IF(A47="","",VLOOKUP(A47,dane!$A$27:B$38,2,0)) | S47: =IF(B47="","",VLOOKUP(B47,dane!$A$41:B$75,2,0)) | T47: =IF(C47="","",VLOOKUP(C47,dane!$A$80:B$168,2,0)) | U47: =IF(D47="","",VLOOKUP(D47,dane!$A$178:$B$183,2,0)) | V47: =IF(E47="","",VLOOKUP(E47,dane!A$171:B$175,2,0)) | W47: =IF(F47="","",F47) | X47: =IF(G47="","",IF(D47="DOKTORANCKIE","0",IF(D47="STAŻ ARTYSTYCZNY","0",IF(D47="STACJONARNE","3",IF(D47="NIESTACJONARNE","3",IF(D47="PODYPLOMOWE","3",IF(D47="KURS PRZYGOTOWAWCZY","3",IF(D47="KURS KONSULTACYJNY","3",IF(D47="STACJONARNE PB","3")))))))))
K48: =IF(OR(D48="niestacjonarne",D48="podyplomowe",D18="stacjonarne pb"),"-",IF(B48="","",I48*J48)) | M48: =IF(OR(D48="niestacjonarne",D48="PODYPLOMOWE",D18="stacjonarne pb"),I48*J48,IF(K48="","",K48*L48)) | P48: =IF(M48="","",M48*N48) | R48: =IF(A48="","",VLOOKUP(A48,dane!$A$27:B$38,2,0)) | S48: =IF(B48="","",VLOOKUP(B48,dane!$A$41:B$75,2,0)) | T48: =IF(C48="","",VLOOKUP(C48,dane!$A$80:B$168,2,0)) | U48: =IF(D48="","",VLOOKUP(D48,dane!$A$178:$B$183,2,0)) | V48: =IF(E48="","",VLOOKUP(E48,dane!A$171:B$175,2,0)) | W48: =IF(F48="","",F48) | X48: =IF(G48="","",IF(D48="DOKTORANCKIE","0",IF(D48="STAŻ ARTYSTYCZNY","0",IF(D48="STACJONARNE","3",IF(D48="NIESTACJONARNE","3",IF(D48="PODYPLOMOWE","3",IF(D48="KURS PRZYGOTOWAWCZY","3",IF(D48="KURS KONSULTACYJNY","3",IF(D48="STACJONARNE PB","3")))))))))
K49: =IF(OR(D49="niestacjonarne",D49="podyplomowe",D19="stacjonarne pb"),"-",IF(B49="","",I49*J49)) | M49: =IF(OR(D49="niestacjonarne",D49="PODYPLOMOWE",D19="stacjonarne pb"),I49*J49,IF(K49="","",K49*L49)) | P49: =IF(M49="","",M49*N49) | R49: =IF(A49="","",VLOOKUP(A49,dane!$A$27:B$38,2,0)) | S49: =IF(B49="","",VLOOKUP(B49,dane!$A$41:B$75,2,0)) | T49: =IF(C49="","",VLOOKUP(C49,dane!$A$80:B$168,2,0)) | U49: =IF(D49="","",VLOOKUP(D49,dane!$A$178:$B$183,2,0)) | V49: =IF(E49="","",VLOOKUP(E49,dane!A$171:B$175,2,0)) | W49: =IF(F49="","",F49) | X49: =IF(G49="","",IF(D49="DOKTORANCKIE","0",IF(D49="STAŻ ARTYSTYCZNY","0",IF(D49="STACJONARNE","3",IF(D49="NIESTACJONARNE","3",IF(D49="PODYPLOMOWE","3",IF(D49="KURS PRZYGOTOWAWCZY","3",IF(D49="KURS KONSULTACYJNY","3",IF(D49="STACJONARNE PB","3")))))))))
K50: =IF(OR(D50="niestacjonarne",D50="podyplomowe",D20="stacjonarne pb"),"-",IF(B50="","",I50*J50)) | M50: =IF(OR(D50="niestacjonarne",D50="PODYPLOMOWE",D20="stacjonarne pb"),I50*J50,IF(K50="","",K50*L50)) | P50: =IF(M50="","",M50*N50) | R50: =IF(A50="","",VLOOKUP(A50,dane!$A$27:B$38,2,0)) | S50: =IF(B50="","",VLOOKUP(B50,dane!$A$41:B$75,2,0)) | T50: =IF(C50="","",VLOOKUP(C50,dane!$A$80:B$168,2,0)) | U50: =IF(D50="","",VLOOKUP(D50,dane!$A$178:$B$183,2,0)) | V50: =IF(E50="","",VLOOKUP(E50,dane!A$171:B$175,2,0)) | W50: =IF(F50="","",F50) | X50: =IF(G50="","",IF(D50="DOKTORANCKIE","0",IF(D50="STAŻ ARTYSTYCZNY","0",IF(D50="STACJONARNE","3",IF(D50="NIESTACJONARNE","3",IF(D50="PODYPLOMOWE","3",IF(D50="KURS PRZYGOTOWAWCZY","3",IF(D50="KURS KONSULTACYJNY","3",IF(D50="STACJONARNE PB","3")))))))))
K51: =IF(OR(D51="niestacjonarne",D51="podyplomowe",D21="stacjonarne pb"),"-",IF(B51="","",I51*J51)) | M51: =IF(OR(D51="niestacjonarne",D51="PODYPLOMOWE",D21="stacjonarne pb"),I51*J51,IF(K51="","",K51*L51)) | P51: =IF(M51="","",M51*N51) | R51: =IF(A51="","",VLOOKUP(A51,dane!$A$27:B$38,2,0)) | S51: =IF(B51="","",VLOOKUP(B51,dane!$A$41:B$75,2,0)) | T51: =IF(C51="","",VLOOKUP(C51,dane!$A$80:B$168,2,0)) | U51: =IF(D51="","",VLOOKUP(D51,dane!$A$178:$B$183,2,0)) | V51: =IF(E51="","",VLOOKUP(E51,dane!A$171:B$175,2,0)) | W51: =IF(F51="","",F51) | X51: =IF(G51="","",IF(D51="DOKTORANCKIE","0",IF(D51="STAŻ ARTYSTYCZNY","0",IF(D51="STACJONARNE","3",IF(D51="NIESTACJONARNE","3",IF(D51="PODYPLOMOWE","3",IF(D51="KURS PRZYGOTOWAWCZY","3",IF(D51="KURS KONSULTACYJNY","3",IF(D51="STACJONARNE PB","3")))))))))
K52: =IF(OR(D52="niestacjonarne",D52="podyplomowe",D22="stacjonarne pb"),"-",IF(B52="","",I52*J52)) | M52: =IF(OR(D52="niestacjonarne",D52="PODYPLOMOWE",D22="stacjonarne pb"),I52*J52,IF(K52="","",K52*L52)) | P52: =IF(M52="","",M52*N52) | R52: =IF(A52="","",VLOOKUP(A52,dane!$A$27:B$38,2,0)) | S52: =IF(B52="","",VLOOKUP(B52,dane!$A$41:B$75,2,0)) | T52: =IF(C52="","",VLOOKUP(C52,dane!$A$80:B$168,2,0)) | U52: =IF(D52="","",VLOOKUP(D52,dane!$A$178:$B$183,2,0)) | V52: =IF(E52="","",VLOOKUP(E52,dane!A$171:B$175,2,0)) | W52: =IF(F52="","",F52) | X52: =IF(G52="","",IF(D52="DOKTORANCKIE","0",IF(D52="STAŻ ARTYSTYCZNY","0",IF(D52="STACJONARNE","3",IF(D52="NIESTACJONARNE","3",IF(D52="PODYPLOMOWE","3",IF(D52="KURS PRZYGOTOWAWCZY","3",IF(D52="KURS KONSULTACYJNY","3",IF(D52="STACJONARNE PB","3")))))))))
K53: =IF(OR(D53="niestacjonarne",D53="podyplomowe",D23="stacjonarne pb"),"-",IF(B53="","",I53*J53)) | M53: =IF(OR(D53="niestacjonarne",D53="PODYPLOMOWE",D23="stacjonarne pb"),I53*J53,IF(K53="","",K53*L53)) | P53: =IF(M53="","",M53*N53) | R53: =IF(A53="","",VLOOKUP(A53,dane!$A$27:B$38,2,0)) | S53: =IF(B53="","",VLOOKUP(B53,dane!$A$41:B$75,2,0)) | T53: =IF(C53="","",VLOOKUP(C53,dane!$A$80:B$168,2,0)) | U53: =IF(D53="","",VLOOKUP(D53,dane!$A$178:$B$183,2,0)) | V53: =IF(E53="","",VLOOKUP(E53,dane!A$171:B$175,2,0)) | W53: =IF(F53="","",F53) | X53: =IF(G53="","",IF(D53="DOKTORANCKIE","0",IF(D53="STAŻ ARTYSTYCZNY","0",IF(D53="STACJONARNE","3",IF(D53="NIESTACJONARNE","3",IF(D53="PODYPLOMOWE","3",IF(D53="KURS PRZYGOTOWAWCZY","3",IF(D53="KURS KONSULTACYJNY","3",IF(D53="STACJONARNE PB","3")))))))))
L54: Razem: | M54: =SUM(M44:M53) -> 0 | P54: =SUM(P44:P53) -> 0
A56: ● | B56: Rozliczenie następuje za faktycznie przepracowane godziny ponadwymiarowe ponad pensum.
A57: ● | B57: Każda zmiana liczby godzin ponadwymiarowych wynikająca z obowiązującej organizacji roku wymaga pisemnej formy zatwierdzenia
E59: Stwierdzam zgodność liczby powierzonych godzin ponadwymiarowych z limitem z Regulaminu pracy
...

Sheet dane
B1: stacjonarne I i II | C1: niestacjonarne I i II, podyplomowe, staże, kursy | D1: doktoranckie
A2: st. i tytuł naukowy
A3: MAGISTER
A4: INŻYNIER
A5: MGR INŻ.
A6: DOKTOR (kw I st.)
A7: DOKTOR HAB. (kw II st.)
A8: PROF. SZT. MUZ.
A9: nauczyciel prowadzący obowiązkowe praktyki pedagog.
A11: STANOWISKO | B11: Umowa o pracę
A12: ASYSTENT | B12: 58
A13: ASYSTENT DOKTOR | B13: =+B12 -> 58
A14: ADIUNKT | B14: 85
A15: ADIUNKT DOKTOR HAB. | B15: 96
A16: DOCENT | B16: 85
A17: PROFESOR UMFC | B17: 96
A18: PROFESOR | B18: 116
A19: INSTRUKTOR | B19: 58
A20: LEKTOR | B20: 58
A21: WYKŁADOWCA | B21: 58
A22: WYKŁADOWCA DOKTOR | B22: =+B21 -> 58
A23: ST. WYKŁADOWCA | B23: 85
A24: ST. WYKŁADOWCA DR | B24: 85
A26: Wydział
A27: Kompozycji i Teorii Muzyki (110) | B27: 1 | C27: Wydział Kompozycji i Teorii Muzyki
A28: Dyrygentury Symfoniczno-Operowej (100) | B28: 2 | C28: Wydział Dyrygentury Symfoniczno-Operowej
A29: Instrumentalny (300) | B29: 3 | C29: Wydział Instrumentalny
A30: Wokalno-Aktorski (400) | B30: 4 | C30: Wydział Wokalno-Aktorski
A31: Dyrygentury i Wokalistyki Chóralnej, Edukacji Muzycznej i Rytmiki (500) | B31: 5 | C31: Wydział Dyrygentury i Wokalistyki Chóralnej, Edukacji Muzycznej i Rytmiki
A32: Reżyserii Dźwięku (600) | B32: 6 | C32: Wydział Reżyserii Dźwięku
A33: Tańca (508) | B33: 5 | C33: Wydział Tańca
A34: Muzyki Kościelnej (509) | B34: 5 | C34: Wydział Muzyki Kościelnej
A35: Jazzu i World Music (310) | B35: 3 | C35: Wydział Jazzu i Muzyki Estradowej
A36: Instrumentalno-Pedag. / Białystok (700) | B36: 7 | C36: Filia w Białymstoku
A37: Kolegium Pedagogiczne (507) | B37: - | C37: Kolegium Pedagogiczne
A38: Kolegium NHiJO (104) | B38: - | C38: Kolegium Nauk Humanistycznych i Języków Obcych
A40: Kierunek
A41: DYRYGENTURA | B41: 10 | C41: DYRYGENTURA
A42: EDUKACJA ARTYSTYCZNA W ZAKRESIE SZTUKI MUZYCZNEJ | B42: 14 | C42: EDUKACJA ARTYSTYCZNA W ZAKRESIE SZTUKI MUZYCZNEJ
A43: INSTRUMENTALISTYKA | B43: 12 | C43: INSTRUMENTALISTYKA
...
