Workbook

Sheet PENSUM, GPW i ZESTAWIENIE
N2: Warszawa, dnia | O2: =TODAY() -> 44823
A7: Pan/i | B7: ASYSTENT | D7: X Y
B8: stanowisko | D8: tytuł/stopień, imię i nazwisko
A10: Informuję, że w roku akademickim 2022/2023 przewiduje się dla Pana/Pani prowadzenie zajęć dydaktycznych w następującym wymiarze:
A12: PENSUM DYDAKTYCZNE
A13: Wydział | B13: Kierunek studiów / Nazwa studiów podyplomowych | C13: Specjalność | D13: Forma studiów (stacjonarne, niestacjonarne, podyplomowe, staż, kurs przygotowawczy, kurs konsultacyjny) | E13: Poziom studiów | F13: Rok studiów | G13: Przedmiot | H13: Rodzaj zajęć | I13: Liczba studentów lub grup studentów | J13: Liczba godzin: tygodniowo (na studenta/ grupę) w roku (dla st.niestacjonarnych i podypl.) | K13: Ogólna liczba godzin w tygodniu | L13: Liczba tygodni (pole nie dotyczy st.niesta- cjonar- nych i podypl.) | M13: Liczba godzin w roku | N13: Dekret księgowy | U13: Struktura
K14: =IF(OR(D14="niestacjonarne",D14="podyplomowe",D14="stacjonarne pb"),"-",IF(B14="","",I14*J14)) | M14: =IF(OR(D14="niestacjonarne",D14="PODYPLOMOWE",D14="stacjonarne pb"),I14*J14,IF(K14="","",K14*L14)) | N14: =IF(A14="","",VLOOKUP(A14,dane!A$27:B$38,2,0)) | O14: =IF(B14="","",VLOOKUP(B14,dane!A$41:B$75,2,0)) | P14: =IF(C14="","",VLOOKUP(C14,dane!A$80:B$168,2,0)) | Q14: =IF(D14="","",VLOOKUP(D14,dane!A$178:B$183,2,0)) | R14: =IF(E14="","",VLOOKUP(E14,dane!A$171:B$175,2,0)) | S14: =IF(F14="","",F14) | T14: =IF(G14="","",IF(D14="STAŻ ARTYSTYCZNY","0",IF(D14="STACJONARNE","3",IF(D14="NIESTACJONARNE","3",IF(D14="PODYPLOMOWE","3",IF(D14="KURS PRZYGOTOWAWCZY","3",IF(D14="KURS KONSULTACYJNY","3",IF(D14="STACJONARNE PB","3")))))))) | U14: =IF(M14="","",ROUND(M14/$M$25,5))
K15: =IF(OR(D15="niestacjonarne",D15="podyplomowe",D15="stacjonarne pb"),"-",IF(B15="","",I15*J15)) | M15: =IF(OR(D15="niestacjonarne",D15="PODYPLOMOWE",D15="stacjonarne pb"),I15*J15,IF(K15="","",K15*L15)) | N15: =IF(A15="","",VLOOKUP(A15,dane!A$27:B$38,2,0)) | O15: =IF(B15="","",VLOOKUP(B15,dane!A$41:B$75,2,0)) | P15: =IF(C15="","",VLOOKUP(C15,dane!A$80:B$168,2,0)) | Q15: =IF(D15="","",VLOOKUP(D15,dane!A$178:B$183,2,0)) | R15: =IF(E15="","",VLOOKUP(E15,dane!A$171:B$175,2,0)) | S15: =IF(F15="","",F15) | T15: =IF(G15="","",IF(D15="STAŻ ARTYSTYCZNY","0",IF(D15="STACJONARNE","3",IF(D15="NIESTACJONARNE","3",IF(D15="PODYPLOMOWE","3",IF(D15="KURS PRZYGOTOWAWCZY","3",IF(D15="KURS KONSULTACYJNY","3",IF(D15="STACJONARNE PB","3")))))))) | U15: =IF(M15="","",ROUND(M15/$M$25,5))
K16: =IF(OR(D16="niestacjonarne",D16="podyplomowe",D16="stacjonarne pb"),"-",IF(B16="","",I16*J16)) | M16: =IF(OR(D16="niestacjonarne",D16="PODYPLOMOWE",D16="stacjonarne pb"),I16*J16,IF(K16="","",K16*L16)) | N16: =IF(A16="","",VLOOKUP(A16,dane!A$27:B$38,2,0)) | O16: =IF(B16="","",VLOOKUP(B16,dane!A$41:B$75,2,0)) | P16: =IF(C16="","",VLOOKUP(C16,dane!A$80:B$168,2,0)) | Q16: =IF(D16="","",VLOOKUP(D16,dane!A$178:B$183,2,0)) | R16: =IF(E16="","",VLOOKUP(E16,dane!A$171:B$175,2,0)) | S16: =IF(F16="","",F16) | T16: =IF(G16="","",IF(D16="STAŻ ARTYSTYCZNY","0",IF(D16="STACJONARNE","3",IF(D16="NIESTACJONARNE","3",IF(D16="PODYPLOMOWE","3",IF(D16="KURS PRZYGOTOWAWCZY","3",IF(D16="KURS KONSULTACYJNY","3",IF(D16="STACJONARNE PB","3")))))))) | U16: =IF(M16="","",ROUND(M16/$M$25,5))
K17: =IF(OR(D17="niestacjonarne",D17="podyplomowe",D17="stacjonarne pb"),"-",IF(B17="","",I17*J17)) | M17: =IF(OR(D17="niestacjonarne",D17="PODYPLOMOWE",D17="stacjonarne pb"),I17*J17,IF(K17="","",K17*L17)) | N17: =IF(A17="","",VLOOKUP(A17,dane!A$27:B$38,2,0)) | O17: =IF(B17="","",VLOOKUP(B17,dane!A$41:B$75,2,0)) | P17: =IF(C17="","",VLOOKUP(C17,dane!A$80:B$168,2,0)) | Q17: =IF(D17="","",VLOOKUP(D17,dane!A$178:B$183,2,0)) | R17: =IF(E17="","",VLOOKUP(E17,dane!A$171:B$175,2,0)) | S17: =IF(F17="","",F17) | T17: =IF(G17="","",IF(D17="STAŻ ARTYSTYCZNY","0",IF(D17="STACJONARNE","3",IF(D17="NIESTACJONARNE","3",IF(D17="PODYPLOMOWE","3",IF(D17="KURS PRZYGOTOWAWCZY","3",IF(D17="KURS KONSULTACYJNY","3",IF(D17="STACJONARNE PB","3")))))))) | U17: =IF(M17="","",ROUND(M17/$M$25,5))
K18: =IF(OR(D18="niestacjonarne",D18="podyplomowe",D18="stacjonarne pb"),"-",IF(B18="","",I18*J18)) | M18: =IF(OR(D18="niestacjonarne",D18="PODYPLOMOWE",D18="stacjonarne pb"),I18*J18,IF(K18="","",K18*L18)) | N18: =IF(A18="","",VLOOKUP(A18,dane!A$27:B$38,2,0)) | O18: =IF(B18="","",VLOOKUP(B18,dane!A$41:B$75,2,0)) | P18: =IF(C18="","",VLOOKUP(C18,dane!A$80:B$168,2,0)) | Q18: =IF(D18="","",VLOOKUP(D18,dane!A$178:B$183,2,0)) | R18: =IF(E18="","",VLOOKUP(E18,dane!A$171:B$175,2,0)) | S18: =IF(F18="","",F18) | T18: =IF(G18="","",IF(D18="STAŻ ARTYSTYCZNY","0",IF(D18="STACJONARNE","3",IF(D18="NIESTACJONARNE","3",IF(D18="PODYPLOMOWE","3",IF(D18="KURS PRZYGOTOWAWCZY","3",IF(D18="KURS KONSULTACYJNY","3",IF(D18="STACJONARNE PB","3")))))))) | U18: =IF(M18="","",ROUND(M18/$M$25,5))
K19: =IF(OR(D19="niestacjonarne",D19="podyplomowe",D19="stacjonarne pb"),"-",IF(B19="","",I19*J19)) | M19: =IF(OR(D19="niestacjonarne",D19="PODYPLOMOWE",D19="stacjonarne pb"),I19*J19,IF(K19="","",K19*L19)) | N19: =IF(A19="","",VLOOKUP(A19,dane!A$27:B$38,2,0)) | O19: =IF(B19="","",VLOOKUP(B19,dane!A$41:B$75,2,0)) | P19: =IF(C19="","",VLOOKUP(C19,dane!A$80:B$168,2,0)) | Q19: =IF(D19="","",VLOOKUP(D19,dane!A$178:B$183,2,0)) | R19: =IF(E19="","",VLOOKUP(E19,dane!A$171:B$175,2,0)) | S19: =IF(F19="","",F19) | T19: =IF(G19="","",IF(D19="STAŻ ARTYSTYCZNY","0",IF(D19="STACJONARNE","3",IF(D19="NIESTACJONARNE","3",IF(D19="PODYPLOMOWE","3",IF(D19="KURS PRZYGOTOWAWCZY","3",IF(D19="KURS KONSULTACYJNY","3",IF(D19="STACJONARNE PB","3")))))))) | U19: =IF(M19="","",ROUND(M19/$M$25,5))
K20: =IF(OR(D20="niestacjonarne",D20="podyplomowe",D20="stacjonarne pb"),"-",IF(B20="","",I20*J20)) | M20: =IF(OR(D20="niestacjonarne",D20="PODYPLOMOWE",D20="stacjonarne pb"),I20*J20,IF(K20="","",K20*L20)) | N20: =IF(A20="","",VLOOKUP(A20,dane!A$27:B$38,2,0)) | O20: =IF(B20="","",VLOOKUP(B20,dane!A$41:B$75,2,0)) | P20: =IF(C20="","",VLOOKUP(C20,dane!A$80:B$168,2,0)) | Q20: =IF(D20="","",VLOOKUP(D20,dane!A$178:B$183,2,0)) | R20: =IF(E20="","",VLOOKUP(E20,dane!A$171:B$175,2,0)) | S20: =IF(F20="","",F20) | T20: =IF(G20="","",IF(D20="STAŻ ARTYSTYCZNY","0",IF(D20="STACJONARNE","3",IF(D20="NIESTACJONARNE","3",IF(D20="PODYPLOMOWE","3",IF(D20="KURS PRZYGOTOWAWCZY","3",IF(D20="KURS KONSULTACYJNY","3",IF(D20="STACJONARNE PB","3")))))))) | U20: =IF(M20="","",ROUND(M20/$M$25,5))
K21: =IF(OR(D21="niestacjonarne",D21="podyplomowe",D21="stacjonarne pb"),"-",IF(B21="","",I21*J21)) | M21: =IF(OR(D21="niestacjonarne",D21="PODYPLOMOWE",D21="stacjonarne pb"),I21*J21,IF(K21="","",K21*L21)) | N21: =IF(A21="","",VLOOKUP(A21,dane!A$27:B$38,2,0)) | O21: =IF(B21="","",VLOOKUP(B21,dane!A$41:B$75,2,0)) | P21: =IF(C21="","",VLOOKUP(C21,dane!A$80:B$168,2,0)) | Q21: =IF(D21="","",VLOOKUP(D21,dane!A$178:B$183,2,0)) | R21: =IF(E21="","",VLOOKUP(E21,dane!A$171:B$175,2,0)) | S21: =IF(F21="","",F21) | T21: =IF(G21="","",IF(D21="STAŻ ARTYSTYCZNY","0",IF(D21="STACJONARNE","3",IF(D21="NIESTACJONARNE","3",IF(D21="PODYPLOMOWE","3",IF(D21="KURS PRZYGOTOWAWCZY","3",IF(D21="KURS KONSULTACYJNY","3",IF(D21="STACJONARNE PB","3")))))))) | U21: =IF(M21="","",ROUND(M21/$M$25,5))
K22: =IF(OR(D22="niestacjonarne",D22="podyplomowe",D22="stacjonarne pb"),"-",IF(B22="","",I22*J22)) | M22: =IF(OR(D22="niestacjonarne",D22="PODYPLOMOWE",D22="stacjonarne pb"),I22*J22,IF(K22="","",K22*L22)) | N22: =IF(A22="","",VLOOKUP(A22,dane!A$27:B$38,2,0)) | O22: =IF(B22="","",VLOOKUP(B22,dane!A$41:B$75,2,0)) | P22: =IF(C22="","",VLOOKUP(C22,dane!A$80:B$168,2,0)) | Q22: =IF(D22="","",VLOOKUP(D22,dane!A$178:B$183,2,0)) | R22: =IF(E22="","",VLOOKUP(E22,dane!A$171:B$175,2,0)) | S22: =IF(F22="","",F22) | T22: =IF(G22="","",IF(D22="STAŻ ARTYSTYCZNY","0",IF(D22="STACJONARNE","3",IF(D22="NIESTACJONARNE","3",IF(D22="PODYPLOMOWE","3",IF(D22="KURS PRZYGOTOWAWCZY","3",IF(D22="KURS KONSULTACYJNY","3",IF(D22="STACJONARNE PB","3")))))))) | U22: =IF(M22="","",ROUND(M22/$M$25,5))
K23: =IF(OR(D23="niestacjonarne",D23="podyplomowe",D23="stacjonarne pb"),"-",IF(B23="","",I23*J23)) | M23: =IF(OR(D23="niestacjonarne",D23="PODYPLOMOWE",D23="stacjonarne pb"),I23*J23,IF(K23="","",K23*L23)) | N23: =IF(A23="","",VLOOKUP(A23,dane!A$27:B$38,2,0)) | O23: =IF(B23="","",VLOOKUP(B23,dane!A$41:B$75,2,0)) | P23: =IF(C23="","",VLOOKUP(C23,dane!A$80:B$168,2,0)) | Q23: =IF(D23="","",VLOOKUP(D23,dane!A$178:B$183,2,0)) | R23: =IF(E23="","",VLOOKUP(E23,dane!A$171:B$175,2,0)) | S23: =IF(F23="","",F23) | T23: =IF(G23="","",IF(D23="STAŻ ARTYSTYCZNY","0",IF(D23="STACJONARNE","3",IF(D23="NIESTACJONARNE","3",IF(D23="PODYPLOMOWE","3",IF(D23="KURS PRZYGOTOWAWCZY","3",IF(D23="KURS KONSULTACYJNY","3",IF(D23="STACJONARNE PB","3")))))))) | U23: =IF(M23="","",ROUND(M23/$M$25,5))
K24: =IF(OR(D24="niestacjonarne",D24="podyplomowe",D24="stacjonarne pb"),"-",IF(B24="","",I24*J24)) | M24: =IF(OR(D24="niestacjonarne",D24="PODYPLOMOWE",D24="stacjonarne pb"),I24*J24,IF(K24="","",K24*L24)) | N24: =IF(A24="","",VLOOKUP(A24,dane!A$27:B$38,2,0)) | O24: =IF(B24="","",VLOOKUP(B24,dane!A$41:B$75,2,0)) | P24: =IF(C24="","",VLOOKUP(C24,dane!A$80:B$168,2,0)) | Q24: =IF(D24="","",VLOOKUP(D24,dane!A$178:B$183,2,0)) | R24: =IF(E24="","",VLOOKUP(E24,dane!A$171:B$175,2,0)) | S24: =IF(F24="","",F24) | T24: =IF(G24="","",IF(D24="STAŻ ARTYSTYCZNY","0",IF(D24="STACJONARNE","3",IF(D24="NIESTACJONARNE","3",IF(D24="PODYPLOMOWE","3",IF(D24="KURS PRZYGOTOWAWCZY","3",IF(D24="KURS KONSULTACYJNY","3",IF(D24="STACJONARNE PB","3")))))))) | U24: =IF(M24="","",ROUND(M24/$M$25,5))
L25: Razem: | M25: =SUM(M14:M24) -> 0 | U25: =SUM(U14:V24) -> 0
B30: .......................................................................................................................................................... | H30: ...........................................................................................................................................
B31: Przyjmuję do wiadomości i wyrażam zgodę na pracę w proponowanym wymiarze godzin dydaktycznych | H31: podpis Dziekana/Kierownika podstawowej jednostki organizacyjnej
M35: Warszawa, dnia | P35: =TODAY() -> 44823
A38: =A7 -> Pan/i | B38: =$B$7 -> ASYSTENT | D38: =$D$7 -> X Y
B39: stanowisko | D39: tytuł/stopień, imię i nazwisko
A40: =A10 -> Informuję, że w roku akademickim 2022/2023 przewiduje się dla Pana/Pani prowadzenie zajęć dydaktycznych w następującym wymiarze:
A42: GODZINY PONADWYMIAROWE
A43: Wydział | B43: Kierunek studiów / Nazwa studiów podyplomowych | C43: Specjalność | D43: =D13 -> Forma studiów (stacjonarne, niestacjonarne, podyplomowe, staż, kurs przygotowawczy, kurs konsultacyjny) | E43: Poziom studiów | F43: Rok studiów | G43: Przedmiot | H43: Rodzaj zajęć | I43: Liczba studentów lub grup studentów | J43: Liczba godzin: tygodniowo (na studenta/ grupę) w roku (dla st.niestacjo - narnych i podypl.) | K43: Ogólna liczba godzin w tygodniu | L43: Liczba tygodni (pole nie dotyczy st.niesta- cjonar- nych i podypl.) | M43: Liczba godzin w roku | N43: Stawka za godzinę | P43: Kwota do wypłaty | R43: Dekret księgowy
R44: =IF(A44="","",VLOOKUP(A44,dane!$A$27:B$38,2,0)) | S44: =IF(B44="","",VLOOKUP(B44,dane!$A$41:B$75,2,0)) | T44: =IF(C44="","",VLOOKUP(C44,dane!$A$80:B$168,2,0)) | U44: =IF(D44="","",VLOOKUP(D44,dane!$A$178:$B$183,2,0)) | V44: =IF(E44="","",VLOOKUP(E44,dane!A$171:B$175,2,0)) | W44: =IF(F44="","",F44) | X44: =IF(G44="","",IF(D44="DOKTORANCKIE","0",IF(D44="STAŻ ARTYSTYCZNY","0",IF(D44="STACJONARNE","3",IF(D44="NIESTACJONARNE","3",IF(D44="PODYPLOMOWE","3",IF(D44="KURS PRZYGOTOWAWCZY","3",IF(D44="KURS KONSULTACYJNY","3",IF(D44="STACJONARNE PB","3")))))))))
R45: =IF(A45="","",VLOOKUP(A45,dane!$A$27:B$38,2,0)) | S45: =IF(B45="","",VLOOKUP(B45,dane!$A$41:B$75,2,0)) | T45: =IF(C45="","",VLOOKUP(C45,dane!$A$80:B$168,2,0)) | U45: =IF(D45="","",VLOOKUP(D45,dane!$A$178:$B$183,2,0)) | V45: =IF(E45="","",VLOOKUP(E45,dane!A$171:B$175,2,0)) | W45: =IF(F45="","",F45) | X45: =IF(G45="","",IF(D45="DOKTORANCKIE","0",IF(D45="STAŻ ARTYSTYCZNY","0",IF(D45="STACJONARNE","3",IF(D45="NIESTACJONARNE","3",IF(D45="PODYPLOMOWE","3",IF(D45="KURS PRZYGOTOWAWCZY","3",IF(D45="KURS KONSULTACYJNY","3",IF(D45="STACJONARNE PB","3")))))))))
K46: =IF(OR(D46="niestacjonarne",D46="podyplomowe",D16="stacjonarne pb"),"-",IF(B46="","",I46*J46)) | M46: =IF(OR(D46="niestacjonarne",D46="PODYPLOMOWE",D16="stacjonarne pb"),I46*J46,IF(K46="","",K46*L46)) | P46: =IF(M46="","",M46*N46) | R46: =IF(A46="","",VLOOKUP(A46,dane!$A$27:B$38,2,0)) | S46: =IF(B46="","",VLOOKUP(B46,dane!$A$41:B$75,2,0)) | T46: =IF(C46="","",VLOOKUP(C46,dane!$A$80:B$168,2,0)) | U46: =IF(D46="","",VLOOKUP(D46,dane!$A$178:$B$183,2,0)) | V46: =IF(E46="","",VLOOKUP(E46,dane!A$171:B$175,2,0)) | W46: =IF(F46="","",F46) | X46: =IF(G46="","",IF(D46="DOKTORANCKIE","0",IF(D46="STAŻ ARTYSTYCZNY","0",IF(D46="STACJONARNE","3",IF(D46="NIESTACJONARNE","3",IF(D46="PODYPLOMOWE","3",IF(D46="KURS PRZYGOTOWAWCZY","3",IF(D46="KURS KONSULTACYJNY","3",IF(D46="STACJONARNE PB","3")))))))))
K47: =IF(OR(D47="niestacjonarne",D47="podyplomowe",D17="stacjonarne pb"),"-",IF(B47="","",I47*J47)) | M47: =IF(OR(D47="niestacjonarne",D47="PODYPLOMOWE",D17="stacjonarne pb"),I47*J47,IF(K47="","",K47*L47)) | P47: =IF(M47="","",M47*N47) | R47: =IF(A47="","",VLOOKUP(A47,dane!$A$27:B$38,2,0)) | S47: =IF(B47="","",VLOOKUP(B47,dane!$A$41:B$75,2,0)) | T47: =IF(C47="","",VLOOKUP(C47,dane!$A$80:B$168,2,0)) | U47: =IF(D47="","",VLOOKUP(D47,dane!$A$178:$B$183,2,0)) | V47: =IF(E47="","",VLOOKUP(E47,dane!A$171:B$175,2,0)) | W47: =IF(F47="","",F47) | X47: =IF(G47="","",IF(D47="DOKTORANCKIE","0",IF(D47="STAŻ ARTYSTYCZNY","0",IF(D47="STACJONARNE","3",IF(D47="NIESTACJONARNE","3",IF(D47="PODYPLOMOWE","3",IF(D47="KURS PRZYGOTOWAWCZY","3",IF(D47="KURS KONSULTACYJNY","3",IF(D47="STACJONARNE PB","3")))))))))
K48: =IF(OR(D48="niestacjonarne",D48="podyplomowe",D18="stacjonarne pb"),"-",IF(B48="","",I48*J48)) | M48: =IF(OR(D48="niestacjonarne",D48="PODYPLOMOWE",D18="stacjonarne pb"),I48*J48,IF(K48="","",K48*L48)) | P48: =IF(M48="","",M48*N48) | R48: =IF(A48="","",VLOOKUP(A48,dane!$A$27:B$38,2,0)) | S48: =IF(B48="","",VLOOKUP(B48,dane!$A$41:B$75,2,0)) | T48: =IF(C48="","",VLOOKUP(C48,dane!$A$80:B$168,2,0)) | U48: =IF(D48="","",VLOOKUP(D48,dane!$A$178:$B$183,2,0)) | V48: =IF(E48="","",VLOOKUP(E48,dane!A$171:B$175,2,0)) | W48: =IF(F48="","",F48) | X48: =IF(G48="","",IF(D48="DOKTORANCKIE","0",IF(D48="STAŻ ARTYSTYCZNY","0",IF(D48="STACJONARNE","3",IF(D48="NIESTACJONARNE","3",IF(D48="PODYPLOMOWE","3",IF(D48="KURS PRZYGOTOWAWCZY","3",IF(D48="KURS KONSULTACYJNY","3",IF(D48="STACJONARNE PB","3")))))))))
K49: =IF(OR(D49="niestacjonarne",D49="podyplomowe",D19="stacjonarne pb"),"-",IF(B49="","",I49*J49)) | M49: =IF(OR(D49="niestacjonarne",D49="PODYPLOMOWE",D19="stacjonarne pb"),I49*J49,IF(K49="","",K49*L49)) | P49: =IF(M49="","",M49*N49) | R49: =IF(A49="","",VLOOKUP(A49,dane!$A$27:B$38,2,0)) | S49: =IF(B49="","",VLOOKUP(B49,dane!$A$41:B$75,2,0)) | T49: =IF(C49="","",VLOOKUP(C49,dane!$A$80:B$168,2,0)) | U49: =IF(D49="","",VLOOKUP(D49,dane!$A$178:$B$183,2,0)) | V49: =IF(E49="","",VLOOKUP(E49,dane!A$171:B$175,2,0)) | W49: =IF(F49="","",F49) | X49: =IF(G49="","",IF(D49="DOKTORANCKIE","0",IF(D49="STAŻ ARTYSTYCZNY","0",IF(D49="STACJONARNE","3",IF(D49="NIESTACJONARNE","3",IF(D49="PODYPLOMOWE","3",IF(D49="KURS PRZYGOTOWAWCZY","3",IF(D49="KURS KONSULTACYJNY","3",IF(D49="STACJONARNE PB","3")))))))))
K50: =IF(OR(D50="niestacjonarne",D50="podyplomowe",D20="stacjonarne pb"),"-",IF(B50="","",I50*J50)) | M50: =IF(OR(D50="niestacjonarne",D50="PODYPLOMOWE",D20="stacjonarne pb"),I50*J50,IF(K50="","",K50*L50)) | P50: =IF(M50="","",M50*N50) | R50: =IF(A50="","",VLOOKUP(A50,dane!$A$27:B$38,2,0)) | S50: =IF(B50="","",VLOOKUP(B50,dane!$A$41:B$75,2,0)) | T50: =IF(C50="","",VLOOKUP(C50,dane!$A$80:B$168,2,0)) | U50: =IF(D50="","",VLOOKUP(D50,dane!$A$178:$B$183,2,0)) | V50: =IF(E50="","",VLOOKUP(E50,dane!A$171:B$175,2,0)) | W50: =IF(F50="","",F50) | X50: =IF(G50="","",IF(D50="DOKTORANCKIE","0",IF(D50="STAŻ ARTYSTYCZNY","0",IF(D50="STACJONARNE","3",IF(D50="NIESTACJONARNE","3",IF(D50="PODYPLOMOWE","3",IF(D50="KURS PRZYGOTOWAWCZY","3",IF(D50="KURS KONSULTACYJNY","3",IF(D50="STACJONARNE PB","3")))))))))
K51: =IF(OR(D51="niestacjonarne",D51="podyplomowe",D21="stacjonarne pb"),"-",IF(B51="","",I51*J51)) | M51: =IF(OR(D51="niestacjonarne",D51="PODYPLOMOWE",D21="stacjonarne pb"),I51*J51,IF(K51="","",K51*L51)) | P51: =IF(M51="","",M51*N51) | R51: =IF(A51="","",VLOOKUP(A51,dane!$A$27:B$38,2,0)) | S51: =IF(B51="","",VLOOKUP(B51,dane!$A$41:B$75,2,0)) | T51: =IF(C51="","",VLOOKUP(C51,dane!$A$80:B$168,2,0)) | U51: =IF(D51="","",VLOOKUP(D51,dane!$A$178:$B$183,2,0)) | V51: =IF(E51="","",VLOOKUP(E51,dane!A$171:B$175,2,0)) | W51: =IF(F51="","",F51) | X51: =IF(G51="","",IF(D51="DOKTORANCKIE","0",IF(D51="STAŻ ARTYSTYCZNY","0",IF(D51="STACJONARNE","3",IF(D51="NIESTACJONARNE","3",IF(D51="PODYPLOMOWE","3",IF(D51="KURS PRZYGOTOWAWCZY","3",IF(D51="KURS KONSULTACYJNY","3",IF(D51="STACJONARNE PB","3")))))))))
K52: =IF(OR(D52="niestacjonarne",D52="podyplomowe",D22="stacjonarne pb"),"-",IF(B52="","",I52*J52)) | M52: =IF(OR(D52="niestacjonarne",D52="PODYPLOMOWE",D22="stacjonarne pb"),I52*J52,IF(K52="","",K52*L52)) | P52: =IF(M52="","",M52*N52) | R52: =IF(A52="","",VLOOKUP(A52,dane!$A$27:B$38,2,0)) | S52: =IF(B52="","",VLOOKUP(B52,dane!$A$41:B$75,2,0)) | T52: =IF(C52="","",VLOOKUP(C52,dane!$A$80:B$168,2,0)) | U52: =IF(D52="","",VLOOKUP(D52,dane!$A$178:$B$183,2,0)) | V52: =IF(E52="","",VLOOKUP(E52,dane!A$171:B$175,2,0)) | W52: =IF(F52="","",F52) | X52: =IF(G52="","",IF(D52="DOKTORANCKIE","0",IF(D52="STAŻ ARTYSTYCZNY","0",IF(D52="STACJONARNE","3",IF(D52="NIESTACJONARNE","3",IF(D52="PODYPLOMOWE","3",IF(D52="KURS PRZYGOTOWAWCZY","3",IF(D52="KURS KONSULTACYJNY","3",IF(D52="STACJONARNE PB","3")))))))))
K53: =IF(OR(D53="niestacjonarne",D53="podyplomowe",D23="stacjonarne pb"),"-",IF(B53="","",I53*J53)) | M53: =IF(OR(D53="niestacjonarne",D53="PODYPLOMOWE",D23="stacjonarne pb"),I53*J53,IF(K53="","",K53*L53)) | P53: =IF(M53="","",M53*N53) | R53: =IF(A53="","",VLOOKUP(A53,dane!$A$27:B$38,2,0)) | S53: =IF(B53="","",VLOOKUP(B53,dane!$A$41:B$75,2,0)) | T53: =IF(C53="","",VLOOKUP(C53,dane!$A$80:B$168,2,0)) | U53: =IF(D53="","",VLOOKUP(D53,dane!$A$178:$B$183,2,0)) | V53: =IF(E53="","",VLOOKUP(E53,dane!A$171:B$175,2,0)) | W53: =IF(F53="","",F53) | X53: =IF(G53="","",IF(D53="DOKTORANCKIE","0",IF(D53="STAŻ ARTYSTYCZNY","0",IF(D53="STACJONARNE","3",IF(D53="NIESTACJONARNE","3",IF(D53="PODYPLOMOWE","3",IF(D53="KURS PRZYGOTOWAWCZY","3",IF(D53="KURS KONSULTACYJNY","3",IF(D53="STACJONARNE PB","3")))))))))
L54: Razem: | M54: =SUM(M44:M53) -> 0 | P54: =SUM(P44:P53) -> 0
A56: ● | B56: Rozliczenie następuje za faktycznie przepracowane godziny ponadwymiarowe ponad pensum.
A57: ● | B57: Każda zmiana liczby godzin ponadwymiarowych wynikająca z obowiązującej organizacji roku wymaga pisemnej formy zatwierdzenia
E59: Stwierdzam zgodność liczby powierzonych godzin ponadwymiarowych z limitem z Regulaminu pracy
B64: .......................................................................................................................................................... | E64: .................................................................................................................................................. | J64: ...........................................................................................................................................
B65: Przyjmuję do wiadomości i wyrażam zgodę na pracę w proponowanym wymiarze godzin dydaktycznych | J65: podpis Dziekana/Kierownika podstawowej jednostki organizacyjnej
E66: data i podpis pracownika Działu Nauczania
O68: wydruk z dnia: | P68: =TODAY() -> 44823 | T68: Strona 2 z 2
N69: Warszawa, dnia
A71: Zestawienie przepracowanych godzin w ramach realizacji pensum dydaktycznego w roku akademickim 2022/2023:
G72: w okresie od: | H72: X 2022 | L72: do: | M72: VI 2023
A74: Pan/i | B74: =B7 -> ASYSTENT | D74: =D7 -> X Y
B75: stanowisko | D75: tytuł/stopień, imię i nazwisko
A79: ZREALIZOWANE PENSUM DYDAKTYCZNE
A80: Wydział | B80: Kierunek studiów / Nazwa studiów podyplomowych | C80: Specjalność | D80: Forma studiów (stacjonarne, niestacjonarne, podyplomowe, staż, kurs przygotowawczy, kurs konsultacyjny) | E80: Poziom studiów | F80: Rok studiów | G80: Przedmiot | H80: Rodzaj zajęć | I80: Liczba studentów lub grup studentów | J80: Liczba godzin: tygodniowo (na studenta/ grupę) w roku (dla st.niestacjonarnych i podypl.) | K80: Ogólna liczba godzin w tygodniu | L80: Liczba tygodni (pole nie dotyczy st.niesta- cjonar- nych i podypl.) | M80: Liczba zrealizowanych godzin: | N80: Dekret księgowy | U80: Struktura
A81: =IF(A14<>"",A14,"") | B81: =IF(B14<>"",B14,"") | D81: =IF(D14<>"",D14,"") | E81: =IF(E14<>"",E14,"") | F81: =IF(F14<>"",F14,"") | G81: =IF(G14<>"",G14,"") | H81: =IF(H14<>"",H14,"") | I81: =IF(I14<>"",I14,0) -> 0 | J81: =IF(J14<>"",J14,0) -> 0 | K81: =IF(OR(D81="niestacjonarne",D81="podyplomowe",D81="stacjonarne pb"),"-",IF(B81="","",I81*J81)) | L81: =IF(L14<>"",L14,0) -> 0 | M81: =IF(M14<>"",M14,0) -> 0 | N81: =IF(A81="","",VLOOKUP(A81,dane!A$27:B$38,2,0)) | O81: =IF(B81="","",VLOOKUP(B81,dane!A$41:B$75,2,0)) | P81: =IF(C81="","",VLOOKUP(C81,dane!A$80:B$168,2,0)) | Q81: =IF(D81="","",VLOOKUP(D81,dane!A$178:B$183,2,0)) | R81: =IF(E81="","",VLOOKUP(E81,dane!A$171:B$175,2,0)) | S81: =IF(F81="","",F81) | T81: =IF(G81="","",IF(D81="STAŻ ARTYSTYCZNY","0",IF(D81="STACJONARNE","3",IF(D81="NIESTACJONARNE","3",IF(D81="PODYPLOMOWE","3",IF(D81="KURS PRZYGOTOWAWCZY","3",IF(D81="KURS KONSULTACYJNY","3",IF(D81="STACJONARNE PB","3")))))))) | U81: =IF(M81="","",ROUND(M81/$M$25,5)) -> #DIV/0!
A82: =IF(A15<>"",A15,"") | B82: =IF(B15<>"",B15,"") | C82: =IF(C15<>"",C15,"") | D82: =IF(D15<>"",D15,"") | E82: =IF(E15<>"",E15,"") | F82: =IF(F15<>"",F15,"") | G82: =IF(G15<>"",G15,"") | H82: =IF(H15<>"",H15,"") | I82: =IF(I15<>"",I15,0) -> 0 | J82: =IF(J15<>"",J15,0) -> 0 | K82: =IF(OR(D82="niestacjonarne",D82="podyplomowe",D82="stacjonarne pb"),"-",IF(B82="","",I82*J82)) | L82: =IF(L15<>"",L15,0) -> 0 | M82: =IF(M15<>"",M15,0) -> 0 | N82: =IF(A82="","",VLOOKUP(A82,dane!A$27:B$38,2,0)) | O82: =IF(B82="","",VLOOKUP(B82,dane!A$41:B$75,2,0)) | P82: =IF(C82="","",VLOOKUP(C82,dane!A$80:B$168,2,0)) | Q82: =IF(D82="","",VLOOKUP(D82,dane!A$178:B$183,2,0)) | R82: =IF(E82="","",VLOOKUP(E82,dane!A$171:B$175,2,0)) | S82: =IF(F82="","",F82) | T82: =IF(G82="","",IF(D82="STAŻ ARTYSTYCZNY","0",IF(D82="STACJONARNE","3",IF(D82="NIESTACJONARNE","3",IF(D82="PODYPLOMOWE","3",IF(D82="KURS PRZYGOTOWAWCZY","3",IF(D82="KURS KONSULTACYJNY","3",IF(D82="STACJONARNE PB","3")))))))) | U82: =IF(M82="","",ROUND(M82/$M$25,5)) -> #DIV/0!
A83: =IF(A16<>"",A16,"") | B83: =IF(B16<>"",B16,"") | C83: =IF(C16<>"",C16,"") | D83: =IF(D16<>"",D16,"") | E83: =IF(E16<>"",E16,"") | F83: =IF(F16<>"",F16,"") | G83: =IF(G16<>"",G16,"") | H83: =IF(H16<>"",H16,"") | I83: =IF(I16<>"",I16,0) -> 0 | J83: =IF(J16<>"",J16,0) -> 0 | K83: =IF(OR(D83="niestacjonarne",D83="podyplomowe",D83="stacjonarne pb"),"-",IF(B83="","",I83*J83)) | L83: =IF(L16<>"",L16,0) -> 0 | M83: =IF(M16<>"",M16,0) -> 0 | N83: =IF(A83="","",VLOOKUP(A83,dane!A$27:B$38,2,0)) | O83: =IF(B83="","",VLOOKUP(B83,dane!A$41:B$75,2,0)) | P83: =IF(C83="","",VLOOKUP(C83,dane!A$80:B$168,2,0)) | Q83: =IF(D83="","",VLOOKUP(D83,dane!A$178:B$183,2,0)) | R83: =IF(E83="","",VLOOKUP(E83,dane!A$171:B$175,2,0)) | S83: =IF(F83="","",F83) | T83: =IF(G83="","",IF(D83="STAŻ ARTYSTYCZNY","0",IF(D83="STACJONARNE","3",IF(D83="NIESTACJONARNE","3",IF(D83="PODYPLOMOWE","3",IF(D83="KURS PRZYGOTOWAWCZY","3",IF(D83="KURS KONSULTACYJNY","3",IF(D83="STACJONARNE PB","3")))))))) | U83: =IF(M83="","",ROUND(M83/$M$25,5)) -> #DIV/0!
A84: =IF(A17<>"",A17,"") | B84: =IF(B17<>"",B17,"") | C84: =IF(C17<>"",C17,"") | D84: =IF(D17<>"",D17,"") | E84: =IF(E17<>"",E17,"") | F84: =IF(F17<>"",F17,"") | G84: =IF(G17<>"",G17,"") | H84: =IF(H17<>"",H17,"") | I84: =IF(I17<>"",I17,0) -> 0 | J84: =IF(J17<>"",J17,0) -> 0 | K84: =IF(OR(D84="niestacjonarne",D84="podyplomowe",D84="stacjonarne pb"),"-",IF(B84="","",I84*J84)) | L84: =IF(L17<>"",L17,0) -> 0 | M84: =IF(M17<>"",M17,0) -> 0 | N84: =IF(A84="","",VLOOKUP(A84,dane!A$27:B$38,2,0)) | O84: =IF(B84="","",VLOOKUP(B84,dane!A$41:B$75,2,0)) | P84: =IF(C84="","",VLOOKUP(C84,dane!A$80:B$168,2,0)) | Q84: =IF(D84="","",VLOOKUP(D84,dane!A$178:B$183,2,0)) | R84: =IF(E84="","",VLOOKUP(E84,dane!A$171:B$175,2,0)) | S84: =IF(F84="","",F84) | T84: =IF(G84="","",IF(D84="STAŻ ARTYSTYCZNY","0",IF(D84="STACJONARNE","3",IF(D84="NIESTACJONARNE","3",IF(D84="PODYPLOMOWE","3",IF(D84="KURS PRZYGOTOWAWCZY","3",IF(D84="KURS KONSULTACYJNY","3",IF(D84="STACJONARNE PB","3")))))))) | U84: =IF(M84="","",ROUND(M84/$M$25,5)) -> #DIV/0!
A85: =IF(A18<>"",A18,"") | B85: =IF(B18<>"",B18,"") | C85: =IF(C18<>"",C18,"") | D85: =IF(D18<>"",D18,"") | E85: =IF(E18<>"",E18,"") | F85: =IF(F18<>"",F18,"") | G85: =IF(G18<>"",G18,"") | H85: =IF(H18<>"",H18,"") | I85: =IF(I18<>"",I18,0) -> 0 | J85: =IF(J18<>"",J18,0) -> 0 | K85: =IF(OR(D85="niestacjonarne",D85="podyplomowe",D85="stacjonarne pb"),"-",IF(B85="","",I85*J85)) | L85: =IF(L18<>"",L18,0) -> 0 | M85: =IF(M18<>"",M18,0) -> 0 | N85: =IF(A85="","",VLOOKUP(A85,dane!A$27:B$38,2,0)) | O85: =IF(B85="","",VLOOKUP(B85,dane!A$41:B$75,2,0)) | P85: =IF(C85="","",VLOOKUP(C85,dane!A$80:B$168,2,0)) | Q85: =IF(D85="","",VLOOKUP(D85,dane!A$178:B$183,2,0)) | R85: =IF(E85="","",VLOOKUP(E85,dane!A$171:B$175,2,0)) | S85: =IF(F85="","",F85) | T85: =IF(G85="","",IF(D85="STAŻ ARTYSTYCZNY","0",IF(D85="STACJONARNE","3",IF(D85="NIESTACJONARNE","3",IF(D85="PODYPLOMOWE","3",IF(D85="KURS PRZYGOTOWAWCZY","3",IF(D85="KURS KONSULTACYJNY","3",IF(D85="STACJONARNE PB","3")))))))) | U85: =IF(M85="","",ROUND(M85/$M$25,5)) -> #DIV/0!
A86: =IF(A19<>"",A19,"") | B86: =IF(B19<>"",B19,"") | C86: =IF(C19<>"",C19,"") | D86: =IF(D19<>"",D19,"") | E86: =IF(E19<>"",E19,"") | F86: =IF(F19<>"",F19,"") | G86: =IF(G19<>"",G19,"") | H86: =IF(H19<>"",H19,"") | I86: =IF(I19<>"",I19,0) -> 0 | J86: =IF(J19<>"",J19,0) -> 0 | K86: =IF(OR(D86="niestacjonarne",D86="podyplomowe",D86="stacjonarne pb"),"-",IF(B86="","",I86*J86)) | L86: =IF(L19<>"",L19,0) -> 0 | M86: =IF(M19<>"",M19,0) -> 0 | N86: =IF(A86="","",VLOOKUP(A86,dane!A$27:B$38,2,0)) | O86: =IF(B86="","",VLOOKUP(B86,dane!A$41:B$75,2,0)) | P86: =IF(C86="","",VLOOKUP(C86,dane!A$80:B$168,2,0)) | Q86: =IF(D86="","",VLOOKUP(D86,dane!A$178:B$183,2,0)) | R86: =IF(E86="","",VLOOKUP(E86,dane!A$171:B$175,2,0)) | S86: =IF(F86="","",F86) | T86: =IF(G86="","",IF(D86="STAŻ ARTYSTYCZNY","0",IF(D86="STACJONARNE","3",IF(D86="NIESTACJONARNE","3",IF(D86="PODYPLOMOWE","3",IF(D86="KURS PRZYGOTOWAWCZY","3",IF(D86="KURS KONSULTACYJNY","3",IF(D86="STACJONARNE PB","3")))))))) | U86: =IF(M86="","",ROUND(M86/$M$25,5)) -> #DIV/0!
A87: =IF(A20<>"",A20,"") | B87: =IF(B20<>"",B20,"") | C87: =IF(C20<>"",C20,"") | D87: =IF(D20<>"",D20,"") | E87: =IF(E20<>"",E20,"") | F87: =IF(F20<>"",F20,"") | G87: =IF(G20<>"",G20,"") | H87: =IF(H20<>"",H20,"") | I87: =IF(I20<>"",I20,0) -> 0 | J87: =IF(J20<>"",J20,0) -> 0 | K87: =IF(OR(D87="niestacjonarne",D87="podyplomowe",D87="stacjonarne pb"),"-",IF(B87="","",I87*J87)) | L87: =IF(L20<>"",L20,0) -> 0 | M87: =IF(M20<>"",M20,0) -> 0 | N87: =IF(A87="","",VLOOKUP(A87,dane!A$27:B$38,2,0)) | O87: =IF(B87="","",VLOOKUP(B87,dane!A$41:B$75,2,0)) | P87: =IF(C87="","",VLOOKUP(C87,dane!A$80:B$168,2,0)) | Q87: =IF(D87="","",VLOOKUP(D87,dane!A$178:B$183,2,0)) | R87: =IF(E87="","",VLOOKUP(E87,dane!A$171:B$175,2,0)) | S87: =IF(F87="","",F87) | T87: =IF(G87="","",IF(D87="STAŻ ARTYSTYCZNY","0",IF(D87="STACJONARNE","3",IF(D87="NIESTACJONARNE","3",IF(D87="PODYPLOMOWE","3",IF(D87="KURS PRZYGOTOWAWCZY","3",IF(D87="KURS KONSULTACYJNY","3",IF(D87="STACJONARNE PB","3")))))))) | U87: =IF(M87="","",ROUND(M87/$M$25,5)) -> #DIV/0!
A88: =IF(A21<>"",A21,"") | B88: =IF(B21<>"",B21,"") | C88: =IF(C21<>"",C21,"") | D88: =IF(D21<>"",D21,"") | E88: =IF(E21<>"",E21,"") | F88: =IF(F21<>"",F21,"") | G88: =IF(G21<>"",G21,"") | H88: =IF(H21<>"",H21,"") | I88: =IF(I21<>"",I21,0) -> 0 | J88: =IF(J21<>"",J21,0) -> 0 | K88: =IF(OR(D88="niestacjonarne",D88="podyplomowe",D88="stacjonarne pb"),"-",IF(B88="","",I88*J88)) | L88: =IF(L21<>"",L21,0) -> 0 | M88: =IF(M21<>"",M21,0) -> 0 | N88: =IF(A88="","",VLOOKUP(A88,dane!A$27:B$38,2,0)) | O88: =IF(B88="","",VLOOKUP(B88,dane!A$41:B$75,2,0)) | P88: =IF(C88="","",VLOOKUP(C88,dane!A$80:B$168,2,0)) | Q88: =IF(D88="","",VLOOKUP(D88,dane!A$178:B$183,2,0)) | R88: =IF(E88="","",VLOOKUP(E88,dane!A$171:B$175,2,0)) | S88: =IF(F88="","",F88) | T88: =IF(G88="","",IF(D88="STAŻ ARTYSTYCZNY","0",IF(D88="STACJONARNE","3",IF(D88="NIESTACJONARNE","3",IF(D88="PODYPLOMOWE","3",IF(D88="KURS PRZYGOTOWAWCZY","3",IF(D88="KURS KONSULTACYJNY","3",IF(D88="STACJONARNE PB","3")))))))) | U88: =IF(M88="","",ROUND(M88/$M$25,5)) -> #DIV/0!
A89: =IF(A22<>"",A22,"") | B89: =IF(B22<>"",B22,"") | C89: =IF(C22<>"",C22,"") | D89: =IF(D22<>"",D22,"") | E89: =IF(E22<>"",E22,"") | F89: =IF(F22<>"",F22,"") | G89: =IF(G22<>"",G22,"") | H89: =IF(H22<>"",H22,"") | I89: =IF(I22<>"",I22,0) -> 0 | J89: =IF(J22<>"",J22,0) -> 0 | K89: =IF(OR(D89="niestacjonarne",D89="podyplomowe",D89="stacjonarne pb"),"-",IF(B89="","",I89*J89)) | L89: =IF(L22<>"",L22,0) -> 0 | M89: =IF(M22<>"",M22,0) -> 0 | N89: =IF(A89="","",VLOOKUP(A89,dane!A$27:B$38,2,0)) | O89: =IF(B89="","",VLOOKUP(B89,dane!A$41:B$75,2,0)) | P89: =IF(C89="","",VLOOKUP(C89,dane!A$80:B$168,2,0)) | Q89: =IF(D89="","",VLOOKUP(D89,dane!A$178:B$183,2,0)) | R89: =IF(E89="","",VLOOKUP(E89,dane!A$171:B$175,2,0)) | S89: =IF(F89="","",F89) | T89: =IF(G89="","",IF(D89="STAŻ ARTYSTYCZNY","0",IF(D89="STACJONARNE","3",IF(D89="NIESTACJONARNE","3",IF(D89="PODYPLOMOWE","3",IF(D89="KURS PRZYGOTOWAWCZY","3",IF(D89="KURS KONSULTACYJNY","3",IF(D89="STACJONARNE PB","3")))))))) | U89: =IF(M89="","",ROUND(M89/$M$25,5)) -> #DIV/0!
A90: =IF(A23<>"",A23,"") | B90: =IF(B23<>"",B23,"") | C90: =IF(C23<>"",C23,"") | D90: =IF(D23<>"",D23,"") | E90: =IF(E23<>"",E23,"") | F90: =IF(F23<>"",F23,"") | G90: =IF(G23<>"",G23,"") | H90: =IF(H23<>"",H23,"") | I90: =IF(I23<>"",I23,0) -> 0 | J90: =IF(J23<>"",J23,0) -> 0 | K90: =IF(OR(D90="niestacjonarne",D90="podyplomowe",D90="stacjonarne pb"),"-",IF(B90="","",I90*J90)) | L90: =IF(L23<>"",L23,0) -> 0 | M90: =IF(M23<>"",M23,0) -> 0 | N90: =IF(A90="","",VLOOKUP(A90,dane!A$27:B$38,2,0)) | O90: =IF(B90="","",VLOOKUP(B90,dane!A$41:B$75,2,0)) | P90: =IF(C90="","",VLOOKUP(C90,dane!A$80:B$168,2,0)) | Q90: =IF(D90="","",VLOOKUP(D90,dane!A$178:B$183,2,0)) | R90: =IF(E90="","",VLOOKUP(E90,dane!A$171:B$175,2,0)) | S90: =IF(F90="","",F90) | T90: =IF(G90="","",IF(D90="STAŻ ARTYSTYCZNY","0",IF(D90="STACJONARNE","3",IF(D90="NIESTACJONARNE","3",IF(D90="PODYPLOMOWE","3",IF(D90="KURS PRZYGOTOWAWCZY","3",IF(D90="KURS KONSULTACYJNY","3",IF(D90="STACJONARNE PB","3")))))))) | U90: =IF(M90="","",ROUND(M90/$M$25,5)) -> #DIV/0!
A91: =IF(A24<>"",A24,"") | B91: =IF(B24<>"",B24,"") | C91: =IF(C24<>"",C24,"") | D91: =IF(D24<>"",D24,"") | E91: =IF(E24<>"",E24,"") | F91: =IF(F24<>"",F24,"") | G91: =IF(G24<>"",G24,"") | H91: =IF(H24<>"",H24,"") | I91: =IF(I24<>"",I24,0) -> 0 | J91: =IF(J24<>"",J24,0) -> 0 | K91: =IF(OR(D91="niestacjonarne",D91="podyplomowe",D91="stacjonarne pb"),"-",IF(B91="","",I91*J91)) | L91: =IF(L24<>"",L24,0) -> 0 | M91: =IF(M24<>"",M24,0) -> 0 | N91: =IF(A91="","",VLOOKUP(A91,dane!A$27:B$38,2,0)) | O91: =IF(B91="","",VLOOKUP(B91,dane!A$41:B$75,2,0)) | P91: =IF(C91="","",VLOOKUP(C91,dane!A$80:B$168,2,0)) | Q91: =IF(D91="","",VLOOKUP(D91,dane!A$178:B$183,2,0)) | R91: =IF(E91="","",VLOOKUP(E91,dane!A$171:B$175,2,0)) | S91: =IF(F91="","",F91) | T91: =IF(G91="","",IF(D91="STAŻ ARTYSTYCZNY","0",IF(D91="STACJONARNE","3",IF(D91="NIESTACJONARNE","3",IF(D91="PODYPLOMOWE","3",IF(D91="KURS PRZYGOTOWAWCZY","3",IF(D91="KURS KONSULTACYJNY","3",IF(D91="STACJONARNE PB","3")))))))) | U91: =IF(M91="","",ROUND(M91/$M$25,5)) -> #DIV/0!
L92: Liczba godzin zrealizowana w ramach pensum: | M92: =SUM(M81:M91) -> 0 | U92: =SUM(U81:V91) -> #DIV/0!
L93: PLANOWANA LICZBA GODZIN: | M93: =M25 -> 0
L94: =IF(M94<0,"Zwiększono liczbę godzin:",IF(M93-M92=0,"Pensum zrealizowano ","Liczba godzin niezrealizowanych w ramach pensum: ")) -> Pensum zrealizowano | M94: =IF(M93-M92=0,"-",M93-M92) -> -
A95: Potwierdzam realizację godzin dydaktycznych w ramach pensum w wymiarze wykazanym powyżej
B98: .......................................................................................................................................................... | H98: ...........................................................................................................................................
B99: podpis osoby składającej rozliczenie | H99: podpis Dziekana/Kierownika podstawowej jednostki organizacyjnej
M102: Warszawa, dnia
A105: Zestawienie roczne przepracowanych godzin ponadwymiarowych na studiach stacjonarnych - I, II, III stopnia.
G106: w okresie od: | H106: X 2022 | L106: do: | M106: VI 2023
A109: Pieczęć Wydziału/Studium
A110: Pan/i | B110: =$B$7 -> ASYSTENT | D110: =$D$7 -> X Y
B111: stanowisko | D111: tytuł/stopień, imię i nazwisko
A112: Wydział | B112: Kierunek studiów | C112: Specjalność | D112: Forma studiów (stacjonarne) | E112: Poziom studiów | F112: Rok studiów | G112: Przedmiot | H112: Liczba godzin ponadwymiarowych do rozliczenia | J112: Liczba zrealizowanych godzin ponadwymiarowych we wskazanym okresie | L112: Pozostało do zrealizowania i rozliczenia godzin ponadwymiarowych | N112: Stawka za godzinę | P112: Kwota do wypłaty | R112: Dekret księgowy
A113: =IF(A44=0,"",A44) | B113: =IF(B44=0,"",B44) | C113: =IF(C44=0,"",C44) | D113: =IF(OR(D44="stacjonarne",D44="stacjonarne pb",D44="doktoranckie",D44="szkoła doktorska"),D44,"") | E113: =IF(D113="","",E44) | F113: =IF(D113="","",F44) | G113: =IF(D113="","",G44) | H113: =IF(D113="","",M44) | J113: 0 | L113: =IF(D113="","",IF(H113-J113=0,0,H113-J113)) | N113: =IF(D113="","",N44) | P113: =IF(D113="","",J113*N113) | R113: =IF(D113="","",R44) | S113: =IF(D113="","",S44) | T113: =IF(D113="","",T44) | U113: =IF(D113="","",U44) | V113: =IF($D113="","",V44) | W113: =IF(D113="","",W44) | X113: =IF($D113="","",X44)
A114: =IF(A45=0,"",A45) | B114: =IF(B45=0,"",B45) | C114: =IF(C45=0,"",C45) | D114: =IF(OR(D45="stacjonarne",D45="stacjonarne pb",D45="doktoranckie",D45="szkoła doktorska"),D45,"") | E114: =IF(D114="","",E45) | F114: =IF(D114="","",F45) | G114: =IF(D114="","",G45) | H114: =IF(D114="","",M45) | L114: =IF(D114="","",IF(H114-J114=0,0,H114-J114)) | N114: =IF(D114="","",N45) | P114: =IF(D114="","",J114*N114) | R114: =IF(D114="","",R45) | S114: =IF(D114="","",S45) | T114: =IF(D114="","",T45) | U114: =IF(D114="","",U45) | V114: =IF(D114="","",V45) | W114: =IF(D114="","",W45) | X114: =IF($D114="","",X45)
A115: =IF(A46=0,"",A46) | B115: =IF(B46=0,"",B46) | C115: =IF(C46=0,"",C46) | D115: =IF(OR(D46="stacjonarne",D46="stacjonarne pb",D46="doktoranckie",D46="szkoła doktorska"),D46,"") | E115: =IF(D115="","",E46) | F115: =IF(D115="","",F46) | G115: =IF(D115="","",G46) | H115: =IF(D115="","",M46) | L115: =IF(D115="","",IF(H115-J115=0,0,H115-J115)) | N115: =IF(D115="","",N46) | P115: =IF(D115="","",J115*N115) | R115: =IF(D115="","",R46) | S115: =IF(D115="","",S46) | T115: =IF(D115="","",T46) | U115: =IF(D115="","",U46) | V115: =IF(D115="","",V46) | W115: =IF(D115="","",W46) | X115: =IF($D115="","",X46)
A116: =IF(A47=0,"",A47) | B116: =IF(B47=0,"",B47) | C116: =IF(C47=0,"",C47) | D116: =IF(OR(D47="stacjonarne",D47="stacjonarne pb",D47="doktoranckie",D47="szkoła doktorska"),D47,"") | E116: =IF(D116="","",E47) | F116: =IF(D116="","",F47) | G116: =IF(D116="","",G47) | H116: =IF(D116="","",M47) | L116: =IF(D116="","",IF(H116-J116=0,0,H116-J116)) | N116: =IF(D116="","",N47) | P116: =IF(D116="","",J116*N116) | R116: =IF(D116="","",R47) | S116: =IF(D116="","",S47) | T116: =IF(D116="","",T47) | U116: =IF(D116="","",U47) | V116: =IF(D116="","",V47) | W116: =IF(D116="","",W47) | X116: =IF($D116="","",X47)
A117: =IF(A48=0,"",A48) | B117: =IF(B48=0,"",B48) | C117: =IF(C48=0,"",C48) | D117: =IF(OR(D48="stacjonarne",D48="stacjonarne pb",D48="doktoranckie",D48="szkoła doktorska"),D48,"") | E117: =IF(D117="","",E48) | F117: =IF(D117="","",F48) | G117: =IF(D117="","",G48) | H117: =IF(D117="","",M48) | L117: =IF(D117="","",IF(H117-J117=0,0,H117-J117)) | N117: =IF(D117="","",N48) | P117: =IF(D117="","",J117*N117) | R117: =IF(D117="","",R48) | S117: =IF(D117="","",S48) | T117: =IF(D117="","",T48) | U117: =IF(D117="","",U48) | V117: =IF(D117="","",V48) | W117: =IF(D117="","",W48) | X117: =IF($D117="","",X48)
A118: =IF(A49=0,"",A49) | B118: =IF(B49=0,"",B49) | C118: =IF(C49=0,"",C49) | D118: =IF(OR(D49="stacjonarne",D49="stacjonarne pb",D49="doktoranckie",D49="szkoła doktorska"),D49,"") | E118: =IF(D118="","",E49) | F118: =IF(D118="","",F49) | G118: =IF(D118="","",G49) | H118: =IF(D118="","",M49) | L118: =IF(D118="","",IF(H118-J118=0,0,H118-J118)) | N118: =IF(D118="","",N49) | P118: =IF(D118="","",J118*N118) | R118: =IF(D118="","",R49) | S118: =IF(D118="","",S49) | T118: =IF(D118="","",T49) | U118: =IF(D118="","",U49) | V118: =IF(D118="","",V49) | W118: =IF(D118="","",W49) | X118: =IF($D118="","",X49)
A119: =IF(A50=0,"",A50) | B119: =IF(B50=0,"",B50) | C119: =IF(C50=0,"",C50) | D119: =IF(OR(D50="stacjonarne",D50="stacjonarne pb",D50="doktoranckie",D50="szkoła doktorska"),D50,"") | E119: =IF(D119="","",E50) | F119: =IF(D119="","",F50) | G119: =IF(D119="","",G50) | H119: =IF(D119="","",M50) | L119: =IF(D119="","",IF(H119-J119=0,0,H119-J119)) | N119: =IF(D119="","",N50) | P119: =IF(D119="","",J119*N119) | R119: =IF(D119="","",R50) | S119: =IF(D119="","",S50) | T119: =IF(D119="","",T50) | U119: =IF(D119="","",U50) | V119: =IF(D119="","",V50) | W119: =IF(D119="","",W50) | X119: =IF($D119="","",X50)
A120: =IF(A51=0,"",A51) | B120: =IF(B51=0,"",B51) | C120: =IF(C51=0,"",C51) | D120: =IF(OR(D51="stacjonarne",D51="stacjonarne pb",D51="doktoranckie",D51="szkoła doktorska"),D51,"") | E120: =IF(D120="","",E51) | F120: =IF(D120="","",F51) | G120: =IF(D120="","",G51) | H120: =IF(D120="","",M51) | L120: =IF(D120="","",IF(H120-J120=0,0,H120-J120)) | N120: =IF(D120="","",N51) | P120: =IF(D120="","",J120*N120) | R120: =IF(D120="","",R51) | S120: =IF(D120="","",S51) | T120: =IF(D120="","",T51) | U120: =IF(D120="","",U51) | V120: =IF(D120="","",V51) | W120: =IF(D120="","",W51) | X120: =IF($D120="","",X51)
A121: =IF(A52=0,"",A52) | B121: =IF(B52=0,"",B52) | C121: =IF(C52=0,"",C52) | D121: =IF(OR(D52="stacjonarne",D52="stacjonarne pb",D52="doktoranckie",D52="szkoła doktorska"),D52,"") | E121: =IF(D121="","",E52) | F121: =IF(D121="","",F52) | G121: =IF(D121="","",G52) | H121: =IF(D121="","",M52) | L121: =IF(D121="","",IF(H121-J121=0,0,H121-J121)) | N121: =IF(D121="","",N52) | P121: =IF(D121="","",J121*N121) | R121: =IF(D121="","",R52) | S121: =IF(D121="","",S52) | T121: =IF(D121="","",T52) | U121: =IF(D121="","",U52) | V121: =IF(D121="","",V52) | W121: =IF(D121="","",W52) | X121: =IF($D121="","",X52)
A122: =IF(A53=0,"",A53) | B122: =IF(B53=0,"",B53) | C122: =IF(C53=0,"",C53) | D122: =IF(OR(D53="stacjonarne",D53="stacjonarne pb",D53="doktoranckie",D53="szkoła doktorska"),D53,"") | E122: =IF(D122="","",E53) | F122: =IF(D122="","",F53) | G122: =IF(D122="","",G53) | H122: =IF(D122="","",M53) | L122: =IF(D122="","",IF(H122-J122=0,0,H122-J122)) | N122: =IF(D122="","",N53) | P122: =IF(D122="","",J122*N122) | R122: =IF(D122="","",R53) | S122: =IF(D122="","",S53) | T122: =IF(D122="","",T53) | U122: =IF(D122="","",U53) | V122: =IF(D122="","",V53) | W122: =IF(D122="","",W53) | X122: =IF($D122="","",X53)
G123: Razem liczba godzin do rozliczenia: | H123: =SUM(H113:H122) -> 0
G124: Liczba niezrealizowanych godzin w ramach pensum: | J124: =IF($M$94<>"-",IF(SUM(J113:J122)<$M$94,SUM(J113:J122),$M$94),0) -> 0
G125: =IF(J124>0,"Razem po korekcie o niezrealizowane godzin pensum: ","Razem: ") -> Razem: | J125: =IF(SUM(J113:J122)-IF(J124<>"-",IF(J124>0,J124,0),0)<0,"Pensum nie zostało zrealizowane",SUM(J113:J122)-IF(J124<>"-",IF(J124>0,J124,0),0)) -> 0 | N125: Do zapłaty: | P125: =IF(IF(J124>0,-J124*MIN(N113:O122),0)+SUM(P113:Q122)<0,"-",IF(J124>0,-J124*MIN(N113:O122),0)+SUM(P113:Q122)) -> 0
A126: ● | B126: Rozliczenie następuje za faktycznie przepracowane godziny ponadwymiarowe ponad pensum.
M128: Stwierdzam wykonanie pracy
F129: Stwierdzam zgodność z przydziałem godzin | M129: Sprawdzono pod względem merytorycznym
B133: .......................................................................................................................................................... | F133: .......................................................................................................... | M133: ..............................................................................................................
B134: data i podpis Pedagoga | F134: Dział Nauczania | M134: data i podpis Dziekana/Kierownika Studium
F135: data i podpis
O137: wydruk z dnia: | P137: =TODAY() -> 44823
M138: Warszawa, dnia
A140: Zestawienie roczne przepracowanych godzin ponadwymiarowych na innych niż stacjonarne formach kształcenia
G141: w okresie od: | H141: X 2022 | L141: do: | M141: VI 2023
A144: Pieczęć Wydziału/Studium
A145: Pan/i | B145: =$B$7 -> ASYSTENT | D145: =$D$7 -> X Y
...

Sheet dane
B1: stacjonarne I i II | C1: niestacjonarne I i II, podyplomowe, staże, kursy | D1: doktoranckie
A2: st. i tytuł naukowy
A3: MAGISTER
A4: INŻYNIER
A5: MGR INŻ.
A6: DOKTOR (kw I st.)
A7: DOKTOR HAB. (kw II st.)
A8: PROF. SZT. MUZ.
A9: nauczyciel prowadzący obowiązkowe praktyki pedagog.
A11: STANOWISKO | B11: Umowa o pracę
A12: ASYSTENT | B12: 58
A13: ASYSTENT DOKTOR | B13: =+B12 -> 58
A14: ADIUNKT | B14: 85
A15: ADIUNKT DOKTOR HAB. | B15: 96
A16: DOCENT | B16: 85
A17: PROFESOR UMFC | B17: 96
A18: PROFESOR | B18: 116
A19: INSTRUKTOR | B19: 58
A20: LEKTOR | B20: 58
A21: WYKŁADOWCA | B21: 58
A22: WYKŁADOWCA DOKTOR | B22: =+B21 -> 58
A23: ST. WYKŁADOWCA | B23: 85
A24: ST. WYKŁADOWCA DR | B24: 85
A26: Wydział
A27: Kompozycji i Teorii Muzyki (110) | B27: 1 | C27: Wydział Kompozycji i Teorii Muzyki
A28: Dyrygentury Symfoniczno-Operowej (100) | B28: 2 | C28: Wydział Dyrygentury Symfoniczno-Operowej
A29: Instrumentalny (300) | B29: 3 | C29: Wydział Instrumentalny
A30: Wokalno-Aktorski (400) | B30: 4 | C30: Wydział Wokalno-Aktorski
A31: Dyrygentury i Wokalistyki Chóralnej, Edukacji Muzycznej i Rytmiki (500) | B31: 5 | C31: Wydział Dyrygentury i Wokalistyki Chóralnej, Edukacji Muzycznej i Rytmiki
A32: Reżyserii Dźwięku (600) | B32: 6 | C32: Wydział Reżyserii Dźwięku
A33: Tańca (508) | B33: 5 | C33: Wydział Tańca
A34: Muzyki Kościelnej (509) | B34: 5 | C34: Wydział Muzyki Kościelnej
A35: Jazzu i World Music (310) | B35: 3 | C35: Wydział Jazzu i Muzyki Estradowej
A36: Instrumentalno-Pedag. / Białystok (700) | B36: 7 | C36: Filia w Białymstoku
A37: Kolegium Pedagogiczne (507) | B37: - | C37: Kolegium Pedagogiczne
A38: Kolegium NHiJO (104) | B38: - | C38: Kolegium Nauk Humanistycznych i Języków Obcych
A40: Kierunek
A41: DYRYGENTURA | B41: 10 | C41: DYRYGENTURA
A42: EDUKACJA ARTYSTYCZNA W ZAKRESIE SZTUKI MUZYCZNEJ | B42: 14 | C42: EDUKACJA ARTYSTYCZNA W ZAKRESIE SZTUKI MUZYCZNEJ
A43: INSTRUMENTALISTYKA | B43: 12 | C43: INSTRUMENTALISTYKA
A44: KOMPOZYCJA I TEORIA MUZYKI | B44: 11 | C44: KOMPOZYCJA I TEORIA MUZYKI
A45: MUZYKA KOŚCIELNA | B45: 15 | C45: MUZYKA KOŚCIELNA
A46: REŻYSERIA DŹWIĘKU | B46: 17 | C46: REŻYSERIA DŹWIĘKU
A47: TANIEC | B47: 16 | C47: TANIEC
A48: WOKALISTYKA | B48: 13 | C48: WOKALISTYKA
A49: JAZZ I MUZYKA ESTRADOWA | B49: 18 | C49: JAZZ I MUZYKA ESTRADOWA
A50: Zajęcia międzywydziałowe | B50: 80000 8002
A51: Zajęcia wspólne | B51: 80000 8004
A52: PS Kompozycji - IX edycja | B52: 90000 61 19 | C52: Podyplomowe Studia Kompozycji - IX edycja
A53: PS Kompozycji - X edycja | B53: 90000 61 11 | C53: Podyplomowe Studia Kompozycji - X edycja
A54: PS Kompozycji - XI edycja | B54: 90000 61 12 | C54: Podyplomowe Studia Kompozycji - XI edycja
A55: PS Kompozycji - XII edycja | B55: 90000 61 13 | C55: Podyplomowe Studia Kompozycji - XII edycja
A56: PS Kompozycji - XIII edycja | B56: 90000 61 14 | C56: Podyplomowe Studia Kompozycji - XIII edycja
A57: PS Kompozycji - XIV edycja | B57: 90000 61 16 | C57: Podyplomowe Studia Kompozycji - XIV edycja
A58: PS Kompozycji - XV edycja | B58: 90000 61 17 | C58: Podyplomowe Studia Kompozycji - XV edycja
A59: PS Twórca Muzyki/Kompozycji - XVI edycja | B59: 90000 61 18 | C59: Podyplomowe Studia Twórca Muzyki - XVI edycja
A60: PS Teorii Tańca - VIII edycja | B60: 90000 66 28 | C60: Podyplomowe Studia Teorii Tańca - VIII edycja
A61: PS Teorii Tańca - IX edycja | B61: 90000 66 29 | C61: Podyplomowe Studia Teorii Tańca - IX edycja
A62: PS Teorii Tańca - X edycja | B62: 90000 66 30 | C62: Podyplomowe Studia Teorii Tańca - X edycja
A63: PS Teorii Muzyki - IX edycja | B63: 90000 62 29 | C63: Podyplomowe Studia Teorii Muzyki - IX edycja
... A70: PS Menedżer Muzyki - V edycja | B70: 90000 69 15 | C70: Podyplomowe Studia Menedżer Muzyki - V edycja
A71: PS Menedżer Muzyki - VI edycja | C71: Podyplomowe Studia Menedżer Muzyki - VI edycja
A72: PS Menedżer Muzyki - VII edycja | C72: Podyplomowe Studia Menedżer Muzyki - VII edycja
A73: PS Strojenia i Regulacji Fortepianu | B73: 90000 63 11 | C73: Podyplomowe Studia Strojenia i Regulacji Fortepianu
A74: PS Dyrygentury Orkiestr Dętych | B74: 90000 60 12 | C74: Podyplomowe Studia Dyrygentury Orkiestr Dętych
A75: PS Coaching wokalny dla pianistów | B75: 90000 60 11 | C75: Podyplomowe studia coaching wokalny dla pianistów
A78: Specjalność
B79: Spec.:
A80: CHOREOGRAFIA I TEORIA TAŃCA | B80: 06 | D80: Wydział Tańca / CHOREOGRAFIA I TEORIA TAŃCA
A81: CHOREOGRAFIA | B81: 06 | D81: Wydział Tańca / CHOREOGRAFIA
A82: DYRYGENTURA CHÓRALNA | B82: 05 | D82: Wydział Dyrygentury i Wokalistyki Chóralnej, Edukacji Muzycznej i Rytmiki / DYRYGENTURA CHÓRALNA
A83: DYRYGENTURA SYMFONICZNO-OPEROWA | B83: 01 | D83: Wydział Dyrygentury Symfoniczno-Operowej / DYRYGENTURA SYMFONICZNO-OPEROWA
A84: EDUKACJA ARTYSTYCZNA SZKOLNA | B84: 25 | D84: Filia w Białymstoku / EDUKACJA ARTYSTYCZNA SZKOLNA
A85: GRA NA AKORDEONIE | B85: 16 | D85: Wydział Instrumentalny / GRA NA AKORDEONIE
A86: GRA NA ALTÓWCE | B86: 02 | D86: Wydział Instrumentalny / GRA NA ALTÓWCE
A87: GRA NA FAGOCIE | B87: 08 | D87: Wydział Instrumentalny / GRA NA FAGOCIE
A88: GRA NA FLECIE | B88: 05 | D88: Wydział Instrumentalny / GRA NA FLECIE
A89: GRA NA FORTEPIANIE | B89: 21 | D89: Wydział Instrumentalny / GRA NA FORTEPIANIE
A90: GRA NA FORTEPIANIE Z J. ANGIELSKI | B90: 22 | D90: Wydział Instrumentalny / GRA NA FORTEPIANIE Z JĘZYKIEM WYKŁADOWYM ANGIELSKIM
A91: GRA NA GITARZE | B91: 17 | D91: Wydział Instrumentalny / GRA NA GITARZE
A92: GRA NA HARFIE | B92: 15 | D92: Wydział Instrumentalny / GRA NA HARFIE
A93: GRA NA KLARNECIE | B93: 07 | D93: Wydział Instrumentalny / GRA NA KLARNECIE
A94: GRA NA KLAWESYNIE | B94: 23 | D94: Wydział Instrumentalny / GRA NA KLAWESYNIE
A95: GRA NA KONTRABASIE | B95: 04 | D95: Wydział Instrumentalny / GRA NA KONTRABASIE
A96: GRA NA OBOJU | B96: 06 | D96: Wydział Instrumentalny / GRA NA OBOJU
A97: GRA NA ORGANACH | B97: 24 | D97: Wydział Instrumentalny / GRA NA ORGANACH
A98: GRA NA PERKUSJI | B98: 14 | D98: Wydział Instrumentalny / GRA NA PERKUSJI
A99: GRA NA PUZONIE | B99: 12 | D99: Wydział Instrumentalny / GRA NA PUZONIE
A100: GRA NA ROGU | B100: 11 | D100: Wydział Instrumentalny / GRA NA ROGU
A101: GRA NA SAKSOFONIE | B101: 09 | D101: Wydział Instrumentalny / GRA NA SAKSOFONIE
A102: GRA NA SKRZYPCACH | B102: 01 | D102: Wydział Instrumentalny / GRA NA SKRZYPCACH
A103: GRA NA TRĄBCE | B103: 10 | D103: Wydział Instrumentalny / GRA NA TRĄBCE
A104: GRA NA TUBIE | B104: 13 | D104: Wydział Instrumentalny / GRA NA TUBIE
A105: GRA NA WIOLONCZELI | B105: 03 | D105: Wydział Instrumentalny / GRA NA WIOLONCZELI
A106: JAZZ I WORLD MUSIC | B106: 01 | D106: Wydział Jazzu i Muzyki Estradowej / JAZZ I WORLD MUSIC
A107: JAZZ | B107: 01 | D107: Wydział Jazzu i Muzyki Estradowej / JAZZ
A108: KAMERALISTYKA FORTEPIANOWA | B108: 25 | D108: Wydział Instrumentalny / KAMERALISTYKA FORTEPIANOWA
A109: KAMERALISTYKA FORTEPIANOWA J. ANGIELSKI | B109: 26 | D109: Wydział Instrumentalny / KAMERALISTYKA FORTEPIANOWA Z JĘZYKIEM WYKŁADOWYM ANGIELSKIM
A110: MUSICAL | B110: 10 | D110: Wydział Wokalno-Aktorski / MUSICAL
A111: MUZYKA KOŚCIELNA | B111: 03 | D111: Wydział Muzyki Kościelnej / MUZYKA KOŚCIELNA
...
